BEGIN:VCALENDAR
VERSION:2.0
PRODID:-//The New Children&#039;s Museum - ECPv6.15.18//NONSGML v1.0//EN
CALSCALE:GREGORIAN
METHOD:PUBLISH
X-ORIGINAL-URL:https://thinkplaycreate.org
X-WR-CALDESC:Events for The New Children&#039;s Museum
REFRESH-INTERVAL;VALUE=DURATION:PT1H
X-Robots-Tag:noindex
X-PUBLISHED-TTL:PT1H
BEGIN:VTIMEZONE
TZID:America/Los_Angeles
BEGIN:DAYLIGHT
TZOFFSETFROM:-0800
TZOFFSETTO:-0700
TZNAME:PDT
DTSTART:20240310T100000
END:DAYLIGHT
BEGIN:STANDARD
TZOFFSETFROM:-0700
TZOFFSETTO:-0800
TZNAME:PST
DTSTART:20241103T090000
END:STANDARD
BEGIN:DAYLIGHT
TZOFFSETFROM:-0800
TZOFFSETTO:-0700
TZNAME:PDT
DTSTART:20250309T100000
END:DAYLIGHT
BEGIN:STANDARD
TZOFFSETFROM:-0700
TZOFFSETTO:-0800
TZNAME:PST
DTSTART:20251102T090000
END:STANDARD
BEGIN:DAYLIGHT
TZOFFSETFROM:-0800
TZOFFSETTO:-0700
TZNAME:PDT
DTSTART:20260308T100000
END:DAYLIGHT
BEGIN:STANDARD
TZOFFSETFROM:-0700
TZOFFSETTO:-0800
TZNAME:PST
DTSTART:20261101T090000
END:STANDARD
BEGIN:DAYLIGHT
TZOFFSETFROM:-0800
TZOFFSETTO:-0700
TZNAME:PDT
DTSTART:20270314T100000
END:DAYLIGHT
BEGIN:STANDARD
TZOFFSETFROM:-0700
TZOFFSETTO:-0800
TZNAME:PST
DTSTART:20271107T090000
END:STANDARD
END:VTIMEZONE
BEGIN:VEVENT
DTSTART;TZID=America/Los_Angeles:20260110T110000
DTEND;TZID=America/Los_Angeles:20260110T150000
DTSTAMP:20260424T085225
CREATED:20251125T222206Z
LAST-MODIFIED:20260403T234535Z
UID:10043130-1768042800-1768057200@thinkplaycreate.org
SUMMARY:Innovators LAB: Math Happens Workshop
DESCRIPTION:
URL:https://thinkplaycreate.org/event/innovators-lab-math-happens-workshop/2026-01-10/
LOCATION:The New Children’s Museum\, 200 W Island Ave\, San Diego\, CA\, 92101\, United States
GEO:32.7106684;-117.1651935
X-APPLE-STRUCTURED-LOCATION;VALUE=URI;X-ADDRESS=The New Children’s Museum 200 W Island Ave San Diego CA 92101 United States;X-APPLE-RADIUS=500;X-TITLE=200 W Island Ave:geo:-117.1651935,32.7106684
END:VEVENT
BEGIN:VEVENT
DTSTART;TZID=America/Los_Angeles:20260110T103000
DTEND;TZID=America/Los_Angeles:20260110T120000
DTSTAMP:20260424T085225
CREATED:20251222T183303Z
LAST-MODIFIED:20260410T214332Z
UID:10044772-1768041000-1768046400@thinkplaycreate.org
SUMMARY:Clay Together: Ceramics At The Wheel (Ages 5-7 with Adult)
DESCRIPTION:
URL:https://thinkplaycreate.org/event/weekend-ceramics-workshop-ages-5-7-morning/2026-01-10/
LOCATION:The New Children’s Museum\, 200 W Island Ave\, San Diego\, CA\, 92101\, United States
GEO:32.7106684;-117.1651935
X-APPLE-STRUCTURED-LOCATION;VALUE=URI;X-ADDRESS=The New Children’s Museum 200 W Island Ave San Diego CA 92101 United States;X-APPLE-RADIUS=500;X-TITLE=200 W Island Ave:geo:-117.1651935,32.7106684
END:VEVENT
BEGIN:VEVENT
DTSTART;TZID=America/Los_Angeles:20260109T110000
DTEND;TZID=America/Los_Angeles:20260109T113000
DTSTAMP:20260424T085225
CREATED:20250826T230325Z
LAST-MODIFIED:20260408T182117Z
UID:10041286-1767956400-1767958200@thinkplaycreate.org
SUMMARY:Toddler Time
DESCRIPTION:
URL:https://thinkplaycreate.org/event/toddler-time-3-2-2-2/2026-01-09/
LOCATION:The New Children’s Museum\, 200 W Island Ave\, San Diego\, CA\, 92101\, United States
CATEGORIES:Toddler Time
ATTACH;FMTTYPE=image/jpeg:https://thinkplaycreate.org/wp-content/uploads/2021/10/Toddler-Time-Finger-Painting.jpg
GEO:32.7106684;-117.1651935
X-APPLE-STRUCTURED-LOCATION;VALUE=URI;X-ADDRESS=The New Children’s Museum 200 W Island Ave San Diego CA 92101 United States;X-APPLE-RADIUS=500;X-TITLE=200 W Island Ave:geo:-117.1651935,32.7106684
END:VEVENT
BEGIN:VEVENT
DTSTART;TZID=America/Los_Angeles:20260109T100000
DTEND;TZID=America/Los_Angeles:20260109T103000
DTSTAMP:20260424T085225
CREATED:20260408T191840Z
LAST-MODIFIED:20260408T191840Z
UID:10044583-1767952800-1767954600@thinkplaycreate.org
SUMMARY:Toddler Time
DESCRIPTION:
URL:https://thinkplaycreate.org/event/toddler-time-2/
LOCATION:The New Children’s Museum\, 200 W Island Ave\, San Diego\, CA\, 92101\, United States
CATEGORIES:Toddler Time
ATTACH;FMTTYPE=image/jpeg:https://thinkplaycreate.org/wp-content/uploads/2021/10/Toddler-Time-Finger-Painting.jpg
GEO:32.7106684;-117.1651935
X-APPLE-STRUCTURED-LOCATION;VALUE=URI;X-ADDRESS=The New Children’s Museum 200 W Island Ave San Diego CA 92101 United States;X-APPLE-RADIUS=500;X-TITLE=200 W Island Ave:geo:-117.1651935,32.7106684
END:VEVENT
BEGIN:VEVENT
DTSTART;TZID=America/Los_Angeles:20260107T160000
DTEND;TZID=America/Los_Angeles:20260107T180000
DTSTAMP:20260424T085225
CREATED:20251219T233716Z
LAST-MODIFIED:20251230T221102Z
UID:10043249-1767801600-1767808800@thinkplaycreate.org
SUMMARY:Youth Ceramics: At The Wheel - Ages 11-13 (4 week series) SOLD OUT
DESCRIPTION:
URL:https://thinkplaycreate.org/event/youth-ceramics-at-the-wheel-ages-11-13-3/2026-01-07/
LOCATION:The New Children’s Museum\, 200 W Island Ave\, San Diego\, CA\, 92101\, United States
GEO:32.7106684;-117.1651935
X-APPLE-STRUCTURED-LOCATION;VALUE=URI;X-ADDRESS=The New Children’s Museum 200 W Island Ave San Diego CA 92101 United States;X-APPLE-RADIUS=500;X-TITLE=200 W Island Ave:geo:-117.1651935,32.7106684
END:VEVENT
BEGIN:VEVENT
DTSTART;TZID=America/Los_Angeles:20260107T160000
DTEND;TZID=America/Los_Angeles:20260107T180000
DTSTAMP:20260424T085225
CREATED:20251219T225911Z
LAST-MODIFIED:20251230T220856Z
UID:10043175-1767801600-1767808800@thinkplaycreate.org
SUMMARY:Printmaking: Narrative Art Books - Ages 11-13 (4 week series) SOLD OUT
DESCRIPTION:https://thinkplaycreate.ticketapp.org/portal/pid/2/product/39/package/9037b7da-32a6-42a8-aefa-53dad93b162b
URL:https://thinkplaycreate.org/event/printmaking-narrative-art-books-ages-11-13/2026-01-07/
LOCATION:The New Children’s Museum\, 200 W Island Ave\, San Diego\, CA\, 92101\, United States
GEO:32.7106684;-117.1651935
X-APPLE-STRUCTURED-LOCATION;VALUE=URI;X-ADDRESS=The New Children’s Museum 200 W Island Ave San Diego CA 92101 United States;X-APPLE-RADIUS=500;X-TITLE=200 W Island Ave:geo:-117.1651935,32.7106684
END:VEVENT
BEGIN:VEVENT
DTSTART;TZID=America/Los_Angeles:20260107T110000
DTEND;TZID=America/Los_Angeles:20260107T113000
DTSTAMP:20260424T085225
CREATED:20250826T230325Z
LAST-MODIFIED:20260408T182117Z
UID:10044264-1767783600-1767785400@thinkplaycreate.org
SUMMARY:Toddler Time
DESCRIPTION:
URL:https://thinkplaycreate.org/event/toddler-time-3-2-2-2/2026-01-07/
LOCATION:The New Children’s Museum\, 200 W Island Ave\, San Diego\, CA\, 92101\, United States
CATEGORIES:Toddler Time
ATTACH;FMTTYPE=image/jpeg:https://thinkplaycreate.org/wp-content/uploads/2021/10/Toddler-Time-Finger-Painting.jpg
GEO:32.7106684;-117.1651935
X-APPLE-STRUCTURED-LOCATION;VALUE=URI;X-ADDRESS=The New Children’s Museum 200 W Island Ave San Diego CA 92101 United States;X-APPLE-RADIUS=500;X-TITLE=200 W Island Ave:geo:-117.1651935,32.7106684
END:VEVENT
BEGIN:VEVENT
DTSTART;TZID=America/Los_Angeles:20260107T100000
DTEND;TZID=America/Los_Angeles:20260107T103000
DTSTAMP:20260424T085225
CREATED:20260408T191840Z
LAST-MODIFIED:20260408T191840Z
UID:10044582-1767780000-1767781800@thinkplaycreate.org
SUMMARY:Toddler Time
DESCRIPTION:
URL:https://thinkplaycreate.org/event/toddler-time-2/
LOCATION:The New Children’s Museum\, 200 W Island Ave\, San Diego\, CA\, 92101\, United States
CATEGORIES:Toddler Time
ATTACH;FMTTYPE=image/jpeg:https://thinkplaycreate.org/wp-content/uploads/2021/10/Toddler-Time-Finger-Painting.jpg
GEO:32.7106684;-117.1651935
X-APPLE-STRUCTURED-LOCATION;VALUE=URI;X-ADDRESS=The New Children’s Museum 200 W Island Ave San Diego CA 92101 United States;X-APPLE-RADIUS=500;X-TITLE=200 W Island Ave:geo:-117.1651935,32.7106684
END:VEVENT
BEGIN:VEVENT
DTSTART;VALUE=DATE:20260106
DTEND;VALUE=DATE:20260107
DTSTAMP:20260424T085225
CREATED:20240111T183850Z
LAST-MODIFIED:20260202T195312Z
UID:10028134-1767657600-1767743999@thinkplaycreate.org
SUMMARY:Museum Closed
DESCRIPTION:
URL:https://thinkplaycreate.org/event/museum-closed-75/2026-01-06/
LOCATION:The New Children’s Museum\, 200 W Island Ave\, San Diego\, CA\, 92101\, United States
ATTACH;FMTTYPE=image/png:https://thinkplaycreate.org/wp-content/uploads/2016/10/CLOSED.png
GEO:32.7106684;-117.1651935
X-APPLE-STRUCTURED-LOCATION;VALUE=URI;X-ADDRESS=The New Children’s Museum 200 W Island Ave San Diego CA 92101 United States;X-APPLE-RADIUS=500;X-TITLE=200 W Island Ave:geo:-117.1651935,32.7106684
END:VEVENT
BEGIN:VEVENT
DTSTART;TZID=America/Los_Angeles:20260105T160000
DTEND;TZID=America/Los_Angeles:20260105T180000
DTSTAMP:20260424T085225
CREATED:20251219T233529Z
LAST-MODIFIED:20251230T221028Z
UID:10043245-1767628800-1767636000@thinkplaycreate.org
SUMMARY:Youth Ceramics: At The Wheel - Ages 8-10 (4 week series) SOLD OUT
DESCRIPTION:https://thinkplaycreate.ticketapp.org/portal/pid/2/product/40/package/2a0a485c-a057-46d0-95ee-f4805396eb30
URL:https://thinkplaycreate.org/event/youth-ceramics-at-the-wheel-ages-8-10-3/2026-01-05/
LOCATION:The New Children’s Museum\, 200 W Island Ave\, San Diego\, CA\, 92101\, United States
GEO:32.7106684;-117.1651935
X-APPLE-STRUCTURED-LOCATION;VALUE=URI;X-ADDRESS=The New Children’s Museum 200 W Island Ave San Diego CA 92101 United States;X-APPLE-RADIUS=500;X-TITLE=200 W Island Ave:geo:-117.1651935,32.7106684
END:VEVENT
BEGIN:VEVENT
DTSTART;TZID=America/Los_Angeles:20260105T160000
DTEND;TZID=America/Los_Angeles:20260105T180000
DTSTAMP:20260424T085225
CREATED:20251219T225101Z
LAST-MODIFIED:20251230T220921Z
UID:10043171-1767628800-1767636000@thinkplaycreate.org
SUMMARY:Printmaking: Paper & Ink Storybooks - Ages 8-10 (4 week series) SOLD OUT
DESCRIPTION:https://thinkplaycreate.ticketapp.org/portal/pid/2/product/39/package/812bcd40-0513-47ca-b3ac-3ee082a45ab4
URL:https://thinkplaycreate.org/event/printmaking-paper-ink-storybooks-ages-8-10/2026-01-05/
LOCATION:The New Children’s Museum\, 200 W Island Ave\, San Diego\, CA\, 92101\, United States
GEO:32.7106684;-117.1651935
X-APPLE-STRUCTURED-LOCATION;VALUE=URI;X-ADDRESS=The New Children’s Museum 200 W Island Ave San Diego CA 92101 United States;X-APPLE-RADIUS=500;X-TITLE=200 W Island Ave:geo:-117.1651935,32.7106684
END:VEVENT
BEGIN:VEVENT
DTSTART;TZID=America/Los_Angeles:20260104T130000
DTEND;TZID=America/Los_Angeles:20260104T153000
DTSTAMP:20260424T085225
CREATED:20251202T001216Z
LAST-MODIFIED:20251202T003820Z
UID:10043170-1767531600-1767540600@thinkplaycreate.org
SUMMARY:Holiday Art Making in Artopia (Afternoon)
DESCRIPTION:
URL:https://thinkplaycreate.org/event/holiday-artmaking-in-artopia-afternoon/2026-01-04/
LOCATION:The New Children’s Museum\, 200 W Island Ave\, San Diego\, CA\, 92101\, United States
GEO:32.7106684;-117.1651935
X-APPLE-STRUCTURED-LOCATION;VALUE=URI;X-ADDRESS=The New Children’s Museum 200 W Island Ave San Diego CA 92101 United States;X-APPLE-RADIUS=500;X-TITLE=200 W Island Ave:geo:-117.1651935,32.7106684
END:VEVENT
BEGIN:VEVENT
DTSTART;TZID=America/Los_Angeles:20260104T093000
DTEND;TZID=America/Los_Angeles:20260104T120000
DTSTAMP:20260424T085225
CREATED:20251202T000927Z
LAST-MODIFIED:20251202T004002Z
UID:10043160-1767519000-1767528000@thinkplaycreate.org
SUMMARY:Holiday Art Making in Artopia (Morning)
DESCRIPTION:
URL:https://thinkplaycreate.org/event/holiday-themed-artmaking-in-artopia-morning/2026-01-04/
LOCATION:The New Children’s Museum\, 200 W Island Ave\, San Diego\, CA\, 92101\, United States
GEO:32.7106684;-117.1651935
X-APPLE-STRUCTURED-LOCATION;VALUE=URI;X-ADDRESS=The New Children’s Museum 200 W Island Ave San Diego CA 92101 United States;X-APPLE-RADIUS=500;X-TITLE=200 W Island Ave:geo:-117.1651935,32.7106684
END:VEVENT
BEGIN:VEVENT
DTSTART;TZID=America/Los_Angeles:20260103T130000
DTEND;TZID=America/Los_Angeles:20260103T153000
DTSTAMP:20260424T085225
CREATED:20251202T001216Z
LAST-MODIFIED:20251202T003820Z
UID:10043169-1767445200-1767454200@thinkplaycreate.org
SUMMARY:Holiday Art Making in Artopia (Afternoon)
DESCRIPTION:
URL:https://thinkplaycreate.org/event/holiday-artmaking-in-artopia-afternoon/2026-01-03/
LOCATION:The New Children’s Museum\, 200 W Island Ave\, San Diego\, CA\, 92101\, United States
GEO:32.7106684;-117.1651935
X-APPLE-STRUCTURED-LOCATION;VALUE=URI;X-ADDRESS=The New Children’s Museum 200 W Island Ave San Diego CA 92101 United States;X-APPLE-RADIUS=500;X-TITLE=200 W Island Ave:geo:-117.1651935,32.7106684
END:VEVENT
BEGIN:VEVENT
DTSTART;TZID=America/Los_Angeles:20260103T110000
DTEND;TZID=America/Los_Angeles:20260103T150000
DTSTAMP:20260424T085225
CREATED:20251125T222206Z
LAST-MODIFIED:20260403T234535Z
UID:10043129-1767438000-1767452400@thinkplaycreate.org
SUMMARY:Innovators LAB: Math Happens Workshop
DESCRIPTION:
URL:https://thinkplaycreate.org/event/innovators-lab-math-happens-workshop/2026-01-03/
LOCATION:The New Children’s Museum\, 200 W Island Ave\, San Diego\, CA\, 92101\, United States
GEO:32.7106684;-117.1651935
X-APPLE-STRUCTURED-LOCATION;VALUE=URI;X-ADDRESS=The New Children’s Museum 200 W Island Ave San Diego CA 92101 United States;X-APPLE-RADIUS=500;X-TITLE=200 W Island Ave:geo:-117.1651935,32.7106684
END:VEVENT
BEGIN:VEVENT
DTSTART;TZID=America/Los_Angeles:20260103T093000
DTEND;TZID=America/Los_Angeles:20260103T120000
DTSTAMP:20260424T085225
CREATED:20251202T000927Z
LAST-MODIFIED:20251202T004002Z
UID:10043159-1767432600-1767441600@thinkplaycreate.org
SUMMARY:Holiday Art Making in Artopia (Morning)
DESCRIPTION:
URL:https://thinkplaycreate.org/event/holiday-themed-artmaking-in-artopia-morning/2026-01-03/
LOCATION:The New Children’s Museum\, 200 W Island Ave\, San Diego\, CA\, 92101\, United States
GEO:32.7106684;-117.1651935
X-APPLE-STRUCTURED-LOCATION;VALUE=URI;X-ADDRESS=The New Children’s Museum 200 W Island Ave San Diego CA 92101 United States;X-APPLE-RADIUS=500;X-TITLE=200 W Island Ave:geo:-117.1651935,32.7106684
END:VEVENT
BEGIN:VEVENT
DTSTART;TZID=America/Los_Angeles:20260102T130000
DTEND;TZID=America/Los_Angeles:20260102T160000
DTSTAMP:20260424T085225
CREATED:20251125T220324Z
LAST-MODIFIED:20251202T004319Z
UID:10042906-1767358800-1767369600@thinkplaycreate.org
SUMMARY:Innovators LAB: Open Making / Shrinky Dink (Afternoon)
DESCRIPTION:
URL:https://thinkplaycreate.org/event/innovators-lab-shrinki-dink-workshop-afternoon/2026-01-02/
LOCATION:The New Children’s Museum\, 200 W Island Ave\, San Diego\, CA\, 92101\, United States
CATEGORIES:Workshop
GEO:32.7106684;-117.1651935
X-APPLE-STRUCTURED-LOCATION;VALUE=URI;X-ADDRESS=The New Children’s Museum 200 W Island Ave San Diego CA 92101 United States;X-APPLE-RADIUS=500;X-TITLE=200 W Island Ave:geo:-117.1651935,32.7106684
END:VEVENT
BEGIN:VEVENT
DTSTART;TZID=America/Los_Angeles:20260102T110000
DTEND;TZID=America/Los_Angeles:20260102T113000
DTSTAMP:20260424T085225
CREATED:20250826T230325Z
LAST-MODIFIED:20260408T182117Z
UID:10041285-1767351600-1767353400@thinkplaycreate.org
SUMMARY:Toddler Time
DESCRIPTION:
URL:https://thinkplaycreate.org/event/toddler-time-3-2-2-2/2026-01-02/
LOCATION:The New Children’s Museum\, 200 W Island Ave\, San Diego\, CA\, 92101\, United States
CATEGORIES:Toddler Time
ATTACH;FMTTYPE=image/jpeg:https://thinkplaycreate.org/wp-content/uploads/2021/10/Toddler-Time-Finger-Painting.jpg
GEO:32.7106684;-117.1651935
X-APPLE-STRUCTURED-LOCATION;VALUE=URI;X-ADDRESS=The New Children’s Museum 200 W Island Ave San Diego CA 92101 United States;X-APPLE-RADIUS=500;X-TITLE=200 W Island Ave:geo:-117.1651935,32.7106684
END:VEVENT
BEGIN:VEVENT
DTSTART;TZID=America/Los_Angeles:20260102T100000
DTEND;TZID=America/Los_Angeles:20260102T103000
DTSTAMP:20260424T085225
CREATED:20260408T191840Z
LAST-MODIFIED:20260408T191840Z
UID:10044581-1767348000-1767349800@thinkplaycreate.org
SUMMARY:Toddler Time
DESCRIPTION:
URL:https://thinkplaycreate.org/event/toddler-time-2/
LOCATION:The New Children’s Museum\, 200 W Island Ave\, San Diego\, CA\, 92101\, United States
CATEGORIES:Toddler Time
ATTACH;FMTTYPE=image/jpeg:https://thinkplaycreate.org/wp-content/uploads/2021/10/Toddler-Time-Finger-Painting.jpg
GEO:32.7106684;-117.1651935
X-APPLE-STRUCTURED-LOCATION;VALUE=URI;X-ADDRESS=The New Children’s Museum 200 W Island Ave San Diego CA 92101 United States;X-APPLE-RADIUS=500;X-TITLE=200 W Island Ave:geo:-117.1651935,32.7106684
END:VEVENT
BEGIN:VEVENT
DTSTART;TZID=America/Los_Angeles:20260102T090000
DTEND;TZID=America/Los_Angeles:20260102T120000
DTSTAMP:20260424T085225
CREATED:20251125T215808Z
LAST-MODIFIED:20251202T004354Z
UID:10043119-1767344400-1767355200@thinkplaycreate.org
SUMMARY:Innovators LAB: Open Making / Shrinky Dink (Morning)
DESCRIPTION:
URL:https://thinkplaycreate.org/event/innovators-lab-shrinky-dink-workshop/2026-01-02/
LOCATION:The New Children’s Museum\, 200 W Island Ave\, San Diego\, CA\, 92101\, United States
GEO:32.7106684;-117.1651935
X-APPLE-STRUCTURED-LOCATION;VALUE=URI;X-ADDRESS=The New Children’s Museum 200 W Island Ave San Diego CA 92101 United States;X-APPLE-RADIUS=500;X-TITLE=200 W Island Ave:geo:-117.1651935,32.7106684
END:VEVENT
BEGIN:VEVENT
DTSTART;VALUE=DATE:20260101
DTEND;VALUE=DATE:20260102
DTSTAMP:20260424T085225
CREATED:20240111T183850Z
LAST-MODIFIED:20260202T195312Z
UID:10037504-1767254400-1767286800@thinkplaycreate.org
SUMMARY:Museum Closed
DESCRIPTION:
URL:https://thinkplaycreate.org/event/museum-closed-75/2026-01-01/
LOCATION:The New Children’s Museum\, 200 W Island Ave\, San Diego\, CA\, 92101\, United States
ATTACH;FMTTYPE=image/png:https://thinkplaycreate.org/wp-content/uploads/2016/10/CLOSED.png
GEO:32.7106684;-117.1651935
X-APPLE-STRUCTURED-LOCATION;VALUE=URI;X-ADDRESS=The New Children’s Museum 200 W Island Ave San Diego CA 92101 United States;X-APPLE-RADIUS=500;X-TITLE=200 W Island Ave:geo:-117.1651935,32.7106684
END:VEVENT
BEGIN:VEVENT
DTSTART;TZID=America/Los_Angeles:20251231T130000
DTEND;TZID=America/Los_Angeles:20251231T160000
DTSTAMP:20260424T085225
CREATED:20251125T220324Z
LAST-MODIFIED:20251202T004319Z
UID:10042904-1767186000-1767196800@thinkplaycreate.org
SUMMARY:Innovators LAB: Open Making / Shrinky Dink (Afternoon)
DESCRIPTION:
URL:https://thinkplaycreate.org/event/innovators-lab-shrinki-dink-workshop-afternoon/2025-12-31/
LOCATION:The New Children’s Museum\, 200 W Island Ave\, San Diego\, CA\, 92101\, United States
CATEGORIES:Workshop
GEO:32.7106684;-117.1651935
X-APPLE-STRUCTURED-LOCATION;VALUE=URI;X-ADDRESS=The New Children’s Museum 200 W Island Ave San Diego CA 92101 United States;X-APPLE-RADIUS=500;X-TITLE=200 W Island Ave:geo:-117.1651935,32.7106684
END:VEVENT
BEGIN:VEVENT
DTSTART;TZID=America/Los_Angeles:20251231T110000
DTEND;TZID=America/Los_Angeles:20251231T113000
DTSTAMP:20260424T085225
CREATED:20250826T230325Z
LAST-MODIFIED:20260408T182117Z
UID:10044263-1767178800-1767180600@thinkplaycreate.org
SUMMARY:Toddler Time
DESCRIPTION:
URL:https://thinkplaycreate.org/event/toddler-time-3-2-2-2/2025-12-31/
LOCATION:The New Children’s Museum\, 200 W Island Ave\, San Diego\, CA\, 92101\, United States
CATEGORIES:Toddler Time
ATTACH;FMTTYPE=image/jpeg:https://thinkplaycreate.org/wp-content/uploads/2021/10/Toddler-Time-Finger-Painting.jpg
GEO:32.7106684;-117.1651935
X-APPLE-STRUCTURED-LOCATION;VALUE=URI;X-ADDRESS=The New Children’s Museum 200 W Island Ave San Diego CA 92101 United States;X-APPLE-RADIUS=500;X-TITLE=200 W Island Ave:geo:-117.1651935,32.7106684
END:VEVENT
BEGIN:VEVENT
DTSTART;TZID=America/Los_Angeles:20251231T100000
DTEND;TZID=America/Los_Angeles:20251231T103000
DTSTAMP:20260424T085225
CREATED:20260408T191840Z
LAST-MODIFIED:20260408T191840Z
UID:10044580-1767175200-1767177000@thinkplaycreate.org
SUMMARY:Toddler Time
DESCRIPTION:
URL:https://thinkplaycreate.org/event/toddler-time-2/
LOCATION:The New Children’s Museum\, 200 W Island Ave\, San Diego\, CA\, 92101\, United States
CATEGORIES:Toddler Time
ATTACH;FMTTYPE=image/jpeg:https://thinkplaycreate.org/wp-content/uploads/2021/10/Toddler-Time-Finger-Painting.jpg
GEO:32.7106684;-117.1651935
X-APPLE-STRUCTURED-LOCATION;VALUE=URI;X-ADDRESS=The New Children’s Museum 200 W Island Ave San Diego CA 92101 United States;X-APPLE-RADIUS=500;X-TITLE=200 W Island Ave:geo:-117.1651935,32.7106684
END:VEVENT
BEGIN:VEVENT
DTSTART;TZID=America/Los_Angeles:20251231T090000
DTEND;TZID=America/Los_Angeles:20251231T120000
DTSTAMP:20260424T085225
CREATED:20251125T215808Z
LAST-MODIFIED:20251202T004354Z
UID:10042729-1767171600-1767182400@thinkplaycreate.org
SUMMARY:Innovators LAB: Open Making / Shrinky Dink (Morning)
DESCRIPTION:
URL:https://thinkplaycreate.org/event/innovators-lab-shrinky-dink-workshop/2025-12-31/
LOCATION:The New Children’s Museum\, 200 W Island Ave\, San Diego\, CA\, 92101\, United States
GEO:32.7106684;-117.1651935
X-APPLE-STRUCTURED-LOCATION;VALUE=URI;X-ADDRESS=The New Children’s Museum 200 W Island Ave San Diego CA 92101 United States;X-APPLE-RADIUS=500;X-TITLE=200 W Island Ave:geo:-117.1651935,32.7106684
END:VEVENT
BEGIN:VEVENT
DTSTART;TZID=America/Los_Angeles:20251230T130000
DTEND;TZID=America/Los_Angeles:20251230T160000
DTSTAMP:20260424T085225
CREATED:20251125T220324Z
LAST-MODIFIED:20251202T004319Z
UID:10043123-1767099600-1767110400@thinkplaycreate.org
SUMMARY:Innovators LAB: Open Making / Shrinky Dink (Afternoon)
DESCRIPTION:
URL:https://thinkplaycreate.org/event/innovators-lab-shrinki-dink-workshop-afternoon/2025-12-30/
LOCATION:The New Children’s Museum\, 200 W Island Ave\, San Diego\, CA\, 92101\, United States
CATEGORIES:Workshop
GEO:32.7106684;-117.1651935
X-APPLE-STRUCTURED-LOCATION;VALUE=URI;X-ADDRESS=The New Children’s Museum 200 W Island Ave San Diego CA 92101 United States;X-APPLE-RADIUS=500;X-TITLE=200 W Island Ave:geo:-117.1651935,32.7106684
END:VEVENT
BEGIN:VEVENT
DTSTART;TZID=America/Los_Angeles:20251230T090000
DTEND;TZID=America/Los_Angeles:20251230T120000
DTSTAMP:20260424T085225
CREATED:20251125T215808Z
LAST-MODIFIED:20251202T004354Z
UID:10043121-1767085200-1767096000@thinkplaycreate.org
SUMMARY:Innovators LAB: Open Making / Shrinky Dink (Morning)
DESCRIPTION:
URL:https://thinkplaycreate.org/event/innovators-lab-shrinky-dink-workshop/2025-12-30/
LOCATION:The New Children’s Museum\, 200 W Island Ave\, San Diego\, CA\, 92101\, United States
GEO:32.7106684;-117.1651935
X-APPLE-STRUCTURED-LOCATION;VALUE=URI;X-ADDRESS=The New Children’s Museum 200 W Island Ave San Diego CA 92101 United States;X-APPLE-RADIUS=500;X-TITLE=200 W Island Ave:geo:-117.1651935,32.7106684
END:VEVENT
BEGIN:VEVENT
DTSTART;TZID=America/Los_Angeles:20251229T130000
DTEND;TZID=America/Los_Angeles:20251229T160000
DTSTAMP:20260424T085225
CREATED:20251125T220324Z
LAST-MODIFIED:20251202T004319Z
UID:10043150-1767013200-1767024000@thinkplaycreate.org
SUMMARY:Innovators LAB: Open Making / Shrinky Dink (Afternoon)
DESCRIPTION:
URL:https://thinkplaycreate.org/event/innovators-lab-shrinki-dink-workshop-afternoon/2025-12-29/
LOCATION:The New Children’s Museum\, 200 W Island Ave\, San Diego\, CA\, 92101\, United States
CATEGORIES:Workshop
GEO:32.7106684;-117.1651935
X-APPLE-STRUCTURED-LOCATION;VALUE=URI;X-ADDRESS=The New Children’s Museum 200 W Island Ave San Diego CA 92101 United States;X-APPLE-RADIUS=500;X-TITLE=200 W Island Ave:geo:-117.1651935,32.7106684
END:VEVENT
BEGIN:VEVENT
DTSTART;TZID=America/Los_Angeles:20251229T090000
DTEND;TZID=America/Los_Angeles:20251229T120000
DTSTAMP:20260424T085225
CREATED:20251125T215808Z
LAST-MODIFIED:20251202T004354Z
UID:10043146-1766998800-1767009600@thinkplaycreate.org
SUMMARY:Innovators LAB: Open Making / Shrinky Dink (Morning)
DESCRIPTION:
URL:https://thinkplaycreate.org/event/innovators-lab-shrinky-dink-workshop/2025-12-29/
LOCATION:The New Children’s Museum\, 200 W Island Ave\, San Diego\, CA\, 92101\, United States
GEO:32.7106684;-117.1651935
X-APPLE-STRUCTURED-LOCATION;VALUE=URI;X-ADDRESS=The New Children’s Museum 200 W Island Ave San Diego CA 92101 United States;X-APPLE-RADIUS=500;X-TITLE=200 W Island Ave:geo:-117.1651935,32.7106684
END:VEVENT
BEGIN:VEVENT
DTSTART;TZID=America/Los_Angeles:20251228T130000
DTEND;TZID=America/Los_Angeles:20251228T153000
DTSTAMP:20260424T085225
CREATED:20251202T001216Z
LAST-MODIFIED:20251202T003820Z
UID:10043168-1766926800-1766935800@thinkplaycreate.org
SUMMARY:Holiday Art Making in Artopia (Afternoon)
DESCRIPTION:
URL:https://thinkplaycreate.org/event/holiday-artmaking-in-artopia-afternoon/2025-12-28/
LOCATION:The New Children’s Museum\, 200 W Island Ave\, San Diego\, CA\, 92101\, United States
GEO:32.7106684;-117.1651935
X-APPLE-STRUCTURED-LOCATION;VALUE=URI;X-ADDRESS=The New Children’s Museum 200 W Island Ave San Diego CA 92101 United States;X-APPLE-RADIUS=500;X-TITLE=200 W Island Ave:geo:-117.1651935,32.7106684
END:VEVENT
END:VCALENDAR