BEGIN:VCALENDAR
VERSION:2.0
PRODID:-//The New Children&#039;s Museum - ECPv6.15.18//NONSGML v1.0//EN
CALSCALE:GREGORIAN
METHOD:PUBLISH
X-ORIGINAL-URL:https://thinkplaycreate.org
X-WR-CALDESC:Events for The New Children&#039;s Museum
REFRESH-INTERVAL;VALUE=DURATION:PT1H
X-Robots-Tag:noindex
X-PUBLISHED-TTL:PT1H
BEGIN:VTIMEZONE
TZID:America/Los_Angeles
BEGIN:DAYLIGHT
TZOFFSETFROM:-0800
TZOFFSETTO:-0700
TZNAME:PDT
DTSTART:20250309T100000
END:DAYLIGHT
BEGIN:STANDARD
TZOFFSETFROM:-0700
TZOFFSETTO:-0800
TZNAME:PST
DTSTART:20251102T090000
END:STANDARD
BEGIN:DAYLIGHT
TZOFFSETFROM:-0800
TZOFFSETTO:-0700
TZNAME:PDT
DTSTART:20260308T100000
END:DAYLIGHT
BEGIN:STANDARD
TZOFFSETFROM:-0700
TZOFFSETTO:-0800
TZNAME:PST
DTSTART:20261101T090000
END:STANDARD
BEGIN:DAYLIGHT
TZOFFSETFROM:-0800
TZOFFSETTO:-0700
TZNAME:PDT
DTSTART:20270314T100000
END:DAYLIGHT
BEGIN:STANDARD
TZOFFSETFROM:-0700
TZOFFSETTO:-0800
TZNAME:PST
DTSTART:20271107T090000
END:STANDARD
END:VTIMEZONE
BEGIN:VEVENT
DTSTART;TZID=America/Los_Angeles:20260422T110000
DTEND;TZID=America/Los_Angeles:20260422T113000
DTSTAMP:20260421T115048
CREATED:20260402T220508Z
LAST-MODIFIED:20260407T231329Z
UID:10043491-1776855600-1776857400@thinkplaycreate.org
SUMMARY:Materials Lab: Cardboard
DESCRIPTION:
URL:https://thinkplaycreate.org/event/materials-lab-cardboard/2026-04-22/
LOCATION:The New Children’s Museum\, 200 W Island Ave\, San Diego\, CA\, 92101\, United States
GEO:32.7106684;-117.1651935
X-APPLE-STRUCTURED-LOCATION;VALUE=URI;X-ADDRESS=The New Children’s Museum 200 W Island Ave San Diego CA 92101 United States;X-APPLE-RADIUS=500;X-TITLE=200 W Island Ave:geo:-117.1651935,32.7106684
END:VEVENT
BEGIN:VEVENT
DTSTART;TZID=America/Los_Angeles:20260423T100000
DTEND;TZID=America/Los_Angeles:20260423T103000
DTSTAMP:20260421T115048
CREATED:20260403T232731Z
LAST-MODIFIED:20260407T214509Z
UID:10043566-1776938400-1776940200@thinkplaycreate.org
SUMMARY:Story Time Studio
DESCRIPTION:
URL:https://thinkplaycreate.org/event/story-time-studio-2/2026-04-23/
LOCATION:The New Children’s Museum\, 200 W Island Ave\, San Diego\, CA\, 92101\, United States
GEO:32.7106684;-117.1651935
X-APPLE-STRUCTURED-LOCATION;VALUE=URI;X-ADDRESS=The New Children’s Museum 200 W Island Ave San Diego CA 92101 United States;X-APPLE-RADIUS=500;X-TITLE=200 W Island Ave:geo:-117.1651935,32.7106684
END:VEVENT
BEGIN:VEVENT
DTSTART;TZID=America/Los_Angeles:20260423T110000
DTEND;TZID=America/Los_Angeles:20260423T113000
DTSTAMP:20260421T115048
CREATED:20260402T220508Z
LAST-MODIFIED:20260407T231329Z
UID:10043492-1776942000-1776943800@thinkplaycreate.org
SUMMARY:Materials Lab: Cardboard
DESCRIPTION:
URL:https://thinkplaycreate.org/event/materials-lab-cardboard/2026-04-23/
LOCATION:The New Children’s Museum\, 200 W Island Ave\, San Diego\, CA\, 92101\, United States
GEO:32.7106684;-117.1651935
X-APPLE-STRUCTURED-LOCATION;VALUE=URI;X-ADDRESS=The New Children’s Museum 200 W Island Ave San Diego CA 92101 United States;X-APPLE-RADIUS=500;X-TITLE=200 W Island Ave:geo:-117.1651935,32.7106684
END:VEVENT
BEGIN:VEVENT
DTSTART;TZID=America/Los_Angeles:20260423T130000
DTEND;TZID=America/Los_Angeles:20260423T133000
DTSTAMP:20260421T115048
CREATED:20260402T222317Z
LAST-MODIFIED:20260407T175848Z
UID:10043530-1776949200-1776951000@thinkplaycreate.org
SUMMARY:Materials Lab: Cardboard
DESCRIPTION:
URL:https://thinkplaycreate.org/event/materials-lab-cardboard-2/2026-04-23/
LOCATION:The New Children’s Museum\, 200 W Island Ave\, San Diego\, CA\, 92101\, United States
GEO:32.7106684;-117.1651935
X-APPLE-STRUCTURED-LOCATION;VALUE=URI;X-ADDRESS=The New Children’s Museum 200 W Island Ave San Diego CA 92101 United States;X-APPLE-RADIUS=500;X-TITLE=200 W Island Ave:geo:-117.1651935,32.7106684
END:VEVENT
BEGIN:VEVENT
DTSTART;TZID=America/Los_Angeles:20260423T140000
DTEND;TZID=America/Los_Angeles:20260423T143000
DTSTAMP:20260421T115048
CREATED:20260403T233414Z
LAST-MODIFIED:20260403T233414Z
UID:10043593-1776952800-1776954600@thinkplaycreate.org
SUMMARY:Story Time Studio
DESCRIPTION:
URL:https://thinkplaycreate.org/event/story-time-studio-3/2026-04-23/
LOCATION:The New Children’s Museum\, 200 W Island Ave\, San Diego\, CA\, 92101\, United States
GEO:32.7106684;-117.1651935
X-APPLE-STRUCTURED-LOCATION;VALUE=URI;X-ADDRESS=The New Children’s Museum 200 W Island Ave San Diego CA 92101 United States;X-APPLE-RADIUS=500;X-TITLE=200 W Island Ave:geo:-117.1651935,32.7106684
END:VEVENT
BEGIN:VEVENT
DTSTART;TZID=America/Los_Angeles:20260424T100000
DTEND;TZID=America/Los_Angeles:20260424T103000
DTSTAMP:20260421T115048
CREATED:20260408T191840Z
LAST-MODIFIED:20260408T191840Z
UID:10044613-1777024800-1777026600@thinkplaycreate.org
SUMMARY:Toddler Time
DESCRIPTION:
URL:https://thinkplaycreate.org/event/toddler-time-2/
LOCATION:The New Children’s Museum\, 200 W Island Ave\, San Diego\, CA\, 92101\, United States
CATEGORIES:Toddler Time
ATTACH;FMTTYPE=image/jpeg:https://thinkplaycreate.org/wp-content/uploads/2021/10/Toddler-Time-Finger-Painting.jpg
GEO:32.7106684;-117.1651935
X-APPLE-STRUCTURED-LOCATION;VALUE=URI;X-ADDRESS=The New Children’s Museum 200 W Island Ave San Diego CA 92101 United States;X-APPLE-RADIUS=500;X-TITLE=200 W Island Ave:geo:-117.1651935,32.7106684
END:VEVENT
BEGIN:VEVENT
DTSTART;TZID=America/Los_Angeles:20260424T110000
DTEND;TZID=America/Los_Angeles:20260424T113000
DTSTAMP:20260421T115048
CREATED:20250826T230325Z
LAST-MODIFIED:20260408T182117Z
UID:10041301-1777028400-1777030200@thinkplaycreate.org
SUMMARY:Toddler Time
DESCRIPTION:
URL:https://thinkplaycreate.org/event/toddler-time-3-2-2-2/2026-04-24/
LOCATION:The New Children’s Museum\, 200 W Island Ave\, San Diego\, CA\, 92101\, United States
CATEGORIES:Toddler Time
ATTACH;FMTTYPE=image/jpeg:https://thinkplaycreate.org/wp-content/uploads/2021/10/Toddler-Time-Finger-Painting.jpg
GEO:32.7106684;-117.1651935
X-APPLE-STRUCTURED-LOCATION;VALUE=URI;X-ADDRESS=The New Children’s Museum 200 W Island Ave San Diego CA 92101 United States;X-APPLE-RADIUS=500;X-TITLE=200 W Island Ave:geo:-117.1651935,32.7106684
END:VEVENT
BEGIN:VEVENT
DTSTART;TZID=America/Los_Angeles:20260424T110000
DTEND;TZID=America/Los_Angeles:20260424T113000
DTSTAMP:20260421T115048
CREATED:20260402T220508Z
LAST-MODIFIED:20260407T231329Z
UID:10043493-1777028400-1777030200@thinkplaycreate.org
SUMMARY:Materials Lab: Cardboard
DESCRIPTION:
URL:https://thinkplaycreate.org/event/materials-lab-cardboard/2026-04-24/
LOCATION:The New Children’s Museum\, 200 W Island Ave\, San Diego\, CA\, 92101\, United States
GEO:32.7106684;-117.1651935
X-APPLE-STRUCTURED-LOCATION;VALUE=URI;X-ADDRESS=The New Children’s Museum 200 W Island Ave San Diego CA 92101 United States;X-APPLE-RADIUS=500;X-TITLE=200 W Island Ave:geo:-117.1651935,32.7106684
END:VEVENT
BEGIN:VEVENT
DTSTART;TZID=America/Los_Angeles:20260424T130000
DTEND;TZID=America/Los_Angeles:20260424T133000
DTSTAMP:20260421T115048
CREATED:20260402T222317Z
LAST-MODIFIED:20260407T175848Z
UID:10043531-1777035600-1777037400@thinkplaycreate.org
SUMMARY:Materials Lab: Cardboard
DESCRIPTION:
URL:https://thinkplaycreate.org/event/materials-lab-cardboard-2/2026-04-24/
LOCATION:The New Children’s Museum\, 200 W Island Ave\, San Diego\, CA\, 92101\, United States
GEO:32.7106684;-117.1651935
X-APPLE-STRUCTURED-LOCATION;VALUE=URI;X-ADDRESS=The New Children’s Museum 200 W Island Ave San Diego CA 92101 United States;X-APPLE-RADIUS=500;X-TITLE=200 W Island Ave:geo:-117.1651935,32.7106684
END:VEVENT
BEGIN:VEVENT
DTSTART;TZID=America/Los_Angeles:20260425T100000
DTEND;TZID=America/Los_Angeles:20260425T103000
DTSTAMP:20260421T115048
CREATED:20260403T232731Z
LAST-MODIFIED:20260407T214509Z
UID:10043567-1777111200-1777113000@thinkplaycreate.org
SUMMARY:Story Time Studio
DESCRIPTION:
URL:https://thinkplaycreate.org/event/story-time-studio-2/2026-04-25/
LOCATION:The New Children’s Museum\, 200 W Island Ave\, San Diego\, CA\, 92101\, United States
GEO:32.7106684;-117.1651935
X-APPLE-STRUCTURED-LOCATION;VALUE=URI;X-ADDRESS=The New Children’s Museum 200 W Island Ave San Diego CA 92101 United States;X-APPLE-RADIUS=500;X-TITLE=200 W Island Ave:geo:-117.1651935,32.7106684
END:VEVENT
BEGIN:VEVENT
DTSTART;TZID=America/Los_Angeles:20260425T100000
DTEND;TZID=America/Los_Angeles:20260425T120000
DTSTAMP:20260421T115048
CREATED:20260302T223038Z
LAST-MODIFIED:20260320T174809Z
UID:10043464-1777111200-1777118400@thinkplaycreate.org
SUMMARY:Intro to the Pottery Wheel: Ceramics Workshop (Adults\, Teens\, Kids 8+)
DESCRIPTION:https://thinkplaycreate.ticketapp.org/portal/pid/2/product/30/event/e54f0a40-647a-4a9f-97f5-b95b4cbb6fac
URL:https://thinkplaycreate.org/event/intro-to-the-pottery-wheel-ceramics-workshop-adults-teens-kids-8-2/
LOCATION:The New Children’s Museum\, 200 W Island Ave\, San Diego\, CA\, 92101\, United States
GEO:32.7106684;-117.1651935
X-APPLE-STRUCTURED-LOCATION;VALUE=URI;X-ADDRESS=The New Children’s Museum 200 W Island Ave San Diego CA 92101 United States;X-APPLE-RADIUS=500;X-TITLE=200 W Island Ave:geo:-117.1651935,32.7106684
END:VEVENT
BEGIN:VEVENT
DTSTART;TZID=America/Los_Angeles:20260425T110000
DTEND;TZID=America/Los_Angeles:20260425T150000
DTSTAMP:20260421T115048
CREATED:20251125T222206Z
LAST-MODIFIED:20260403T234535Z
UID:10043606-1777114800-1777129200@thinkplaycreate.org
SUMMARY:Innovators LAB: Math Happens Workshop
DESCRIPTION:
URL:https://thinkplaycreate.org/event/innovators-lab-math-happens-workshop/2026-04-25/
LOCATION:The New Children’s Museum\, 200 W Island Ave\, San Diego\, CA\, 92101\, United States
GEO:32.7106684;-117.1651935
X-APPLE-STRUCTURED-LOCATION;VALUE=URI;X-ADDRESS=The New Children’s Museum 200 W Island Ave San Diego CA 92101 United States;X-APPLE-RADIUS=500;X-TITLE=200 W Island Ave:geo:-117.1651935,32.7106684
END:VEVENT
BEGIN:VEVENT
DTSTART;TZID=America/Los_Angeles:20260425T130000
DTEND;TZID=America/Los_Angeles:20260425T150000
DTSTAMP:20260421T115048
CREATED:20260302T223302Z
LAST-MODIFIED:20260320T194302Z
UID:10043465-1777122000-1777129200@thinkplaycreate.org
SUMMARY:Intro to the Pottery Wheel: Ceramics Workshop (Adults\, Teens\, Kids 8+)
DESCRIPTION:
URL:https://thinkplaycreate.org/event/intro-to-the-pottery-wheel-ceramics-workshop-adults-teens-kids-8-3/
LOCATION:The New Children’s Museum\, 200 W Island Ave\, San Diego\, CA\, 92101\, United States
GEO:32.7106684;-117.1651935
X-APPLE-STRUCTURED-LOCATION;VALUE=URI;X-ADDRESS=The New Children’s Museum 200 W Island Ave San Diego CA 92101 United States;X-APPLE-RADIUS=500;X-TITLE=200 W Island Ave:geo:-117.1651935,32.7106684
END:VEVENT
BEGIN:VEVENT
DTSTART;TZID=America/Los_Angeles:20260426T100000
DTEND;TZID=America/Los_Angeles:20260426T103000
DTSTAMP:20260421T115048
CREATED:20260403T232731Z
LAST-MODIFIED:20260407T214509Z
UID:10043568-1777197600-1777199400@thinkplaycreate.org
SUMMARY:Story Time Studio
DESCRIPTION:
URL:https://thinkplaycreate.org/event/story-time-studio-2/2026-04-26/
LOCATION:The New Children’s Museum\, 200 W Island Ave\, San Diego\, CA\, 92101\, United States
GEO:32.7106684;-117.1651935
X-APPLE-STRUCTURED-LOCATION;VALUE=URI;X-ADDRESS=The New Children’s Museum 200 W Island Ave San Diego CA 92101 United States;X-APPLE-RADIUS=500;X-TITLE=200 W Island Ave:geo:-117.1651935,32.7106684
END:VEVENT
BEGIN:VEVENT
DTSTART;TZID=America/Los_Angeles:20260426T110000
DTEND;TZID=America/Los_Angeles:20260426T113000
DTSTAMP:20260421T115048
CREATED:20260402T220508Z
LAST-MODIFIED:20260407T231329Z
UID:10043613-1777201200-1777203000@thinkplaycreate.org
SUMMARY:Materials Lab: Cardboard
DESCRIPTION:
URL:https://thinkplaycreate.org/event/materials-lab-cardboard/2026-04-26/
LOCATION:The New Children’s Museum\, 200 W Island Ave\, San Diego\, CA\, 92101\, United States
GEO:32.7106684;-117.1651935
X-APPLE-STRUCTURED-LOCATION;VALUE=URI;X-ADDRESS=The New Children’s Museum 200 W Island Ave San Diego CA 92101 United States;X-APPLE-RADIUS=500;X-TITLE=200 W Island Ave:geo:-117.1651935,32.7106684
END:VEVENT
BEGIN:VEVENT
DTSTART;TZID=America/Los_Angeles:20260426T130000
DTEND;TZID=America/Los_Angeles:20260426T133000
DTSTAMP:20260421T115048
CREATED:20260402T222317Z
LAST-MODIFIED:20260407T175848Z
UID:10043532-1777208400-1777210200@thinkplaycreate.org
SUMMARY:Materials Lab: Cardboard
DESCRIPTION:
URL:https://thinkplaycreate.org/event/materials-lab-cardboard-2/2026-04-26/
LOCATION:The New Children’s Museum\, 200 W Island Ave\, San Diego\, CA\, 92101\, United States
GEO:32.7106684;-117.1651935
X-APPLE-STRUCTURED-LOCATION;VALUE=URI;X-ADDRESS=The New Children’s Museum 200 W Island Ave San Diego CA 92101 United States;X-APPLE-RADIUS=500;X-TITLE=200 W Island Ave:geo:-117.1651935,32.7106684
END:VEVENT
BEGIN:VEVENT
DTSTART;TZID=America/Los_Angeles:20260427T100000
DTEND;TZID=America/Los_Angeles:20260427T103000
DTSTAMP:20260421T115048
CREATED:20260403T232731Z
LAST-MODIFIED:20260407T214509Z
UID:10043569-1777284000-1777285800@thinkplaycreate.org
SUMMARY:Story Time Studio
DESCRIPTION:
URL:https://thinkplaycreate.org/event/story-time-studio-2/2026-04-27/
LOCATION:The New Children’s Museum\, 200 W Island Ave\, San Diego\, CA\, 92101\, United States
GEO:32.7106684;-117.1651935
X-APPLE-STRUCTURED-LOCATION;VALUE=URI;X-ADDRESS=The New Children’s Museum 200 W Island Ave San Diego CA 92101 United States;X-APPLE-RADIUS=500;X-TITLE=200 W Island Ave:geo:-117.1651935,32.7106684
END:VEVENT
BEGIN:VEVENT
DTSTART;TZID=America/Los_Angeles:20260427T110000
DTEND;TZID=America/Los_Angeles:20260427T113000
DTSTAMP:20260421T115048
CREATED:20260402T220508Z
LAST-MODIFIED:20260407T231329Z
UID:10043494-1777287600-1777289400@thinkplaycreate.org
SUMMARY:Materials Lab: Cardboard
DESCRIPTION:
URL:https://thinkplaycreate.org/event/materials-lab-cardboard/2026-04-27/
LOCATION:The New Children’s Museum\, 200 W Island Ave\, San Diego\, CA\, 92101\, United States
GEO:32.7106684;-117.1651935
X-APPLE-STRUCTURED-LOCATION;VALUE=URI;X-ADDRESS=The New Children’s Museum 200 W Island Ave San Diego CA 92101 United States;X-APPLE-RADIUS=500;X-TITLE=200 W Island Ave:geo:-117.1651935,32.7106684
END:VEVENT
BEGIN:VEVENT
DTSTART;TZID=America/Los_Angeles:20260427T130000
DTEND;TZID=America/Los_Angeles:20260427T133000
DTSTAMP:20260421T115048
CREATED:20260402T222317Z
LAST-MODIFIED:20260407T175848Z
UID:10043533-1777294800-1777296600@thinkplaycreate.org
SUMMARY:Materials Lab: Cardboard
DESCRIPTION:
URL:https://thinkplaycreate.org/event/materials-lab-cardboard-2/2026-04-27/
LOCATION:The New Children’s Museum\, 200 W Island Ave\, San Diego\, CA\, 92101\, United States
GEO:32.7106684;-117.1651935
X-APPLE-STRUCTURED-LOCATION;VALUE=URI;X-ADDRESS=The New Children’s Museum 200 W Island Ave San Diego CA 92101 United States;X-APPLE-RADIUS=500;X-TITLE=200 W Island Ave:geo:-117.1651935,32.7106684
END:VEVENT
BEGIN:VEVENT
DTSTART;TZID=America/Los_Angeles:20260427T140000
DTEND;TZID=America/Los_Angeles:20260427T143000
DTSTAMP:20260421T115048
CREATED:20260403T233414Z
LAST-MODIFIED:20260403T233414Z
UID:10043594-1777298400-1777300200@thinkplaycreate.org
SUMMARY:Story Time Studio
DESCRIPTION:
URL:https://thinkplaycreate.org/event/story-time-studio-3/2026-04-27/
LOCATION:The New Children’s Museum\, 200 W Island Ave\, San Diego\, CA\, 92101\, United States
GEO:32.7106684;-117.1651935
X-APPLE-STRUCTURED-LOCATION;VALUE=URI;X-ADDRESS=The New Children’s Museum 200 W Island Ave San Diego CA 92101 United States;X-APPLE-RADIUS=500;X-TITLE=200 W Island Ave:geo:-117.1651935,32.7106684
END:VEVENT
BEGIN:VEVENT
DTSTART;VALUE=DATE:20260428
DTEND;VALUE=DATE:20260429
DTSTAMP:20260421T115048
CREATED:20240111T183850Z
LAST-MODIFIED:20260202T195312Z
UID:10028150-1777334400-1777420799@thinkplaycreate.org
SUMMARY:Museum Closed
DESCRIPTION:
URL:https://thinkplaycreate.org/event/museum-closed-75/2026-04-28/
LOCATION:The New Children’s Museum\, 200 W Island Ave\, San Diego\, CA\, 92101\, United States
ATTACH;FMTTYPE=image/png:https://thinkplaycreate.org/wp-content/uploads/2016/10/CLOSED.png
GEO:32.7106684;-117.1651935
X-APPLE-STRUCTURED-LOCATION;VALUE=URI;X-ADDRESS=The New Children’s Museum 200 W Island Ave San Diego CA 92101 United States;X-APPLE-RADIUS=500;X-TITLE=200 W Island Ave:geo:-117.1651935,32.7106684
END:VEVENT
BEGIN:VEVENT
DTSTART;TZID=America/Los_Angeles:20260429T100000
DTEND;TZID=America/Los_Angeles:20260429T103000
DTSTAMP:20260421T115048
CREATED:20260408T191840Z
LAST-MODIFIED:20260408T191840Z
UID:10044614-1777456800-1777458600@thinkplaycreate.org
SUMMARY:Toddler Time
DESCRIPTION:
URL:https://thinkplaycreate.org/event/toddler-time-2/
LOCATION:The New Children’s Museum\, 200 W Island Ave\, San Diego\, CA\, 92101\, United States
CATEGORIES:Toddler Time
ATTACH;FMTTYPE=image/jpeg:https://thinkplaycreate.org/wp-content/uploads/2021/10/Toddler-Time-Finger-Painting.jpg
GEO:32.7106684;-117.1651935
X-APPLE-STRUCTURED-LOCATION;VALUE=URI;X-ADDRESS=The New Children’s Museum 200 W Island Ave San Diego CA 92101 United States;X-APPLE-RADIUS=500;X-TITLE=200 W Island Ave:geo:-117.1651935,32.7106684
END:VEVENT
BEGIN:VEVENT
DTSTART;TZID=America/Los_Angeles:20260429T110000
DTEND;TZID=America/Los_Angeles:20260429T113000
DTSTAMP:20260421T115048
CREATED:20250826T230325Z
LAST-MODIFIED:20260408T182117Z
UID:10044280-1777460400-1777462200@thinkplaycreate.org
SUMMARY:Toddler Time
DESCRIPTION:
URL:https://thinkplaycreate.org/event/toddler-time-3-2-2-2/2026-04-29/
LOCATION:The New Children’s Museum\, 200 W Island Ave\, San Diego\, CA\, 92101\, United States
CATEGORIES:Toddler Time
ATTACH;FMTTYPE=image/jpeg:https://thinkplaycreate.org/wp-content/uploads/2021/10/Toddler-Time-Finger-Painting.jpg
GEO:32.7106684;-117.1651935
X-APPLE-STRUCTURED-LOCATION;VALUE=URI;X-ADDRESS=The New Children’s Museum 200 W Island Ave San Diego CA 92101 United States;X-APPLE-RADIUS=500;X-TITLE=200 W Island Ave:geo:-117.1651935,32.7106684
END:VEVENT
BEGIN:VEVENT
DTSTART;TZID=America/Los_Angeles:20260429T110000
DTEND;TZID=America/Los_Angeles:20260429T113000
DTSTAMP:20260421T115048
CREATED:20260402T220508Z
LAST-MODIFIED:20260407T231329Z
UID:10043495-1777460400-1777462200@thinkplaycreate.org
SUMMARY:Materials Lab: Cardboard
DESCRIPTION:
URL:https://thinkplaycreate.org/event/materials-lab-cardboard/2026-04-29/
LOCATION:The New Children’s Museum\, 200 W Island Ave\, San Diego\, CA\, 92101\, United States
GEO:32.7106684;-117.1651935
X-APPLE-STRUCTURED-LOCATION;VALUE=URI;X-ADDRESS=The New Children’s Museum 200 W Island Ave San Diego CA 92101 United States;X-APPLE-RADIUS=500;X-TITLE=200 W Island Ave:geo:-117.1651935,32.7106684
END:VEVENT
BEGIN:VEVENT
DTSTART;TZID=America/Los_Angeles:20260429T130000
DTEND;TZID=America/Los_Angeles:20260429T133000
DTSTAMP:20260421T115048
CREATED:20260402T222317Z
LAST-MODIFIED:20260407T175848Z
UID:10043534-1777467600-1777469400@thinkplaycreate.org
SUMMARY:Materials Lab: Cardboard
DESCRIPTION:
URL:https://thinkplaycreate.org/event/materials-lab-cardboard-2/2026-04-29/
LOCATION:The New Children’s Museum\, 200 W Island Ave\, San Diego\, CA\, 92101\, United States
GEO:32.7106684;-117.1651935
X-APPLE-STRUCTURED-LOCATION;VALUE=URI;X-ADDRESS=The New Children’s Museum 200 W Island Ave San Diego CA 92101 United States;X-APPLE-RADIUS=500;X-TITLE=200 W Island Ave:geo:-117.1651935,32.7106684
END:VEVENT
BEGIN:VEVENT
DTSTART;TZID=America/Los_Angeles:20260430T100000
DTEND;TZID=America/Los_Angeles:20260430T103000
DTSTAMP:20260421T115048
CREATED:20260403T232731Z
LAST-MODIFIED:20260407T214509Z
UID:10043570-1777543200-1777545000@thinkplaycreate.org
SUMMARY:Story Time Studio
DESCRIPTION:
URL:https://thinkplaycreate.org/event/story-time-studio-2/2026-04-30/
LOCATION:The New Children’s Museum\, 200 W Island Ave\, San Diego\, CA\, 92101\, United States
GEO:32.7106684;-117.1651935
X-APPLE-STRUCTURED-LOCATION;VALUE=URI;X-ADDRESS=The New Children’s Museum 200 W Island Ave San Diego CA 92101 United States;X-APPLE-RADIUS=500;X-TITLE=200 W Island Ave:geo:-117.1651935,32.7106684
END:VEVENT
BEGIN:VEVENT
DTSTART;TZID=America/Los_Angeles:20260430T110000
DTEND;TZID=America/Los_Angeles:20260430T113000
DTSTAMP:20260421T115048
CREATED:20260402T220508Z
LAST-MODIFIED:20260407T231329Z
UID:10043496-1777546800-1777548600@thinkplaycreate.org
SUMMARY:Materials Lab: Cardboard
DESCRIPTION:
URL:https://thinkplaycreate.org/event/materials-lab-cardboard/2026-04-30/
LOCATION:The New Children’s Museum\, 200 W Island Ave\, San Diego\, CA\, 92101\, United States
GEO:32.7106684;-117.1651935
X-APPLE-STRUCTURED-LOCATION;VALUE=URI;X-ADDRESS=The New Children’s Museum 200 W Island Ave San Diego CA 92101 United States;X-APPLE-RADIUS=500;X-TITLE=200 W Island Ave:geo:-117.1651935,32.7106684
END:VEVENT
BEGIN:VEVENT
DTSTART;TZID=America/Los_Angeles:20260430T130000
DTEND;TZID=America/Los_Angeles:20260430T133000
DTSTAMP:20260421T115048
CREATED:20260402T222317Z
LAST-MODIFIED:20260407T175848Z
UID:10043535-1777554000-1777555800@thinkplaycreate.org
SUMMARY:Materials Lab: Cardboard
DESCRIPTION:
URL:https://thinkplaycreate.org/event/materials-lab-cardboard-2/2026-04-30/
LOCATION:The New Children’s Museum\, 200 W Island Ave\, San Diego\, CA\, 92101\, United States
GEO:32.7106684;-117.1651935
X-APPLE-STRUCTURED-LOCATION;VALUE=URI;X-ADDRESS=The New Children’s Museum 200 W Island Ave San Diego CA 92101 United States;X-APPLE-RADIUS=500;X-TITLE=200 W Island Ave:geo:-117.1651935,32.7106684
END:VEVENT
BEGIN:VEVENT
DTSTART;TZID=America/Los_Angeles:20260430T140000
DTEND;TZID=America/Los_Angeles:20260430T143000
DTSTAMP:20260421T115048
CREATED:20260403T233414Z
LAST-MODIFIED:20260403T233414Z
UID:10043595-1777557600-1777559400@thinkplaycreate.org
SUMMARY:Story Time Studio
DESCRIPTION:
URL:https://thinkplaycreate.org/event/story-time-studio-3/2026-04-30/
LOCATION:The New Children’s Museum\, 200 W Island Ave\, San Diego\, CA\, 92101\, United States
GEO:32.7106684;-117.1651935
X-APPLE-STRUCTURED-LOCATION;VALUE=URI;X-ADDRESS=The New Children’s Museum 200 W Island Ave San Diego CA 92101 United States;X-APPLE-RADIUS=500;X-TITLE=200 W Island Ave:geo:-117.1651935,32.7106684
END:VEVENT
END:VCALENDAR