BEGIN:VCALENDAR
VERSION:2.0
PRODID:-//The New Children&#039;s Museum - ECPv6.15.18//NONSGML v1.0//EN
CALSCALE:GREGORIAN
METHOD:PUBLISH
X-WR-CALNAME:The New Children&#039;s Museum
X-ORIGINAL-URL:https://thinkplaycreate.org
X-WR-CALDESC:Events for The New Children&#039;s Museum
REFRESH-INTERVAL;VALUE=DURATION:PT1H
X-Robots-Tag:noindex
X-PUBLISHED-TTL:PT1H
BEGIN:VTIMEZONE
TZID:America/Los_Angeles
BEGIN:DAYLIGHT
TZOFFSETFROM:-0800
TZOFFSETTO:-0700
TZNAME:PDT
DTSTART:20250309T100000
END:DAYLIGHT
BEGIN:STANDARD
TZOFFSETFROM:-0700
TZOFFSETTO:-0800
TZNAME:PST
DTSTART:20251102T090000
END:STANDARD
BEGIN:DAYLIGHT
TZOFFSETFROM:-0800
TZOFFSETTO:-0700
TZNAME:PDT
DTSTART:20260308T100000
END:DAYLIGHT
BEGIN:STANDARD
TZOFFSETFROM:-0700
TZOFFSETTO:-0800
TZNAME:PST
DTSTART:20261101T090000
END:STANDARD
BEGIN:DAYLIGHT
TZOFFSETFROM:-0800
TZOFFSETTO:-0700
TZNAME:PDT
DTSTART:20270314T100000
END:DAYLIGHT
BEGIN:STANDARD
TZOFFSETFROM:-0700
TZOFFSETTO:-0800
TZNAME:PST
DTSTART:20271107T090000
END:STANDARD
END:VTIMEZONE
BEGIN:VEVENT
DTSTART;TZID=America/Los_Angeles:20260423T130000
DTEND;TZID=America/Los_Angeles:20260423T133000
DTSTAMP:20260422T235325
CREATED:20260402T222317Z
LAST-MODIFIED:20260407T175848Z
UID:10043530-1776949200-1776951000@thinkplaycreate.org
SUMMARY:Materials Lab: Cardboard
DESCRIPTION:
URL:https://thinkplaycreate.org/event/materials-lab-cardboard-2/2026-04-23/
LOCATION:The New Children’s Museum\, 200 W Island Ave\, San Diego\, CA\, 92101\, United States
GEO:32.7106684;-117.1651935
X-APPLE-STRUCTURED-LOCATION;VALUE=URI;X-ADDRESS=The New Children’s Museum 200 W Island Ave San Diego CA 92101 United States;X-APPLE-RADIUS=500;X-TITLE=200 W Island Ave:geo:-117.1651935,32.7106684
END:VEVENT
BEGIN:VEVENT
DTSTART;TZID=America/Los_Angeles:20260424T130000
DTEND;TZID=America/Los_Angeles:20260424T133000
DTSTAMP:20260422T235325
CREATED:20260402T222317Z
LAST-MODIFIED:20260407T175848Z
UID:10043531-1777035600-1777037400@thinkplaycreate.org
SUMMARY:Materials Lab: Cardboard
DESCRIPTION:
URL:https://thinkplaycreate.org/event/materials-lab-cardboard-2/2026-04-24/
LOCATION:The New Children’s Museum\, 200 W Island Ave\, San Diego\, CA\, 92101\, United States
GEO:32.7106684;-117.1651935
X-APPLE-STRUCTURED-LOCATION;VALUE=URI;X-ADDRESS=The New Children’s Museum 200 W Island Ave San Diego CA 92101 United States;X-APPLE-RADIUS=500;X-TITLE=200 W Island Ave:geo:-117.1651935,32.7106684
END:VEVENT
BEGIN:VEVENT
DTSTART;TZID=America/Los_Angeles:20260426T130000
DTEND;TZID=America/Los_Angeles:20260426T133000
DTSTAMP:20260422T235325
CREATED:20260402T222317Z
LAST-MODIFIED:20260407T175848Z
UID:10043532-1777208400-1777210200@thinkplaycreate.org
SUMMARY:Materials Lab: Cardboard
DESCRIPTION:
URL:https://thinkplaycreate.org/event/materials-lab-cardboard-2/2026-04-26/
LOCATION:The New Children’s Museum\, 200 W Island Ave\, San Diego\, CA\, 92101\, United States
GEO:32.7106684;-117.1651935
X-APPLE-STRUCTURED-LOCATION;VALUE=URI;X-ADDRESS=The New Children’s Museum 200 W Island Ave San Diego CA 92101 United States;X-APPLE-RADIUS=500;X-TITLE=200 W Island Ave:geo:-117.1651935,32.7106684
END:VEVENT
BEGIN:VEVENT
DTSTART;TZID=America/Los_Angeles:20260427T130000
DTEND;TZID=America/Los_Angeles:20260427T133000
DTSTAMP:20260422T235325
CREATED:20260402T222317Z
LAST-MODIFIED:20260407T175848Z
UID:10043533-1777294800-1777296600@thinkplaycreate.org
SUMMARY:Materials Lab: Cardboard
DESCRIPTION:
URL:https://thinkplaycreate.org/event/materials-lab-cardboard-2/2026-04-27/
LOCATION:The New Children’s Museum\, 200 W Island Ave\, San Diego\, CA\, 92101\, United States
GEO:32.7106684;-117.1651935
X-APPLE-STRUCTURED-LOCATION;VALUE=URI;X-ADDRESS=The New Children’s Museum 200 W Island Ave San Diego CA 92101 United States;X-APPLE-RADIUS=500;X-TITLE=200 W Island Ave:geo:-117.1651935,32.7106684
END:VEVENT
BEGIN:VEVENT
DTSTART;TZID=America/Los_Angeles:20260429T130000
DTEND;TZID=America/Los_Angeles:20260429T133000
DTSTAMP:20260422T235325
CREATED:20260402T222317Z
LAST-MODIFIED:20260407T175848Z
UID:10043534-1777467600-1777469400@thinkplaycreate.org
SUMMARY:Materials Lab: Cardboard
DESCRIPTION:
URL:https://thinkplaycreate.org/event/materials-lab-cardboard-2/2026-04-29/
LOCATION:The New Children’s Museum\, 200 W Island Ave\, San Diego\, CA\, 92101\, United States
GEO:32.7106684;-117.1651935
X-APPLE-STRUCTURED-LOCATION;VALUE=URI;X-ADDRESS=The New Children’s Museum 200 W Island Ave San Diego CA 92101 United States;X-APPLE-RADIUS=500;X-TITLE=200 W Island Ave:geo:-117.1651935,32.7106684
END:VEVENT
BEGIN:VEVENT
DTSTART;TZID=America/Los_Angeles:20260430T130000
DTEND;TZID=America/Los_Angeles:20260430T133000
DTSTAMP:20260422T235325
CREATED:20260402T222317Z
LAST-MODIFIED:20260407T175848Z
UID:10043535-1777554000-1777555800@thinkplaycreate.org
SUMMARY:Materials Lab: Cardboard
DESCRIPTION:
URL:https://thinkplaycreate.org/event/materials-lab-cardboard-2/2026-04-30/
LOCATION:The New Children’s Museum\, 200 W Island Ave\, San Diego\, CA\, 92101\, United States
GEO:32.7106684;-117.1651935
X-APPLE-STRUCTURED-LOCATION;VALUE=URI;X-ADDRESS=The New Children’s Museum 200 W Island Ave San Diego CA 92101 United States;X-APPLE-RADIUS=500;X-TITLE=200 W Island Ave:geo:-117.1651935,32.7106684
END:VEVENT
BEGIN:VEVENT
DTSTART;TZID=America/Los_Angeles:20260501T130000
DTEND;TZID=America/Los_Angeles:20260501T133000
DTSTAMP:20260422T235325
CREATED:20260402T222317Z
LAST-MODIFIED:20260407T175848Z
UID:10043536-1777640400-1777642200@thinkplaycreate.org
SUMMARY:Materials Lab: Cardboard
DESCRIPTION:
URL:https://thinkplaycreate.org/event/materials-lab-cardboard-2/2026-05-01/
LOCATION:The New Children’s Museum\, 200 W Island Ave\, San Diego\, CA\, 92101\, United States
GEO:32.7106684;-117.1651935
X-APPLE-STRUCTURED-LOCATION;VALUE=URI;X-ADDRESS=The New Children’s Museum 200 W Island Ave San Diego CA 92101 United States;X-APPLE-RADIUS=500;X-TITLE=200 W Island Ave:geo:-117.1651935,32.7106684
END:VEVENT
BEGIN:VEVENT
DTSTART;TZID=America/Los_Angeles:20260503T130000
DTEND;TZID=America/Los_Angeles:20260503T133000
DTSTAMP:20260422T235325
CREATED:20260402T222317Z
LAST-MODIFIED:20260407T175848Z
UID:10043537-1777813200-1777815000@thinkplaycreate.org
SUMMARY:Materials Lab: Cardboard
DESCRIPTION:
URL:https://thinkplaycreate.org/event/materials-lab-cardboard-2/2026-05-03/
LOCATION:The New Children’s Museum\, 200 W Island Ave\, San Diego\, CA\, 92101\, United States
GEO:32.7106684;-117.1651935
X-APPLE-STRUCTURED-LOCATION;VALUE=URI;X-ADDRESS=The New Children’s Museum 200 W Island Ave San Diego CA 92101 United States;X-APPLE-RADIUS=500;X-TITLE=200 W Island Ave:geo:-117.1651935,32.7106684
END:VEVENT
BEGIN:VEVENT
DTSTART;TZID=America/Los_Angeles:20260504T130000
DTEND;TZID=America/Los_Angeles:20260504T133000
DTSTAMP:20260422T235325
CREATED:20260402T222317Z
LAST-MODIFIED:20260407T175848Z
UID:10043538-1777899600-1777901400@thinkplaycreate.org
SUMMARY:Materials Lab: Cardboard
DESCRIPTION:
URL:https://thinkplaycreate.org/event/materials-lab-cardboard-2/2026-05-04/
LOCATION:The New Children’s Museum\, 200 W Island Ave\, San Diego\, CA\, 92101\, United States
GEO:32.7106684;-117.1651935
X-APPLE-STRUCTURED-LOCATION;VALUE=URI;X-ADDRESS=The New Children’s Museum 200 W Island Ave San Diego CA 92101 United States;X-APPLE-RADIUS=500;X-TITLE=200 W Island Ave:geo:-117.1651935,32.7106684
END:VEVENT
BEGIN:VEVENT
DTSTART;TZID=America/Los_Angeles:20260506T130000
DTEND;TZID=America/Los_Angeles:20260506T133000
DTSTAMP:20260422T235325
CREATED:20260402T222317Z
LAST-MODIFIED:20260407T175848Z
UID:10043539-1778072400-1778074200@thinkplaycreate.org
SUMMARY:Materials Lab: Cardboard
DESCRIPTION:
URL:https://thinkplaycreate.org/event/materials-lab-cardboard-2/2026-05-06/
LOCATION:The New Children’s Museum\, 200 W Island Ave\, San Diego\, CA\, 92101\, United States
GEO:32.7106684;-117.1651935
X-APPLE-STRUCTURED-LOCATION;VALUE=URI;X-ADDRESS=The New Children’s Museum 200 W Island Ave San Diego CA 92101 United States;X-APPLE-RADIUS=500;X-TITLE=200 W Island Ave:geo:-117.1651935,32.7106684
END:VEVENT
BEGIN:VEVENT
DTSTART;TZID=America/Los_Angeles:20260507T130000
DTEND;TZID=America/Los_Angeles:20260507T133000
DTSTAMP:20260422T235325
CREATED:20260402T222317Z
LAST-MODIFIED:20260407T175848Z
UID:10043540-1778158800-1778160600@thinkplaycreate.org
SUMMARY:Materials Lab: Cardboard
DESCRIPTION:
URL:https://thinkplaycreate.org/event/materials-lab-cardboard-2/2026-05-07/
LOCATION:The New Children’s Museum\, 200 W Island Ave\, San Diego\, CA\, 92101\, United States
GEO:32.7106684;-117.1651935
X-APPLE-STRUCTURED-LOCATION;VALUE=URI;X-ADDRESS=The New Children’s Museum 200 W Island Ave San Diego CA 92101 United States;X-APPLE-RADIUS=500;X-TITLE=200 W Island Ave:geo:-117.1651935,32.7106684
END:VEVENT
BEGIN:VEVENT
DTSTART;TZID=America/Los_Angeles:20260508T130000
DTEND;TZID=America/Los_Angeles:20260508T133000
DTSTAMP:20260422T235325
CREATED:20260402T222317Z
LAST-MODIFIED:20260407T175848Z
UID:10043541-1778245200-1778247000@thinkplaycreate.org
SUMMARY:Materials Lab: Cardboard
DESCRIPTION:
URL:https://thinkplaycreate.org/event/materials-lab-cardboard-2/2026-05-08/
LOCATION:The New Children’s Museum\, 200 W Island Ave\, San Diego\, CA\, 92101\, United States
GEO:32.7106684;-117.1651935
X-APPLE-STRUCTURED-LOCATION;VALUE=URI;X-ADDRESS=The New Children’s Museum 200 W Island Ave San Diego CA 92101 United States;X-APPLE-RADIUS=500;X-TITLE=200 W Island Ave:geo:-117.1651935,32.7106684
END:VEVENT
BEGIN:VEVENT
DTSTART;TZID=America/Los_Angeles:20260510T130000
DTEND;TZID=America/Los_Angeles:20260510T133000
DTSTAMP:20260422T235325
CREATED:20260402T222317Z
LAST-MODIFIED:20260407T175848Z
UID:10043542-1778418000-1778419800@thinkplaycreate.org
SUMMARY:Materials Lab: Cardboard
DESCRIPTION:
URL:https://thinkplaycreate.org/event/materials-lab-cardboard-2/2026-05-10/
LOCATION:The New Children’s Museum\, 200 W Island Ave\, San Diego\, CA\, 92101\, United States
GEO:32.7106684;-117.1651935
X-APPLE-STRUCTURED-LOCATION;VALUE=URI;X-ADDRESS=The New Children’s Museum 200 W Island Ave San Diego CA 92101 United States;X-APPLE-RADIUS=500;X-TITLE=200 W Island Ave:geo:-117.1651935,32.7106684
END:VEVENT
BEGIN:VEVENT
DTSTART;TZID=America/Los_Angeles:20260511T130000
DTEND;TZID=America/Los_Angeles:20260511T133000
DTSTAMP:20260422T235325
CREATED:20260402T222317Z
LAST-MODIFIED:20260407T175848Z
UID:10043543-1778504400-1778506200@thinkplaycreate.org
SUMMARY:Materials Lab: Cardboard
DESCRIPTION:
URL:https://thinkplaycreate.org/event/materials-lab-cardboard-2/2026-05-11/
LOCATION:The New Children’s Museum\, 200 W Island Ave\, San Diego\, CA\, 92101\, United States
GEO:32.7106684;-117.1651935
X-APPLE-STRUCTURED-LOCATION;VALUE=URI;X-ADDRESS=The New Children’s Museum 200 W Island Ave San Diego CA 92101 United States;X-APPLE-RADIUS=500;X-TITLE=200 W Island Ave:geo:-117.1651935,32.7106684
END:VEVENT
BEGIN:VEVENT
DTSTART;TZID=America/Los_Angeles:20260513T130000
DTEND;TZID=America/Los_Angeles:20260513T133000
DTSTAMP:20260422T235325
CREATED:20260402T222317Z
LAST-MODIFIED:20260407T175848Z
UID:10043544-1778677200-1778679000@thinkplaycreate.org
SUMMARY:Materials Lab: Cardboard
DESCRIPTION:
URL:https://thinkplaycreate.org/event/materials-lab-cardboard-2/2026-05-13/
LOCATION:The New Children’s Museum\, 200 W Island Ave\, San Diego\, CA\, 92101\, United States
GEO:32.7106684;-117.1651935
X-APPLE-STRUCTURED-LOCATION;VALUE=URI;X-ADDRESS=The New Children’s Museum 200 W Island Ave San Diego CA 92101 United States;X-APPLE-RADIUS=500;X-TITLE=200 W Island Ave:geo:-117.1651935,32.7106684
END:VEVENT
BEGIN:VEVENT
DTSTART;TZID=America/Los_Angeles:20260514T130000
DTEND;TZID=America/Los_Angeles:20260514T133000
DTSTAMP:20260422T235325
CREATED:20260402T222317Z
LAST-MODIFIED:20260407T175848Z
UID:10043545-1778763600-1778765400@thinkplaycreate.org
SUMMARY:Materials Lab: Cardboard
DESCRIPTION:
URL:https://thinkplaycreate.org/event/materials-lab-cardboard-2/2026-05-14/
LOCATION:The New Children’s Museum\, 200 W Island Ave\, San Diego\, CA\, 92101\, United States
GEO:32.7106684;-117.1651935
X-APPLE-STRUCTURED-LOCATION;VALUE=URI;X-ADDRESS=The New Children’s Museum 200 W Island Ave San Diego CA 92101 United States;X-APPLE-RADIUS=500;X-TITLE=200 W Island Ave:geo:-117.1651935,32.7106684
END:VEVENT
BEGIN:VEVENT
DTSTART;TZID=America/Los_Angeles:20260515T130000
DTEND;TZID=America/Los_Angeles:20260515T133000
DTSTAMP:20260422T235325
CREATED:20260402T222317Z
LAST-MODIFIED:20260407T175848Z
UID:10043546-1778850000-1778851800@thinkplaycreate.org
SUMMARY:Materials Lab: Cardboard
DESCRIPTION:
URL:https://thinkplaycreate.org/event/materials-lab-cardboard-2/2026-05-15/
LOCATION:The New Children’s Museum\, 200 W Island Ave\, San Diego\, CA\, 92101\, United States
GEO:32.7106684;-117.1651935
X-APPLE-STRUCTURED-LOCATION;VALUE=URI;X-ADDRESS=The New Children’s Museum 200 W Island Ave San Diego CA 92101 United States;X-APPLE-RADIUS=500;X-TITLE=200 W Island Ave:geo:-117.1651935,32.7106684
END:VEVENT
BEGIN:VEVENT
DTSTART;TZID=America/Los_Angeles:20260517T130000
DTEND;TZID=America/Los_Angeles:20260517T133000
DTSTAMP:20260422T235325
CREATED:20260402T222317Z
LAST-MODIFIED:20260407T175848Z
UID:10043547-1779022800-1779024600@thinkplaycreate.org
SUMMARY:Materials Lab: Cardboard
DESCRIPTION:
URL:https://thinkplaycreate.org/event/materials-lab-cardboard-2/2026-05-17/
LOCATION:The New Children’s Museum\, 200 W Island Ave\, San Diego\, CA\, 92101\, United States
GEO:32.7106684;-117.1651935
X-APPLE-STRUCTURED-LOCATION;VALUE=URI;X-ADDRESS=The New Children’s Museum 200 W Island Ave San Diego CA 92101 United States;X-APPLE-RADIUS=500;X-TITLE=200 W Island Ave:geo:-117.1651935,32.7106684
END:VEVENT
BEGIN:VEVENT
DTSTART;TZID=America/Los_Angeles:20260518T130000
DTEND;TZID=America/Los_Angeles:20260518T133000
DTSTAMP:20260422T235325
CREATED:20260402T222317Z
LAST-MODIFIED:20260407T175848Z
UID:10043548-1779109200-1779111000@thinkplaycreate.org
SUMMARY:Materials Lab: Cardboard
DESCRIPTION:
URL:https://thinkplaycreate.org/event/materials-lab-cardboard-2/2026-05-18/
LOCATION:The New Children’s Museum\, 200 W Island Ave\, San Diego\, CA\, 92101\, United States
GEO:32.7106684;-117.1651935
X-APPLE-STRUCTURED-LOCATION;VALUE=URI;X-ADDRESS=The New Children’s Museum 200 W Island Ave San Diego CA 92101 United States;X-APPLE-RADIUS=500;X-TITLE=200 W Island Ave:geo:-117.1651935,32.7106684
END:VEVENT
BEGIN:VEVENT
DTSTART;TZID=America/Los_Angeles:20260520T130000
DTEND;TZID=America/Los_Angeles:20260520T133000
DTSTAMP:20260422T235325
CREATED:20260402T222317Z
LAST-MODIFIED:20260407T175848Z
UID:10043549-1779282000-1779283800@thinkplaycreate.org
SUMMARY:Materials Lab: Cardboard
DESCRIPTION:
URL:https://thinkplaycreate.org/event/materials-lab-cardboard-2/2026-05-20/
LOCATION:The New Children’s Museum\, 200 W Island Ave\, San Diego\, CA\, 92101\, United States
GEO:32.7106684;-117.1651935
X-APPLE-STRUCTURED-LOCATION;VALUE=URI;X-ADDRESS=The New Children’s Museum 200 W Island Ave San Diego CA 92101 United States;X-APPLE-RADIUS=500;X-TITLE=200 W Island Ave:geo:-117.1651935,32.7106684
END:VEVENT
BEGIN:VEVENT
DTSTART;TZID=America/Los_Angeles:20260521T130000
DTEND;TZID=America/Los_Angeles:20260521T133000
DTSTAMP:20260422T235325
CREATED:20260402T222317Z
LAST-MODIFIED:20260407T175848Z
UID:10043550-1779368400-1779370200@thinkplaycreate.org
SUMMARY:Materials Lab: Cardboard
DESCRIPTION:
URL:https://thinkplaycreate.org/event/materials-lab-cardboard-2/2026-05-21/
LOCATION:The New Children’s Museum\, 200 W Island Ave\, San Diego\, CA\, 92101\, United States
GEO:32.7106684;-117.1651935
X-APPLE-STRUCTURED-LOCATION;VALUE=URI;X-ADDRESS=The New Children’s Museum 200 W Island Ave San Diego CA 92101 United States;X-APPLE-RADIUS=500;X-TITLE=200 W Island Ave:geo:-117.1651935,32.7106684
END:VEVENT
BEGIN:VEVENT
DTSTART;TZID=America/Los_Angeles:20260522T130000
DTEND;TZID=America/Los_Angeles:20260522T133000
DTSTAMP:20260422T235325
CREATED:20260402T222317Z
LAST-MODIFIED:20260407T175848Z
UID:10043551-1779454800-1779456600@thinkplaycreate.org
SUMMARY:Materials Lab: Cardboard
DESCRIPTION:
URL:https://thinkplaycreate.org/event/materials-lab-cardboard-2/2026-05-22/
LOCATION:The New Children’s Museum\, 200 W Island Ave\, San Diego\, CA\, 92101\, United States
GEO:32.7106684;-117.1651935
X-APPLE-STRUCTURED-LOCATION;VALUE=URI;X-ADDRESS=The New Children’s Museum 200 W Island Ave San Diego CA 92101 United States;X-APPLE-RADIUS=500;X-TITLE=200 W Island Ave:geo:-117.1651935,32.7106684
END:VEVENT
BEGIN:VEVENT
DTSTART;TZID=America/Los_Angeles:20260524T130000
DTEND;TZID=America/Los_Angeles:20260524T133000
DTSTAMP:20260422T235325
CREATED:20260402T222317Z
LAST-MODIFIED:20260407T175848Z
UID:10043552-1779627600-1779629400@thinkplaycreate.org
SUMMARY:Materials Lab: Cardboard
DESCRIPTION:
URL:https://thinkplaycreate.org/event/materials-lab-cardboard-2/2026-05-24/
LOCATION:The New Children’s Museum\, 200 W Island Ave\, San Diego\, CA\, 92101\, United States
GEO:32.7106684;-117.1651935
X-APPLE-STRUCTURED-LOCATION;VALUE=URI;X-ADDRESS=The New Children’s Museum 200 W Island Ave San Diego CA 92101 United States;X-APPLE-RADIUS=500;X-TITLE=200 W Island Ave:geo:-117.1651935,32.7106684
END:VEVENT
BEGIN:VEVENT
DTSTART;TZID=America/Los_Angeles:20260525T130000
DTEND;TZID=America/Los_Angeles:20260525T133000
DTSTAMP:20260422T235325
CREATED:20260402T222317Z
LAST-MODIFIED:20260407T175848Z
UID:10043553-1779714000-1779715800@thinkplaycreate.org
SUMMARY:Materials Lab: Cardboard
DESCRIPTION:
URL:https://thinkplaycreate.org/event/materials-lab-cardboard-2/2026-05-25/
LOCATION:The New Children’s Museum\, 200 W Island Ave\, San Diego\, CA\, 92101\, United States
GEO:32.7106684;-117.1651935
X-APPLE-STRUCTURED-LOCATION;VALUE=URI;X-ADDRESS=The New Children’s Museum 200 W Island Ave San Diego CA 92101 United States;X-APPLE-RADIUS=500;X-TITLE=200 W Island Ave:geo:-117.1651935,32.7106684
END:VEVENT
BEGIN:VEVENT
DTSTART;TZID=America/Los_Angeles:20260527T130000
DTEND;TZID=America/Los_Angeles:20260527T133000
DTSTAMP:20260422T235325
CREATED:20260402T222317Z
LAST-MODIFIED:20260407T175848Z
UID:10043554-1779886800-1779888600@thinkplaycreate.org
SUMMARY:Materials Lab: Cardboard
DESCRIPTION:
URL:https://thinkplaycreate.org/event/materials-lab-cardboard-2/2026-05-27/
LOCATION:The New Children’s Museum\, 200 W Island Ave\, San Diego\, CA\, 92101\, United States
GEO:32.7106684;-117.1651935
X-APPLE-STRUCTURED-LOCATION;VALUE=URI;X-ADDRESS=The New Children’s Museum 200 W Island Ave San Diego CA 92101 United States;X-APPLE-RADIUS=500;X-TITLE=200 W Island Ave:geo:-117.1651935,32.7106684
END:VEVENT
BEGIN:VEVENT
DTSTART;TZID=America/Los_Angeles:20260528T130000
DTEND;TZID=America/Los_Angeles:20260528T133000
DTSTAMP:20260422T235325
CREATED:20260402T222317Z
LAST-MODIFIED:20260407T175848Z
UID:10043555-1779973200-1779975000@thinkplaycreate.org
SUMMARY:Materials Lab: Cardboard
DESCRIPTION:
URL:https://thinkplaycreate.org/event/materials-lab-cardboard-2/2026-05-28/
LOCATION:The New Children’s Museum\, 200 W Island Ave\, San Diego\, CA\, 92101\, United States
GEO:32.7106684;-117.1651935
X-APPLE-STRUCTURED-LOCATION;VALUE=URI;X-ADDRESS=The New Children’s Museum 200 W Island Ave San Diego CA 92101 United States;X-APPLE-RADIUS=500;X-TITLE=200 W Island Ave:geo:-117.1651935,32.7106684
END:VEVENT
BEGIN:VEVENT
DTSTART;TZID=America/Los_Angeles:20260529T130000
DTEND;TZID=America/Los_Angeles:20260529T133000
DTSTAMP:20260422T235325
CREATED:20260402T222317Z
LAST-MODIFIED:20260407T175848Z
UID:10043556-1780059600-1780061400@thinkplaycreate.org
SUMMARY:Materials Lab: Cardboard
DESCRIPTION:
URL:https://thinkplaycreate.org/event/materials-lab-cardboard-2/2026-05-29/
LOCATION:The New Children’s Museum\, 200 W Island Ave\, San Diego\, CA\, 92101\, United States
GEO:32.7106684;-117.1651935
X-APPLE-STRUCTURED-LOCATION;VALUE=URI;X-ADDRESS=The New Children’s Museum 200 W Island Ave San Diego CA 92101 United States;X-APPLE-RADIUS=500;X-TITLE=200 W Island Ave:geo:-117.1651935,32.7106684
END:VEVENT
BEGIN:VEVENT
DTSTART;TZID=America/Los_Angeles:20260531T130000
DTEND;TZID=America/Los_Angeles:20260531T133000
DTSTAMP:20260422T235325
CREATED:20260402T222317Z
LAST-MODIFIED:20260407T175848Z
UID:10043557-1780232400-1780234200@thinkplaycreate.org
SUMMARY:Materials Lab: Cardboard
DESCRIPTION:
URL:https://thinkplaycreate.org/event/materials-lab-cardboard-2/2026-05-31/
LOCATION:The New Children’s Museum\, 200 W Island Ave\, San Diego\, CA\, 92101\, United States
GEO:32.7106684;-117.1651935
X-APPLE-STRUCTURED-LOCATION;VALUE=URI;X-ADDRESS=The New Children’s Museum 200 W Island Ave San Diego CA 92101 United States;X-APPLE-RADIUS=500;X-TITLE=200 W Island Ave:geo:-117.1651935,32.7106684
END:VEVENT
END:VCALENDAR