BEGIN:VCALENDAR
VERSION:2.0
PRODID:-//The New Children&#039;s Museum - ECPv6.15.18//NONSGML v1.0//EN
CALSCALE:GREGORIAN
METHOD:PUBLISH
X-ORIGINAL-URL:https://thinkplaycreate.org
X-WR-CALDESC:Events for The New Children&#039;s Museum
REFRESH-INTERVAL;VALUE=DURATION:PT1H
X-Robots-Tag:noindex
X-PUBLISHED-TTL:PT1H
BEGIN:VTIMEZONE
TZID:America/Los_Angeles
BEGIN:DAYLIGHT
TZOFFSETFROM:-0800
TZOFFSETTO:-0700
TZNAME:PDT
DTSTART:20230312T100000
END:DAYLIGHT
BEGIN:STANDARD
TZOFFSETFROM:-0700
TZOFFSETTO:-0800
TZNAME:PST
DTSTART:20231105T090000
END:STANDARD
BEGIN:DAYLIGHT
TZOFFSETFROM:-0800
TZOFFSETTO:-0700
TZNAME:PDT
DTSTART:20240310T100000
END:DAYLIGHT
BEGIN:STANDARD
TZOFFSETFROM:-0700
TZOFFSETTO:-0800
TZNAME:PST
DTSTART:20241103T090000
END:STANDARD
BEGIN:DAYLIGHT
TZOFFSETFROM:-0800
TZOFFSETTO:-0700
TZNAME:PDT
DTSTART:20250309T100000
END:DAYLIGHT
BEGIN:STANDARD
TZOFFSETFROM:-0700
TZOFFSETTO:-0800
TZNAME:PST
DTSTART:20251102T090000
END:STANDARD
END:VTIMEZONE
BEGIN:VEVENT
DTSTART;VALUE=DATE:20240806
DTEND;VALUE=DATE:20240807
DTSTAMP:20260424T063136
CREATED:20240111T183850Z
LAST-MODIFIED:20260202T195312Z
UID:10028063-1722902400-1722988799@thinkplaycreate.org
SUMMARY:Museum Closed
DESCRIPTION:
URL:https://thinkplaycreate.org/event/museum-closed-75/2024-08-06/
LOCATION:The New Children’s Museum\, 200 W Island Ave\, San Diego\, CA\, 92101\, United States
ATTACH;FMTTYPE=image/png:https://thinkplaycreate.org/wp-content/uploads/2016/10/CLOSED.png
GEO:32.7106684;-117.1651935
X-APPLE-STRUCTURED-LOCATION;VALUE=URI;X-ADDRESS=The New Children’s Museum 200 W Island Ave San Diego CA 92101 United States;X-APPLE-RADIUS=500;X-TITLE=200 W Island Ave:geo:-117.1651935,32.7106684
END:VEVENT
BEGIN:VEVENT
DTSTART;TZID=America/Los_Angeles:20240807T100000
DTEND;TZID=America/Los_Angeles:20240807T103000
DTSTAMP:20260424T063136
CREATED:20230825T181258Z
LAST-MODIFIED:20250210T212628Z
UID:10009382-1723024800-1723026600@thinkplaycreate.org
SUMMARY:Joyride Bookshop Story Time
DESCRIPTION:
URL:https://thinkplaycreate.org/event/joyride-bookshop-story-time/2024-08-07/
LOCATION:The New Children’s Museum\, 200 W Island Ave\, San Diego\, CA\, 92101\, United States
GEO:32.7106684;-117.1651935
X-APPLE-STRUCTURED-LOCATION;VALUE=URI;X-ADDRESS=The New Children’s Museum 200 W Island Ave San Diego CA 92101 United States;X-APPLE-RADIUS=500;X-TITLE=200 W Island Ave:geo:-117.1651935,32.7106684
END:VEVENT
BEGIN:VEVENT
DTSTART;TZID=America/Los_Angeles:20240810T090000
DTEND;TZID=America/Los_Angeles:20240810T110000
DTSTAMP:20260424T063136
CREATED:20240325T192242Z
LAST-MODIFIED:20240501T195656Z
UID:10034379-1723280400-1723287600@thinkplaycreate.org
SUMMARY:Sensory Friendly Morning
DESCRIPTION:
URL:https://thinkplaycreate.org/event/sensory-friendly-morning/2024-08-10/
LOCATION:The New Children’s Museum\, 200 W Island Ave\, San Diego\, CA\, 92101\, United States
ATTACH;FMTTYPE=image/jpeg:https://thinkplaycreate.org/wp-content/uploads/2024/02/Donate-2.jpg
GEO:32.7106684;-117.1651935
X-APPLE-STRUCTURED-LOCATION;VALUE=URI;X-ADDRESS=The New Children’s Museum 200 W Island Ave San Diego CA 92101 United States;X-APPLE-RADIUS=500;X-TITLE=200 W Island Ave:geo:-117.1651935,32.7106684
END:VEVENT
BEGIN:VEVENT
DTSTART;VALUE=DATE:20240813
DTEND;VALUE=DATE:20240814
DTSTAMP:20260424T063136
CREATED:20240111T183850Z
LAST-MODIFIED:20260202T195312Z
UID:10028064-1723507200-1723593599@thinkplaycreate.org
SUMMARY:Museum Closed
DESCRIPTION:
URL:https://thinkplaycreate.org/event/museum-closed-75/2024-08-13/
LOCATION:The New Children’s Museum\, 200 W Island Ave\, San Diego\, CA\, 92101\, United States
ATTACH;FMTTYPE=image/png:https://thinkplaycreate.org/wp-content/uploads/2016/10/CLOSED.png
GEO:32.7106684;-117.1651935
X-APPLE-STRUCTURED-LOCATION;VALUE=URI;X-ADDRESS=The New Children’s Museum 200 W Island Ave San Diego CA 92101 United States;X-APPLE-RADIUS=500;X-TITLE=200 W Island Ave:geo:-117.1651935,32.7106684
END:VEVENT
BEGIN:VEVENT
DTSTART;TZID=America/Los_Angeles:20240814T100000
DTEND;TZID=America/Los_Angeles:20240814T103000
DTSTAMP:20260424T063136
CREATED:20230825T181258Z
LAST-MODIFIED:20250210T212628Z
UID:10009383-1723629600-1723631400@thinkplaycreate.org
SUMMARY:Joyride Bookshop Story Time
DESCRIPTION:
URL:https://thinkplaycreate.org/event/joyride-bookshop-story-time/2024-08-14/
LOCATION:The New Children’s Museum\, 200 W Island Ave\, San Diego\, CA\, 92101\, United States
GEO:32.7106684;-117.1651935
X-APPLE-STRUCTURED-LOCATION;VALUE=URI;X-ADDRESS=The New Children’s Museum 200 W Island Ave San Diego CA 92101 United States;X-APPLE-RADIUS=500;X-TITLE=200 W Island Ave:geo:-117.1651935,32.7106684
END:VEVENT
BEGIN:VEVENT
DTSTART;VALUE=DATE:20240820
DTEND;VALUE=DATE:20240821
DTSTAMP:20260424T063136
CREATED:20240111T183850Z
LAST-MODIFIED:20260202T195312Z
UID:10028065-1724112000-1724198399@thinkplaycreate.org
SUMMARY:Museum Closed
DESCRIPTION:
URL:https://thinkplaycreate.org/event/museum-closed-75/2024-08-20/
LOCATION:The New Children’s Museum\, 200 W Island Ave\, San Diego\, CA\, 92101\, United States
ATTACH;FMTTYPE=image/png:https://thinkplaycreate.org/wp-content/uploads/2016/10/CLOSED.png
GEO:32.7106684;-117.1651935
X-APPLE-STRUCTURED-LOCATION;VALUE=URI;X-ADDRESS=The New Children’s Museum 200 W Island Ave San Diego CA 92101 United States;X-APPLE-RADIUS=500;X-TITLE=200 W Island Ave:geo:-117.1651935,32.7106684
END:VEVENT
BEGIN:VEVENT
DTSTART;TZID=America/Los_Angeles:20240821T100000
DTEND;TZID=America/Los_Angeles:20240821T103000
DTSTAMP:20260424T063136
CREATED:20230825T181258Z
LAST-MODIFIED:20250210T212628Z
UID:10009384-1724234400-1724236200@thinkplaycreate.org
SUMMARY:Joyride Bookshop Story Time
DESCRIPTION:
URL:https://thinkplaycreate.org/event/joyride-bookshop-story-time/2024-08-21/
LOCATION:The New Children’s Museum\, 200 W Island Ave\, San Diego\, CA\, 92101\, United States
GEO:32.7106684;-117.1651935
X-APPLE-STRUCTURED-LOCATION;VALUE=URI;X-ADDRESS=The New Children’s Museum 200 W Island Ave San Diego CA 92101 United States;X-APPLE-RADIUS=500;X-TITLE=200 W Island Ave:geo:-117.1651935,32.7106684
END:VEVENT
BEGIN:VEVENT
DTSTART;VALUE=DATE:20240827
DTEND;VALUE=DATE:20240828
DTSTAMP:20260424T063136
CREATED:20240111T183850Z
LAST-MODIFIED:20260202T195312Z
UID:10028066-1724716800-1724803199@thinkplaycreate.org
SUMMARY:Museum Closed
DESCRIPTION:
URL:https://thinkplaycreate.org/event/museum-closed-75/2024-08-27/
LOCATION:The New Children’s Museum\, 200 W Island Ave\, San Diego\, CA\, 92101\, United States
ATTACH;FMTTYPE=image/png:https://thinkplaycreate.org/wp-content/uploads/2016/10/CLOSED.png
GEO:32.7106684;-117.1651935
X-APPLE-STRUCTURED-LOCATION;VALUE=URI;X-ADDRESS=The New Children’s Museum 200 W Island Ave San Diego CA 92101 United States;X-APPLE-RADIUS=500;X-TITLE=200 W Island Ave:geo:-117.1651935,32.7106684
END:VEVENT
BEGIN:VEVENT
DTSTART;TZID=America/Los_Angeles:20240828T100000
DTEND;TZID=America/Los_Angeles:20240828T103000
DTSTAMP:20260424T063136
CREATED:20230825T181258Z
LAST-MODIFIED:20250210T212628Z
UID:10009385-1724839200-1724841000@thinkplaycreate.org
SUMMARY:Joyride Bookshop Story Time
DESCRIPTION:
URL:https://thinkplaycreate.org/event/joyride-bookshop-story-time/2024-08-28/
LOCATION:The New Children’s Museum\, 200 W Island Ave\, San Diego\, CA\, 92101\, United States
GEO:32.7106684;-117.1651935
X-APPLE-STRUCTURED-LOCATION;VALUE=URI;X-ADDRESS=The New Children’s Museum 200 W Island Ave San Diego CA 92101 United States;X-APPLE-RADIUS=500;X-TITLE=200 W Island Ave:geo:-117.1651935,32.7106684
END:VEVENT
END:VCALENDAR