BEGIN:VCALENDAR
VERSION:2.0
PRODID:-//The New Children&#039;s Museum - ECPv6.15.18//NONSGML v1.0//EN
CALSCALE:GREGORIAN
METHOD:PUBLISH
X-ORIGINAL-URL:https://thinkplaycreate.org
X-WR-CALDESC:Events for The New Children&#039;s Museum
REFRESH-INTERVAL;VALUE=DURATION:PT1H
X-Robots-Tag:noindex
X-PUBLISHED-TTL:PT1H
BEGIN:VTIMEZONE
TZID:America/Los_Angeles
BEGIN:DAYLIGHT
TZOFFSETFROM:-0800
TZOFFSETTO:-0700
TZNAME:PDT
DTSTART:20230312T100000
END:DAYLIGHT
BEGIN:STANDARD
TZOFFSETFROM:-0700
TZOFFSETTO:-0800
TZNAME:PST
DTSTART:20231105T090000
END:STANDARD
BEGIN:DAYLIGHT
TZOFFSETFROM:-0800
TZOFFSETTO:-0700
TZNAME:PDT
DTSTART:20240310T100000
END:DAYLIGHT
BEGIN:STANDARD
TZOFFSETFROM:-0700
TZOFFSETTO:-0800
TZNAME:PST
DTSTART:20241103T090000
END:STANDARD
BEGIN:DAYLIGHT
TZOFFSETFROM:-0800
TZOFFSETTO:-0700
TZNAME:PDT
DTSTART:20250309T100000
END:DAYLIGHT
BEGIN:STANDARD
TZOFFSETFROM:-0700
TZOFFSETTO:-0800
TZNAME:PST
DTSTART:20251102T090000
END:STANDARD
END:VTIMEZONE
BEGIN:VEVENT
DTSTART;VALUE=DATE:20240604
DTEND;VALUE=DATE:20240605
DTSTAMP:20260422T083403
CREATED:20240111T183850Z
LAST-MODIFIED:20260202T195312Z
UID:10028054-1717459200-1717545599@thinkplaycreate.org
SUMMARY:Museum Closed
DESCRIPTION:
URL:https://thinkplaycreate.org/event/museum-closed-75/2024-06-04/
LOCATION:The New Children’s Museum\, 200 W Island Ave\, San Diego\, CA\, 92101\, United States
ATTACH;FMTTYPE=image/png:https://thinkplaycreate.org/wp-content/uploads/2016/10/CLOSED.png
GEO:32.7106684;-117.1651935
X-APPLE-STRUCTURED-LOCATION;VALUE=URI;X-ADDRESS=The New Children’s Museum 200 W Island Ave San Diego CA 92101 United States;X-APPLE-RADIUS=500;X-TITLE=200 W Island Ave:geo:-117.1651935,32.7106684
END:VEVENT
BEGIN:VEVENT
DTSTART;TZID=America/Los_Angeles:20240605T100000
DTEND;TZID=America/Los_Angeles:20240605T103000
DTSTAMP:20260422T083403
CREATED:20230825T181258Z
LAST-MODIFIED:20250210T212628Z
UID:10009373-1717581600-1717583400@thinkplaycreate.org
SUMMARY:Joyride Bookshop Story Time
DESCRIPTION:
URL:https://thinkplaycreate.org/event/joyride-bookshop-story-time/2024-06-05/
LOCATION:The New Children’s Museum\, 200 W Island Ave\, San Diego\, CA\, 92101\, United States
GEO:32.7106684;-117.1651935
X-APPLE-STRUCTURED-LOCATION;VALUE=URI;X-ADDRESS=The New Children’s Museum 200 W Island Ave San Diego CA 92101 United States;X-APPLE-RADIUS=500;X-TITLE=200 W Island Ave:geo:-117.1651935,32.7106684
END:VEVENT
BEGIN:VEVENT
DTSTART;TZID=America/Los_Angeles:20240608T100000
DTEND;TZID=America/Los_Angeles:20240608T140000
DTSTAMP:20260422T083403
CREATED:20240502T205820Z
LAST-MODIFIED:20240502T205916Z
UID:10034919-1717840800-1717855200@thinkplaycreate.org
SUMMARY:Seed To Tree Workshop With Cecilia Caballero
DESCRIPTION:
URL:https://thinkplaycreate.org/event/seed-to-tree-workshop-with-cecilia-caballero/
LOCATION:The New Children’s Museum\, 200 W Island Ave\, San Diego\, CA\, 92101\, United States
GEO:32.7106684;-117.1651935
X-APPLE-STRUCTURED-LOCATION;VALUE=URI;X-ADDRESS=The New Children’s Museum 200 W Island Ave San Diego CA 92101 United States;X-APPLE-RADIUS=500;X-TITLE=200 W Island Ave:geo:-117.1651935,32.7106684
END:VEVENT
BEGIN:VEVENT
DTSTART;VALUE=DATE:20240611
DTEND;VALUE=DATE:20240612
DTSTAMP:20260422T083403
CREATED:20240111T183850Z
LAST-MODIFIED:20260202T195312Z
UID:10028055-1718064000-1718150399@thinkplaycreate.org
SUMMARY:Museum Closed
DESCRIPTION:
URL:https://thinkplaycreate.org/event/museum-closed-75/2024-06-11/
LOCATION:The New Children’s Museum\, 200 W Island Ave\, San Diego\, CA\, 92101\, United States
ATTACH;FMTTYPE=image/png:https://thinkplaycreate.org/wp-content/uploads/2016/10/CLOSED.png
GEO:32.7106684;-117.1651935
X-APPLE-STRUCTURED-LOCATION;VALUE=URI;X-ADDRESS=The New Children’s Museum 200 W Island Ave San Diego CA 92101 United States;X-APPLE-RADIUS=500;X-TITLE=200 W Island Ave:geo:-117.1651935,32.7106684
END:VEVENT
BEGIN:VEVENT
DTSTART;TZID=America/Los_Angeles:20240612T100000
DTEND;TZID=America/Los_Angeles:20240612T103000
DTSTAMP:20260422T083403
CREATED:20230825T181258Z
LAST-MODIFIED:20250210T212628Z
UID:10009374-1718186400-1718188200@thinkplaycreate.org
SUMMARY:Joyride Bookshop Story Time
DESCRIPTION:
URL:https://thinkplaycreate.org/event/joyride-bookshop-story-time/2024-06-12/
LOCATION:The New Children’s Museum\, 200 W Island Ave\, San Diego\, CA\, 92101\, United States
GEO:32.7106684;-117.1651935
X-APPLE-STRUCTURED-LOCATION;VALUE=URI;X-ADDRESS=The New Children’s Museum 200 W Island Ave San Diego CA 92101 United States;X-APPLE-RADIUS=500;X-TITLE=200 W Island Ave:geo:-117.1651935,32.7106684
END:VEVENT
BEGIN:VEVENT
DTSTART;VALUE=DATE:20240618
DTEND;VALUE=DATE:20240619
DTSTAMP:20260422T083403
CREATED:20240111T183850Z
LAST-MODIFIED:20260202T195312Z
UID:10028056-1718668800-1718755199@thinkplaycreate.org
SUMMARY:Museum Closed
DESCRIPTION:
URL:https://thinkplaycreate.org/event/museum-closed-75/2024-06-18/
LOCATION:The New Children’s Museum\, 200 W Island Ave\, San Diego\, CA\, 92101\, United States
ATTACH;FMTTYPE=image/png:https://thinkplaycreate.org/wp-content/uploads/2016/10/CLOSED.png
GEO:32.7106684;-117.1651935
X-APPLE-STRUCTURED-LOCATION;VALUE=URI;X-ADDRESS=The New Children’s Museum 200 W Island Ave San Diego CA 92101 United States;X-APPLE-RADIUS=500;X-TITLE=200 W Island Ave:geo:-117.1651935,32.7106684
END:VEVENT
BEGIN:VEVENT
DTSTART;TZID=America/Los_Angeles:20240619T100000
DTEND;TZID=America/Los_Angeles:20240619T103000
DTSTAMP:20260422T083403
CREATED:20230825T181258Z
LAST-MODIFIED:20250210T212628Z
UID:10009375-1718791200-1718793000@thinkplaycreate.org
SUMMARY:Joyride Bookshop Story Time
DESCRIPTION:
URL:https://thinkplaycreate.org/event/joyride-bookshop-story-time/2024-06-19/
LOCATION:The New Children’s Museum\, 200 W Island Ave\, San Diego\, CA\, 92101\, United States
GEO:32.7106684;-117.1651935
X-APPLE-STRUCTURED-LOCATION;VALUE=URI;X-ADDRESS=The New Children’s Museum 200 W Island Ave San Diego CA 92101 United States;X-APPLE-RADIUS=500;X-TITLE=200 W Island Ave:geo:-117.1651935,32.7106684
END:VEVENT
BEGIN:VEVENT
DTSTART;TZID=America/Los_Angeles:20240622T090000
DTEND;TZID=America/Los_Angeles:20240622T150000
DTSTAMP:20260422T083403
CREATED:20240408T210820Z
LAST-MODIFIED:20240408T210820Z
UID:10034856-1719046800-1719068400@thinkplaycreate.org
SUMMARY:Mass Creativity Day
DESCRIPTION:
URL:https://thinkplaycreate.org/event/mass-creativity-day-2024/
LOCATION:The New Children’s Museum\, 200 W Island Ave\, San Diego\, CA\, 92101\, United States
CATEGORIES:Museum Event
ATTACH;FMTTYPE=image/jpeg:https://thinkplaycreate.org/wp-content/uploads/2023/05/MCD-092.jpg
GEO:32.7106684;-117.1651935
X-APPLE-STRUCTURED-LOCATION;VALUE=URI;X-ADDRESS=The New Children’s Museum 200 W Island Ave San Diego CA 92101 United States;X-APPLE-RADIUS=500;X-TITLE=200 W Island Ave:geo:-117.1651935,32.7106684
END:VEVENT
BEGIN:VEVENT
DTSTART;VALUE=DATE:20240625
DTEND;VALUE=DATE:20240626
DTSTAMP:20260422T083403
CREATED:20240111T183850Z
LAST-MODIFIED:20260202T195312Z
UID:10028057-1719273600-1719359999@thinkplaycreate.org
SUMMARY:Museum Closed
DESCRIPTION:
URL:https://thinkplaycreate.org/event/museum-closed-75/2024-06-25/
LOCATION:The New Children’s Museum\, 200 W Island Ave\, San Diego\, CA\, 92101\, United States
ATTACH;FMTTYPE=image/png:https://thinkplaycreate.org/wp-content/uploads/2016/10/CLOSED.png
GEO:32.7106684;-117.1651935
X-APPLE-STRUCTURED-LOCATION;VALUE=URI;X-ADDRESS=The New Children’s Museum 200 W Island Ave San Diego CA 92101 United States;X-APPLE-RADIUS=500;X-TITLE=200 W Island Ave:geo:-117.1651935,32.7106684
END:VEVENT
BEGIN:VEVENT
DTSTART;TZID=America/Los_Angeles:20240626T100000
DTEND;TZID=America/Los_Angeles:20240626T103000
DTSTAMP:20260422T083403
CREATED:20230825T181258Z
LAST-MODIFIED:20250210T212628Z
UID:10009376-1719396000-1719397800@thinkplaycreate.org
SUMMARY:Joyride Bookshop Story Time
DESCRIPTION:
URL:https://thinkplaycreate.org/event/joyride-bookshop-story-time/2024-06-26/
LOCATION:The New Children’s Museum\, 200 W Island Ave\, San Diego\, CA\, 92101\, United States
GEO:32.7106684;-117.1651935
X-APPLE-STRUCTURED-LOCATION;VALUE=URI;X-ADDRESS=The New Children’s Museum 200 W Island Ave San Diego CA 92101 United States;X-APPLE-RADIUS=500;X-TITLE=200 W Island Ave:geo:-117.1651935,32.7106684
END:VEVENT
END:VCALENDAR