BEGIN:VCALENDAR
VERSION:2.0
PRODID:-//The New Children&#039;s Museum - ECPv6.15.18//NONSGML v1.0//EN
CALSCALE:GREGORIAN
METHOD:PUBLISH
X-ORIGINAL-URL:https://thinkplaycreate.org
X-WR-CALDESC:Events for The New Children&#039;s Museum
REFRESH-INTERVAL;VALUE=DURATION:PT1H
X-Robots-Tag:noindex
X-PUBLISHED-TTL:PT1H
BEGIN:VTIMEZONE
TZID:America/Los_Angeles
BEGIN:DAYLIGHT
TZOFFSETFROM:-0800
TZOFFSETTO:-0700
TZNAME:PDT
DTSTART:20170312T100000
END:DAYLIGHT
BEGIN:STANDARD
TZOFFSETFROM:-0700
TZOFFSETTO:-0800
TZNAME:PST
DTSTART:20171105T090000
END:STANDARD
BEGIN:DAYLIGHT
TZOFFSETFROM:-0800
TZOFFSETTO:-0700
TZNAME:PDT
DTSTART:20180311T100000
END:DAYLIGHT
BEGIN:STANDARD
TZOFFSETFROM:-0700
TZOFFSETTO:-0800
TZNAME:PST
DTSTART:20181104T090000
END:STANDARD
BEGIN:DAYLIGHT
TZOFFSETFROM:-0800
TZOFFSETTO:-0700
TZNAME:PDT
DTSTART:20190310T100000
END:DAYLIGHT
BEGIN:STANDARD
TZOFFSETFROM:-0700
TZOFFSETTO:-0800
TZNAME:PST
DTSTART:20191103T090000
END:STANDARD
END:VTIMEZONE
BEGIN:VEVENT
DTSTART;VALUE=DATE:20181204
DTEND;VALUE=DATE:20181205
DTSTAMP:20260424T120100
CREATED:20180815T190206Z
LAST-MODIFIED:20180824T210918Z
UID:10004170-1543881600-1543967999@thinkplaycreate.org
SUMMARY:Museum Closed
DESCRIPTION:
URL:https://thinkplaycreate.org/event/museum-closed-19/2018-12-04/
LOCATION:CA
ATTACH;FMTTYPE=image/png:https://thinkplaycreate.org/wp-content/uploads/2016/10/CLOSED.png
END:VEVENT
BEGIN:VEVENT
DTSTART;TZID=America/Los_Angeles:20181207T100000
DTEND;TZID=America/Los_Angeles:20181207T110000
DTSTAMP:20260424T120100
CREATED:20180624T235858Z
LAST-MODIFIED:20180808T213907Z
UID:10003666-1544176800-1544180400@thinkplaycreate.org
SUMMARY:ScholarShare 529 Toddler Time: Story Time
DESCRIPTION:
URL:https://thinkplaycreate.org/event/scholar-share-529-toddler-time-story-time-4/
LOCATION:CA
CATEGORIES:Toddler Time
ATTACH;FMTTYPE=image/jpeg:https://thinkplaycreate.org/wp-content/uploads/2017/01/NCM-Toddler-Time-Story-Time-5-of-17.jpg
END:VEVENT
BEGIN:VEVENT
DTSTART;TZID=America/Los_Angeles:20181207T200000
DTEND;TZID=America/Los_Angeles:20181207T200000
DTSTAMP:20260424T120100
CREATED:20180925T184325Z
LAST-MODIFIED:20181121T210754Z
UID:10004261-1544212800-1544212800@thinkplaycreate.org
SUMMARY:Drink Play Create: A Holiday Party
DESCRIPTION:
URL:https://thinkplaycreate.org/event/drink-play-create-3/
LOCATION:CA
CATEGORIES:Museum Event
ATTACH;FMTTYPE=image/jpeg:https://thinkplaycreate.org/wp-content/uploads/2016/09/NCM-Drink-Play-Create-29-of-33.jpg
END:VEVENT
BEGIN:VEVENT
DTSTART;TZID=America/Los_Angeles:20181208T093000
DTEND;TZID=America/Los_Angeles:20181209T160000
DTSTAMP:20260424T120100
CREATED:20181129T190606Z
LAST-MODIFIED:20181129T190724Z
UID:10004281-1544261400-1544371200@thinkplaycreate.org
SUMMARY:Member Holiday Shopping Sale
DESCRIPTION:
URL:https://thinkplaycreate.org/event/member-holiday-shopping-sale-2/
LOCATION:CA
CATEGORIES:Members Event
ATTACH;FMTTYPE=image/jpeg:https://thinkplaycreate.org/wp-content/uploads/2018/03/store-1.jpg
END:VEVENT
BEGIN:VEVENT
DTSTART;TZID=America/Los_Angeles:20181209T100000
DTEND;TZID=America/Los_Angeles:20181209T110000
DTSTAMP:20260424T120100
CREATED:20181026T200635Z
LAST-MODIFIED:20181026T200727Z
UID:10003681-1544349600-1544353200@thinkplaycreate.org
SUMMARY:Member Holiday Concert
DESCRIPTION:
URL:https://thinkplaycreate.org/event/member-holiday-concert/
LOCATION:CA
CATEGORIES:Members Event
ATTACH;FMTTYPE=image/jpeg:https://thinkplaycreate.org/wp-content/uploads/2018/10/61ZiMnWfcGL._SS500.jpg
END:VEVENT
BEGIN:VEVENT
DTSTART;VALUE=DATE:20181211
DTEND;VALUE=DATE:20181212
DTSTAMP:20260424T120100
CREATED:20180815T190206Z
LAST-MODIFIED:20180824T210918Z
UID:10004171-1544486400-1544572799@thinkplaycreate.org
SUMMARY:Museum Closed
DESCRIPTION:
URL:https://thinkplaycreate.org/event/museum-closed-19/2018-12-11/
LOCATION:CA
ATTACH;FMTTYPE=image/png:https://thinkplaycreate.org/wp-content/uploads/2016/10/CLOSED.png
END:VEVENT
BEGIN:VEVENT
DTSTART;TZID=America/Los_Angeles:20181214T100000
DTEND;TZID=America/Los_Angeles:20181214T110000
DTSTAMP:20260424T120100
CREATED:20180624T235939Z
LAST-MODIFIED:20181126T165348Z
UID:10003668-1544781600-1544785200@thinkplaycreate.org
SUMMARY:ScholarShare 529 Toddler Time: Sound and Color
DESCRIPTION:
URL:https://thinkplaycreate.org/event/scholar-share-529-toddler-time-make-friends-4/
LOCATION:CA
CATEGORIES:Toddler Time
ATTACH;FMTTYPE=image/jpeg:https://thinkplaycreate.org/wp-content/uploads/2016/10/NCM-Toddler-Time-Make-Friends-3-of-17.jpg
END:VEVENT
BEGIN:VEVENT
DTSTART;VALUE=DATE:20181218
DTEND;VALUE=DATE:20181219
DTSTAMP:20260424T120100
CREATED:20180815T190206Z
LAST-MODIFIED:20180824T210918Z
UID:10004172-1545091200-1545177599@thinkplaycreate.org
SUMMARY:Museum Closed
DESCRIPTION:
URL:https://thinkplaycreate.org/event/museum-closed-19/2018-12-18/
LOCATION:CA
ATTACH;FMTTYPE=image/png:https://thinkplaycreate.org/wp-content/uploads/2016/10/CLOSED.png
END:VEVENT
BEGIN:VEVENT
DTSTART;TZID=America/Los_Angeles:20181221T090000
DTEND;TZID=America/Los_Angeles:20181221T160000
DTSTAMP:20260424T120100
CREATED:20181128T211637Z
LAST-MODIFIED:20181128T211852Z
UID:10004263-1545382800-1545408000@thinkplaycreate.org
SUMMARY:Winter Camp: Memories and Mementos
DESCRIPTION:
URL:https://thinkplaycreate.org/event/winter-camp-memories-and-mementos/
LOCATION:CA
CATEGORIES:Camp
ATTACH;FMTTYPE=image/jpeg:https://thinkplaycreate.org/wp-content/uploads/2018/01/NCM-Winter-Break-Camps-32-of-34web.jpg
END:VEVENT
BEGIN:VEVENT
DTSTART;TZID=America/Los_Angeles:20181221T100000
DTEND;TZID=America/Los_Angeles:20181221T110000
DTSTAMP:20260424T120100
CREATED:20180625T000033Z
LAST-MODIFIED:20190111T165636Z
UID:10003670-1545386400-1545390000@thinkplaycreate.org
SUMMARY:ScholarShare 529 Toddler Time: Sights\, Sounds + Textures
DESCRIPTION:
URL:https://thinkplaycreate.org/event/scholar-share-529-toddler-time-sights-sounds-textures-4/
LOCATION:CA
CATEGORIES:Toddler Time
ATTACH;FMTTYPE=image/jpeg:https://thinkplaycreate.org/wp-content/uploads/2016/10/P1010640.jpg
END:VEVENT
BEGIN:VEVENT
DTSTART;VALUE=DATE:20181224
DTEND;VALUE=DATE:20181225
DTSTAMP:20260424T120100
CREATED:20180119T003628Z
LAST-MODIFIED:20180119T003628Z
UID:10003606-1545609600-1545695999@thinkplaycreate.org
SUMMARY:Museum Closed
DESCRIPTION:
URL:https://thinkplaycreate.org/event/museum-closed-18/
LOCATION:CA
CATEGORIES:Museum Event
ATTACH;FMTTYPE=image/png:https://thinkplaycreate.org/wp-content/uploads/2016/10/CLOSED.png
END:VEVENT
BEGIN:VEVENT
DTSTART;VALUE=DATE:20181225
DTEND;VALUE=DATE:20181226
DTSTAMP:20260424T120100
CREATED:20180815T190206Z
LAST-MODIFIED:20180824T210918Z
UID:10004173-1545696000-1545782399@thinkplaycreate.org
SUMMARY:Museum Closed
DESCRIPTION:
URL:https://thinkplaycreate.org/event/museum-closed-19/2018-12-25/
LOCATION:CA
ATTACH;FMTTYPE=image/png:https://thinkplaycreate.org/wp-content/uploads/2016/10/CLOSED.png
END:VEVENT
BEGIN:VEVENT
DTSTART;TZID=America/Los_Angeles:20181226T090000
DTEND;TZID=America/Los_Angeles:20181226T160000
DTSTAMP:20260424T120100
CREATED:20181128T212125Z
LAST-MODIFIED:20181128T212125Z
UID:10004265-1545814800-1545840000@thinkplaycreate.org
SUMMARY:Winter Camp: Space Adventure
DESCRIPTION:
URL:https://thinkplaycreate.org/event/winter-camp-space-adventure/
LOCATION:CA
CATEGORIES:Camp
ATTACH;FMTTYPE=image/jpeg:https://thinkplaycreate.org/wp-content/uploads/2016/06/NCM-Winter-Break-Camps-18-of-34-1.jpg
END:VEVENT
BEGIN:VEVENT
DTSTART;TZID=America/Los_Angeles:20181227T090000
DTEND;TZID=America/Los_Angeles:20181227T160000
DTSTAMP:20260424T120100
CREATED:20181128T212731Z
LAST-MODIFIED:20181128T212731Z
UID:10004267-1545901200-1545926400@thinkplaycreate.org
SUMMARY:Winter Camp: Cosmic Cuisine
DESCRIPTION:
URL:https://thinkplaycreate.org/event/winter-camp-cosmic-cuisine/
LOCATION:CA
CATEGORIES:Camp
ATTACH;FMTTYPE=image/jpeg:https://thinkplaycreate.org/wp-content/uploads/2018/09/IMG_2265.jpg
END:VEVENT
BEGIN:VEVENT
DTSTART;TZID=America/Los_Angeles:20181228T090000
DTEND;TZID=America/Los_Angeles:20181228T160000
DTSTAMP:20260424T120100
CREATED:20181128T212856Z
LAST-MODIFIED:20181128T212856Z
UID:10004275-1545987600-1546012800@thinkplaycreate.org
SUMMARY:Winter Camp: Alien Encounters
DESCRIPTION:
URL:https://thinkplaycreate.org/event/winter-camp-alien-encounters/
LOCATION:CA
CATEGORIES:Camp
ATTACH;FMTTYPE=image/jpeg:https://thinkplaycreate.org/wp-content/uploads/2018/02/NCM-Winter-Break-Camps-24-of-34.jpg
END:VEVENT
BEGIN:VEVENT
DTSTART;TZID=America/Los_Angeles:20181228T100000
DTEND;TZID=America/Los_Angeles:20181228T110000
DTSTAMP:20260424T120100
CREATED:20180625T000111Z
LAST-MODIFIED:20180808T213950Z
UID:10003671-1545991200-1545994800@thinkplaycreate.org
SUMMARY:ScholarShare 529 Toddler Time: Finger Painting
DESCRIPTION:
URL:https://thinkplaycreate.org/event/scholar-share-529-toddler-time-finger-painting-4/
LOCATION:CA
CATEGORIES:Toddler Time
ATTACH;FMTTYPE=image/jpeg:https://thinkplaycreate.org/wp-content/uploads/2017/08/2015-fingerpainting-cruz.jpg
END:VEVENT
BEGIN:VEVENT
DTSTART;TZID=America/Los_Angeles:20181229T173000
DTEND;TZID=America/Los_Angeles:20181229T203000
DTSTAMP:20260424T120100
CREATED:20181024T165350Z
LAST-MODIFIED:20181024T165350Z
UID:10003680-1546104600-1546115400@thinkplaycreate.org
SUMMARY:Honda Family Night Out: Pajama Jam
DESCRIPTION:
URL:https://thinkplaycreate.org/event/honda-family-night-out-pajama-jam/
LOCATION:CA
CATEGORIES:Museum Event
ATTACH;FMTTYPE=image/jpeg:https://thinkplaycreate.org/wp-content/uploads/2016/06/DSC6859.jpg
END:VEVENT
BEGIN:VEVENT
DTSTART;TZID=America/Los_Angeles:20181231T090000
DTEND;TZID=America/Los_Angeles:20181231T160000
DTSTAMP:20260424T120100
CREATED:20181128T213025Z
LAST-MODIFIED:20181128T213025Z
UID:10004277-1546246800-1546272000@thinkplaycreate.org
SUMMARY:Winter Camp: DIY NYE!
DESCRIPTION:
URL:https://thinkplaycreate.org/event/winter-camp-diy-nye/
LOCATION:CA
CATEGORIES:Camp
ATTACH;FMTTYPE=image/jpeg:https://thinkplaycreate.org/wp-content/uploads/2016/07/IMG_2303.jpg
END:VEVENT
END:VCALENDAR