BEGIN:VCALENDAR
VERSION:2.0
PRODID:-//The New Children&#039;s Museum - ECPv6.15.18//NONSGML v1.0//EN
CALSCALE:GREGORIAN
METHOD:PUBLISH
X-ORIGINAL-URL:https://thinkplaycreate.org
X-WR-CALDESC:Events for The New Children&#039;s Museum
REFRESH-INTERVAL;VALUE=DURATION:PT1H
X-Robots-Tag:noindex
X-PUBLISHED-TTL:PT1H
BEGIN:VTIMEZONE
TZID:America/Los_Angeles
BEGIN:DAYLIGHT
TZOFFSETFROM:-0800
TZOFFSETTO:-0700
TZNAME:PDT
DTSTART:20170312T100000
END:DAYLIGHT
BEGIN:STANDARD
TZOFFSETFROM:-0700
TZOFFSETTO:-0800
TZNAME:PST
DTSTART:20171105T090000
END:STANDARD
BEGIN:DAYLIGHT
TZOFFSETFROM:-0800
TZOFFSETTO:-0700
TZNAME:PDT
DTSTART:20180311T100000
END:DAYLIGHT
BEGIN:STANDARD
TZOFFSETFROM:-0700
TZOFFSETTO:-0800
TZNAME:PST
DTSTART:20181104T090000
END:STANDARD
BEGIN:DAYLIGHT
TZOFFSETFROM:-0800
TZOFFSETTO:-0700
TZNAME:PDT
DTSTART:20190310T100000
END:DAYLIGHT
BEGIN:STANDARD
TZOFFSETFROM:-0700
TZOFFSETTO:-0800
TZNAME:PST
DTSTART:20191103T090000
END:STANDARD
END:VTIMEZONE
BEGIN:VEVENT
DTSTART;TZID=America/Los_Angeles:20180730T090000
DTEND;TZID=America/Los_Angeles:20180803T160000
DTSTAMP:20260423T202521
CREATED:20180422T201835Z
LAST-MODIFIED:20180422T201835Z
UID:10003917-1532941200-1533312000@thinkplaycreate.org
SUMMARY:Camps for Littles: Story Makers
DESCRIPTION:
URL:https://thinkplaycreate.org/event/camps-for-littles-story-makers/
LOCATION:CA
CATEGORIES:Camp
ATTACH;FMTTYPE=image/jpeg:https://thinkplaycreate.org/wp-content/uploads/2016/04/alice-reading.jpg
END:VEVENT
BEGIN:VEVENT
DTSTART;TZID=America/Los_Angeles:20180730T090000
DTEND;TZID=America/Los_Angeles:20180803T160000
DTSTAMP:20260423T202521
CREATED:20180422T203439Z
LAST-MODIFIED:20180422T203439Z
UID:10003629-1532941200-1533312000@thinkplaycreate.org
SUMMARY:Pioneer Camps: Kids Cook!
DESCRIPTION:
URL:https://thinkplaycreate.org/event/pioneer-camps-kids-cook/
LOCATION:CA
CATEGORIES:Camp
ATTACH;FMTTYPE=image/jpeg:https://thinkplaycreate.org/wp-content/uploads/2016/06/NCM-Eat-Better-Art-4-of-6.jpg
END:VEVENT
BEGIN:VEVENT
DTSTART;TZID=America/Los_Angeles:20180730T090000
DTEND;TZID=America/Los_Angeles:20180803T160000
DTSTAMP:20260423T202521
CREATED:20180422T204103Z
LAST-MODIFIED:20180422T204103Z
UID:10003638-1532941200-1533312000@thinkplaycreate.org
SUMMARY:Explorer Camps: Art Underground
DESCRIPTION:
URL:https://thinkplaycreate.org/event/explorer-camps-art-underground/
LOCATION:CA
CATEGORIES:Camp
ATTACH;FMTTYPE=image/jpeg:https://thinkplaycreate.org/wp-content/uploads/2018/02/Webp.net-resizeimage-7.jpg
END:VEVENT
BEGIN:VEVENT
DTSTART;TZID=America/Los_Angeles:20180803T100000
DTEND;TZID=America/Los_Angeles:20180803T110000
DTSTAMP:20260423T202521
CREATED:20180622T233917Z
LAST-MODIFIED:20180622T233917Z
UID:10004106-1533290400-1533294000@thinkplaycreate.org
SUMMARY:ScholarShare 529 Toddler Time: Story Time
DESCRIPTION:
URL:https://thinkplaycreate.org/event/scholarshare-529-toddler-time-story-time-5/
LOCATION:CA
CATEGORIES:Toddler Time
ATTACH;FMTTYPE=image/jpeg:https://thinkplaycreate.org/wp-content/uploads/2017/01/NCM-Toddler-Time-Story-Time-5-of-17.jpg
END:VEVENT
BEGIN:VEVENT
DTSTART;TZID=America/Los_Angeles:20180803T100000
DTEND;TZID=America/Los_Angeles:20180803T140000
DTSTAMP:20260423T202521
CREATED:20180719T174158Z
LAST-MODIFIED:20180719T210800Z
UID:10003673-1533290400-1533304800@thinkplaycreate.org
SUMMARY:The Ecology Center: Road Trip at the Museum
DESCRIPTION:
URL:https://thinkplaycreate.org/event/the-ecology-center-road-trip-at-the-museum/2018-08-03/
LOCATION:CA
CATEGORIES:Workshop
ATTACH;FMTTYPE=image/jpeg:https://thinkplaycreate.org/wp-content/uploads/2018/07/RT-encinitas-launch_CamrynClair_15.jpg
END:VEVENT
BEGIN:VEVENT
DTSTART;TZID=America/Los_Angeles:20180804T100000
DTEND;TZID=America/Los_Angeles:20180804T140000
DTSTAMP:20260423T202521
CREATED:20180719T174158Z
LAST-MODIFIED:20180719T210800Z
UID:10003674-1533376800-1533391200@thinkplaycreate.org
SUMMARY:The Ecology Center: Road Trip at the Museum
DESCRIPTION:
URL:https://thinkplaycreate.org/event/the-ecology-center-road-trip-at-the-museum/2018-08-04/
LOCATION:CA
CATEGORIES:Workshop
ATTACH;FMTTYPE=image/jpeg:https://thinkplaycreate.org/wp-content/uploads/2018/07/RT-encinitas-launch_CamrynClair_15.jpg
END:VEVENT
BEGIN:VEVENT
DTSTART;TZID=America/Los_Angeles:20180805T100000
DTEND;TZID=America/Los_Angeles:20180805T140000
DTSTAMP:20260423T202521
CREATED:20180719T174158Z
LAST-MODIFIED:20180719T210800Z
UID:10003675-1533463200-1533477600@thinkplaycreate.org
SUMMARY:The Ecology Center: Road Trip at the Museum
DESCRIPTION:
URL:https://thinkplaycreate.org/event/the-ecology-center-road-trip-at-the-museum/2018-08-05/
LOCATION:CA
CATEGORIES:Workshop
ATTACH;FMTTYPE=image/jpeg:https://thinkplaycreate.org/wp-content/uploads/2018/07/RT-encinitas-launch_CamrynClair_15.jpg
END:VEVENT
BEGIN:VEVENT
DTSTART;VALUE=DATE:20180806
DTEND;VALUE=DATE:20180807
DTSTAMP:20260423T202521
CREATED:20180422T200221Z
LAST-MODIFIED:20180422T200221Z
UID:10003902-1533513600-1533599999@thinkplaycreate.org
SUMMARY:Two-gether Camp: Music Makers
DESCRIPTION:
URL:https://thinkplaycreate.org/event/two-gether-camp-music-makers/2018-08-06/
LOCATION:CA
CATEGORIES:Camp
ATTACH;FMTTYPE=image/jpeg:https://thinkplaycreate.org/wp-content/uploads/2016/09/Little-Learners-Little-Maestros-2-of-3.jpg
END:VEVENT
BEGIN:VEVENT
DTSTART;TZID=America/Los_Angeles:20180806T090000
DTEND;TZID=America/Los_Angeles:20180810T160000
DTSTAMP:20260423T202521
CREATED:20180422T202006Z
LAST-MODIFIED:20180422T202006Z
UID:10003919-1533546000-1533916800@thinkplaycreate.org
SUMMARY:Camps for Littles: Community Helpers
DESCRIPTION:
URL:https://thinkplaycreate.org/event/camps-for-littles-community-helpers/
LOCATION:CA
CATEGORIES:Camp
ATTACH;FMTTYPE=image/jpeg:https://thinkplaycreate.org/wp-content/uploads/2016/10/Toddler-Time-1-of-1.jpg
END:VEVENT
BEGIN:VEVENT
DTSTART;TZID=America/Los_Angeles:20180806T090000
DTEND;TZID=America/Los_Angeles:20180810T160000
DTSTAMP:20260423T202521
CREATED:20180422T203535Z
LAST-MODIFIED:20180422T203535Z
UID:10003631-1533546000-1533916800@thinkplaycreate.org
SUMMARY:Pioneer Camps: Cover to Cover
DESCRIPTION:
URL:https://thinkplaycreate.org/event/pioneer-camps-cover-to-cover/
LOCATION:CA
CATEGORIES:Camp
ATTACH;FMTTYPE=image/jpeg:https://thinkplaycreate.org/wp-content/uploads/2016/04/book.jpg
END:VEVENT
BEGIN:VEVENT
DTSTART;VALUE=DATE:20180808
DTEND;VALUE=DATE:20180809
DTSTAMP:20260423T202521
CREATED:20180422T200221Z
LAST-MODIFIED:20180422T200221Z
UID:10003903-1533686400-1533772799@thinkplaycreate.org
SUMMARY:Two-gether Camp: Music Makers
DESCRIPTION:
URL:https://thinkplaycreate.org/event/two-gether-camp-music-makers/2018-08-08/
LOCATION:CA
CATEGORIES:Camp
ATTACH;FMTTYPE=image/jpeg:https://thinkplaycreate.org/wp-content/uploads/2016/09/Little-Learners-Little-Maestros-2-of-3.jpg
END:VEVENT
BEGIN:VEVENT
DTSTART;VALUE=DATE:20180810
DTEND;VALUE=DATE:20180811
DTSTAMP:20260423T202521
CREATED:20180422T200221Z
LAST-MODIFIED:20180422T200221Z
UID:10003904-1533859200-1533945599@thinkplaycreate.org
SUMMARY:Two-gether Camp: Music Makers
DESCRIPTION:
URL:https://thinkplaycreate.org/event/two-gether-camp-music-makers/2018-08-10/
LOCATION:CA
CATEGORIES:Camp
ATTACH;FMTTYPE=image/jpeg:https://thinkplaycreate.org/wp-content/uploads/2016/09/Little-Learners-Little-Maestros-2-of-3.jpg
END:VEVENT
BEGIN:VEVENT
DTSTART;TZID=America/Los_Angeles:20180810T100000
DTEND;TZID=America/Los_Angeles:20180810T110000
DTSTAMP:20260423T202521
CREATED:20180622T234239Z
LAST-MODIFIED:20180622T234239Z
UID:10004107-1533895200-1533898800@thinkplaycreate.org
SUMMARY:ScholarShare 529 Toddler Time: Make Friends
DESCRIPTION:
URL:https://thinkplaycreate.org/event/scholarshare-529-toddler-time-make-friends-2/
LOCATION:CA
CATEGORIES:Toddler Time
ATTACH;FMTTYPE=image/jpeg:https://thinkplaycreate.org/wp-content/uploads/2016/10/P1010640.jpg
END:VEVENT
BEGIN:VEVENT
DTSTART;TZID=America/Los_Angeles:20180813T090000
DTEND;TZID=America/Los_Angeles:20180817T160000
DTSTAMP:20260423T202521
CREATED:20180422T202127Z
LAST-MODIFIED:20180422T202127Z
UID:10003921-1534150800-1534521600@thinkplaycreate.org
SUMMARY:Camps for Littles: Play Cafe
DESCRIPTION:
URL:https://thinkplaycreate.org/event/camps-for-littles-play-cafe/
LOCATION:CA
CATEGORIES:Camp
ATTACH;FMTTYPE=image/jpeg:https://thinkplaycreate.org/wp-content/uploads/2016/06/NCM-Eat-Better-Art-1-of-6.jpg
END:VEVENT
BEGIN:VEVENT
DTSTART;TZID=America/Los_Angeles:20180813T090000
DTEND;TZID=America/Los_Angeles:20180817T160000
DTSTAMP:20260423T202521
CREATED:20180422T203639Z
LAST-MODIFIED:20180422T203639Z
UID:10003633-1534150800-1534521600@thinkplaycreate.org
SUMMARY:Pioneer Camps: Fiber Art Fun / Space Adventure
DESCRIPTION:
URL:https://thinkplaycreate.org/event/pioneer-camps-fiber-art-fun-space-adventure/
LOCATION:CA
CATEGORIES:Camp
ATTACH;FMTTYPE=image/jpeg:https://thinkplaycreate.org/wp-content/uploads/2017/05/NCM-Community-Gallery-12-of-17.jpg
END:VEVENT
BEGIN:VEVENT
DTSTART;TZID=America/Los_Angeles:20180817T100000
DTEND;TZID=America/Los_Angeles:20180817T110000
DTSTAMP:20260423T202521
CREATED:20180622T234607Z
LAST-MODIFIED:20180622T234607Z
UID:10004108-1534500000-1534503600@thinkplaycreate.org
SUMMARY:ScholarShare 529 Toddler Time: Sights\, Sounds & Textures
DESCRIPTION:
URL:https://thinkplaycreate.org/event/scholarshare-529-toddler-time-sights-sounds-textures-5/
LOCATION:CA
CATEGORIES:Toddler Time
ATTACH;FMTTYPE=image/jpeg:https://thinkplaycreate.org/wp-content/uploads/2016/10/Toddler-Time-1-of-1.jpg
END:VEVENT
BEGIN:VEVENT
DTSTART;TZID=America/Los_Angeles:20180824T100000
DTEND;TZID=America/Los_Angeles:20180824T110000
DTSTAMP:20260423T202521
CREATED:20180622T234704Z
LAST-MODIFIED:20180622T234704Z
UID:10004109-1535104800-1535108400@thinkplaycreate.org
SUMMARY:ScholarShare 529 Toddler Time: Boogie Down
DESCRIPTION:
URL:https://thinkplaycreate.org/event/scholarshare-529-toddler-time-boogie-down/
LOCATION:CA
CATEGORIES:Toddler Time
ATTACH;FMTTYPE=image/jpeg:https://thinkplaycreate.org/wp-content/uploads/2016/10/P1010714.jpg
END:VEVENT
BEGIN:VEVENT
DTSTART;TZID=America/Los_Angeles:20180825T080000
DTEND;TZID=America/Los_Angeles:20180825T093000
DTSTAMP:20260423T202521
CREATED:20180719T200748Z
LAST-MODIFIED:20180719T200748Z
UID:10004148-1535184000-1535189400@thinkplaycreate.org
SUMMARY:Accessibility Morning
DESCRIPTION:  \n  \n 
URL:https://thinkplaycreate.org/event/accessibility-morning/
LOCATION:CA
CATEGORIES:Museum Event
ATTACH;FMTTYPE=image/jpeg:https://thinkplaycreate.org/wp-content/uploads/2016/09/NCM-Miki-1-of-1.jpg
END:VEVENT
BEGIN:VEVENT
DTSTART;TZID=America/Los_Angeles:20180831T100000
DTEND;TZID=America/Los_Angeles:20180831T110000
DTSTAMP:20260423T202521
CREATED:20180622T234756Z
LAST-MODIFIED:20180622T234756Z
UID:10004111-1535709600-1535713200@thinkplaycreate.org
SUMMARY:ScholarShare 529 Toddler Time: Finger Painting
DESCRIPTION:
URL:https://thinkplaycreate.org/event/scholarshare-529-toddler-time-finger-painting-2/
LOCATION:CA
CATEGORIES:Toddler Time
ATTACH;FMTTYPE=image/jpeg:https://thinkplaycreate.org/wp-content/uploads/2017/08/2015-fingerpainting-cruz.jpg
END:VEVENT
END:VCALENDAR