BEGIN:VCALENDAR
VERSION:2.0
PRODID:-//The New Children&#039;s Museum - ECPv6.15.18//NONSGML v1.0//EN
CALSCALE:GREGORIAN
METHOD:PUBLISH
X-ORIGINAL-URL:https://thinkplaycreate.org
X-WR-CALDESC:Events for The New Children&#039;s Museum
REFRESH-INTERVAL;VALUE=DURATION:PT1H
X-Robots-Tag:noindex
X-PUBLISHED-TTL:PT1H
BEGIN:VTIMEZONE
TZID:America/Los_Angeles
BEGIN:DAYLIGHT
TZOFFSETFROM:-0800
TZOFFSETTO:-0700
TZNAME:PDT
DTSTART:20170312T100000
END:DAYLIGHT
BEGIN:STANDARD
TZOFFSETFROM:-0700
TZOFFSETTO:-0800
TZNAME:PST
DTSTART:20171105T090000
END:STANDARD
BEGIN:DAYLIGHT
TZOFFSETFROM:-0800
TZOFFSETTO:-0700
TZNAME:PDT
DTSTART:20180311T100000
END:DAYLIGHT
BEGIN:STANDARD
TZOFFSETFROM:-0700
TZOFFSETTO:-0800
TZNAME:PST
DTSTART:20181104T090000
END:STANDARD
BEGIN:DAYLIGHT
TZOFFSETFROM:-0800
TZOFFSETTO:-0700
TZNAME:PDT
DTSTART:20190310T100000
END:DAYLIGHT
BEGIN:STANDARD
TZOFFSETFROM:-0700
TZOFFSETTO:-0800
TZNAME:PST
DTSTART:20191103T090000
END:STANDARD
END:VTIMEZONE
BEGIN:VEVENT
DTSTART;VALUE=DATE:20180401
DTEND;VALUE=DATE:20180402
DTSTAMP:20260423T094637
CREATED:20180120T205912Z
LAST-MODIFIED:20180120T205912Z
UID:10003899-1522540800-1522627199@thinkplaycreate.org
SUMMARY:Museum Closed
DESCRIPTION:
URL:https://thinkplaycreate.org/event/museum-closed-17/
LOCATION:CA
CATEGORIES:Museum Event
ATTACH;FMTTYPE=image/png:https://thinkplaycreate.org/wp-content/uploads/2016/10/CLOSED.png
END:VEVENT
BEGIN:VEVENT
DTSTART;TZID=America/Los_Angeles:20180402T093000
DTEND;TZID=America/Los_Angeles:20180402T103000
DTSTAMP:20260423T094637
CREATED:20180317T234643Z
LAST-MODIFIED:20180331T231240Z
UID:10003613-1522661400-1522665000@thinkplaycreate.org
SUMMARY:Little Learners Club: Little Picassos
DESCRIPTION:
URL:https://thinkplaycreate.org/event/little-learners-club-little-picassos-5/2018-04-02/
LOCATION:CA
CATEGORIES:Museum Event
ATTACH;FMTTYPE=image/jpeg:https://thinkplaycreate.org/wp-content/uploads/2016/09/Little-Picassos-Logo-copy.jpg
END:VEVENT
BEGIN:VEVENT
DTSTART;TZID=America/Los_Angeles:20180406T100000
DTEND;TZID=America/Los_Angeles:20180406T110000
DTSTAMP:20260423T094637
CREATED:20180423T170041Z
LAST-MODIFIED:20180423T170041Z
UID:10003640-1523008800-1523012400@thinkplaycreate.org
SUMMARY:ScholarShare 529 Toddler Time: Story Time
DESCRIPTION:
URL:https://thinkplaycreate.org/event/scholarshare-529-toddler-time-story-time/
LOCATION:CA
CATEGORIES:Toddler Time
ATTACH;FMTTYPE=image/jpeg:https://thinkplaycreate.org/wp-content/uploads/2017/08/NCM-Toddler-Time-Story-Time-8-of-17.jpg
END:VEVENT
BEGIN:VEVENT
DTSTART;TZID=America/Los_Angeles:20180406T190000
DTEND;TZID=America/Los_Angeles:20180406T230000
DTSTAMP:20260423T094637
CREATED:20180210T005146Z
LAST-MODIFIED:20180210T005422Z
UID:10003608-1523041200-1523055600@thinkplaycreate.org
SUMMARY:Drink Play Create: Flashback Friday
DESCRIPTION:
URL:https://thinkplaycreate.org/event/drink-play-create-flashback-friday/
LOCATION:CA
CATEGORIES:Museum Event
ATTACH;FMTTYPE=image/jpeg:https://thinkplaycreate.org/wp-content/uploads/2016/06/Light-Blue-02.jpg
END:VEVENT
BEGIN:VEVENT
DTSTART;TZID=America/Los_Angeles:20180409T090000
DTEND;TZID=America/Los_Angeles:20180409T160000
DTSTAMP:20260423T094637
CREATED:20180120T204904Z
LAST-MODIFIED:20180120T205729Z
UID:10003889-1523264400-1523289600@thinkplaycreate.org
SUMMARY:Camp: Intro to Fiber Arts
DESCRIPTION:
URL:https://thinkplaycreate.org/event/camp-intro-to-fiber-arts/2018-04-09/
LOCATION:CA
CATEGORIES:Camp
ATTACH;FMTTYPE=image/jpeg:https://thinkplaycreate.org/wp-content/uploads/2017/05/NCM-Community-Gallery-12-of-17.jpg
END:VEVENT
BEGIN:VEVENT
DTSTART;TZID=America/Los_Angeles:20180409T093000
DTEND;TZID=America/Los_Angeles:20180409T103000
DTSTAMP:20260423T094637
CREATED:20180317T234643Z
LAST-MODIFIED:20180331T231240Z
UID:10003614-1523266200-1523269800@thinkplaycreate.org
SUMMARY:Little Learners Club: Little Picassos
DESCRIPTION:
URL:https://thinkplaycreate.org/event/little-learners-club-little-picassos-5/2018-04-09/
LOCATION:CA
CATEGORIES:Museum Event
ATTACH;FMTTYPE=image/jpeg:https://thinkplaycreate.org/wp-content/uploads/2016/09/Little-Picassos-Logo-copy.jpg
END:VEVENT
BEGIN:VEVENT
DTSTART;TZID=America/Los_Angeles:20180410T090000
DTEND;TZID=America/Los_Angeles:20180410T160000
DTSTAMP:20260423T094637
CREATED:20180120T205044Z
LAST-MODIFIED:20180120T205701Z
UID:10003891-1523350800-1523376000@thinkplaycreate.org
SUMMARY:Camp: Adventures in Color
DESCRIPTION:
URL:https://thinkplaycreate.org/event/camp-adventures-in-color/2018-04-10/
LOCATION:CA
CATEGORIES:Camp
ATTACH;FMTTYPE=image/jpeg:https://thinkplaycreate.org/wp-content/uploads/2016/06/NCM-Winter-Break-Camps-18-of-34-1.jpg
END:VEVENT
BEGIN:VEVENT
DTSTART;TZID=America/Los_Angeles:20180411T090000
DTEND;TZID=America/Los_Angeles:20180411T160000
DTSTAMP:20260423T094637
CREATED:20180120T205152Z
LAST-MODIFIED:20180120T205633Z
UID:10003894-1523437200-1523462400@thinkplaycreate.org
SUMMARY:Camp: Art in the Kitchen
DESCRIPTION:
URL:https://thinkplaycreate.org/event/camp-art-in-the-kitchen/2018-04-11/
LOCATION:CA
CATEGORIES:Camp
ATTACH;FMTTYPE=image/jpeg:https://thinkplaycreate.org/wp-content/uploads/2016/06/NCM-Eat-Better-Art-1-of-6.jpg
END:VEVENT
BEGIN:VEVENT
DTSTART;TZID=America/Los_Angeles:20180412T090000
DTEND;TZID=America/Los_Angeles:20180412T160000
DTSTAMP:20260423T094637
CREATED:20180120T205302Z
LAST-MODIFIED:20180120T205604Z
UID:10003896-1523523600-1523548800@thinkplaycreate.org
SUMMARY:Camp: Comic Book Art
DESCRIPTION:
URL:https://thinkplaycreate.org/event/camp-comic-book-art/2018-04-12/
LOCATION:CA
CATEGORIES:Camp
ATTACH;FMTTYPE=image/jpeg:https://thinkplaycreate.org/wp-content/uploads/2016/09/NCM-Innovators-Lab-2-of-13.jpg
END:VEVENT
BEGIN:VEVENT
DTSTART;TZID=America/Los_Angeles:20180413T090000
DTEND;TZID=America/Los_Angeles:20180413T160000
DTSTAMP:20260423T094637
CREATED:20180120T205425Z
LAST-MODIFIED:20180120T205521Z
UID:10003898-1523610000-1523635200@thinkplaycreate.org
SUMMARY:Camp: Wacky Portrait Studio
DESCRIPTION:
URL:https://thinkplaycreate.org/event/camp-wacky-portrait-studio/2018-04-13/
LOCATION:CA
CATEGORIES:Camp
ATTACH;FMTTYPE=image/jpeg:https://thinkplaycreate.org/wp-content/uploads/2017/02/IMG_3657.jpg
END:VEVENT
BEGIN:VEVENT
DTSTART;TZID=America/Los_Angeles:20180413T100000
DTEND;TZID=America/Los_Angeles:20180413T110000
DTSTAMP:20260423T094637
CREATED:20180423T170156Z
LAST-MODIFIED:20180423T170156Z
UID:10003642-1523613600-1523617200@thinkplaycreate.org
SUMMARY:ScholarShare 529 Toddler Time: Make Friends\, with Live Guitar
DESCRIPTION:
URL:https://thinkplaycreate.org/event/scholarshare-529-toddler-time-make-friends-with-live-guitar/
LOCATION:CA
CATEGORIES:Toddler Time
ATTACH;FMTTYPE=image/jpeg:https://thinkplaycreate.org/wp-content/uploads/2016/10/P1010714.jpg
END:VEVENT
BEGIN:VEVENT
DTSTART;TZID=America/Los_Angeles:20180416T093000
DTEND;TZID=America/Los_Angeles:20180416T103000
DTSTAMP:20260423T094637
CREATED:20180317T234643Z
LAST-MODIFIED:20180331T231240Z
UID:10003615-1523871000-1523874600@thinkplaycreate.org
SUMMARY:Little Learners Club: Little Picassos
DESCRIPTION:
URL:https://thinkplaycreate.org/event/little-learners-club-little-picassos-5/2018-04-16/
LOCATION:CA
CATEGORIES:Museum Event
ATTACH;FMTTYPE=image/jpeg:https://thinkplaycreate.org/wp-content/uploads/2016/09/Little-Picassos-Logo-copy.jpg
END:VEVENT
BEGIN:VEVENT
DTSTART;VALUE=DATE:20180417
DTEND;VALUE=DATE:20180418
DTSTAMP:20260423T094637
CREATED:20180119T001534Z
LAST-MODIFIED:20180119T003029Z
UID:10003599-1523923200-1524009599@thinkplaycreate.org
SUMMARY:Museum Closed
DESCRIPTION:
URL:https://thinkplaycreate.org/event/museum-closed-14/2018-04-17/
LOCATION:CA
CATEGORIES:Museum Event
ATTACH;FMTTYPE=image/png:https://thinkplaycreate.org/wp-content/uploads/2016/10/CLOSED.png
END:VEVENT
BEGIN:VEVENT
DTSTART;TZID=America/Los_Angeles:20180420T100000
DTEND;TZID=America/Los_Angeles:20180420T110000
DTSTAMP:20260423T094637
CREATED:20180423T170248Z
LAST-MODIFIED:20190111T165752Z
UID:10003644-1524218400-1524222000@thinkplaycreate.org
SUMMARY:ScholarShare 529 Toddler Time: Sights\, Sounds + Textures
DESCRIPTION:
URL:https://thinkplaycreate.org/event/scholarshare-529-toddler-time-sights-sounds-textures/
LOCATION:CA
CATEGORIES:Toddler Time
ATTACH;FMTTYPE=image/jpeg:https://thinkplaycreate.org/wp-content/uploads/2016/10/Toddler-Time-1-of-1.jpg
END:VEVENT
BEGIN:VEVENT
DTSTART;TZID=America/Los_Angeles:20180423T093000
DTEND;TZID=America/Los_Angeles:20180423T103000
DTSTAMP:20260423T094637
CREATED:20180317T234643Z
LAST-MODIFIED:20180331T231240Z
UID:10003616-1524475800-1524479400@thinkplaycreate.org
SUMMARY:Little Learners Club: Little Picassos
DESCRIPTION:
URL:https://thinkplaycreate.org/event/little-learners-club-little-picassos-5/2018-04-23/
LOCATION:CA
CATEGORIES:Museum Event
ATTACH;FMTTYPE=image/jpeg:https://thinkplaycreate.org/wp-content/uploads/2016/09/Little-Picassos-Logo-copy.jpg
END:VEVENT
BEGIN:VEVENT
DTSTART;VALUE=DATE:20180424
DTEND;VALUE=DATE:20180425
DTSTAMP:20260423T094637
CREATED:20180119T001534Z
LAST-MODIFIED:20180119T003029Z
UID:10003600-1524528000-1524614399@thinkplaycreate.org
SUMMARY:Museum Closed
DESCRIPTION:
URL:https://thinkplaycreate.org/event/museum-closed-14/2018-04-24/
LOCATION:CA
CATEGORIES:Museum Event
ATTACH;FMTTYPE=image/png:https://thinkplaycreate.org/wp-content/uploads/2016/10/CLOSED.png
END:VEVENT
BEGIN:VEVENT
DTSTART;TZID=America/Los_Angeles:20180427T100000
DTEND;TZID=America/Los_Angeles:20180427T110000
DTSTAMP:20260423T094637
CREATED:20180423T170331Z
LAST-MODIFIED:20180423T170331Z
UID:10003646-1524823200-1524826800@thinkplaycreate.org
SUMMARY:ScholarShare 529 Toddler Time: Finger Painting Friday
DESCRIPTION:
URL:https://thinkplaycreate.org/event/scholarshare-529-toddler-time-finger-painting-friday-2/
LOCATION:CA
CATEGORIES:Toddler Time
ATTACH;FMTTYPE=image/jpeg:https://thinkplaycreate.org/wp-content/uploads/2017/08/2015-fingerpainting-cruz.jpg
END:VEVENT
END:VCALENDAR