BEGIN:VCALENDAR
VERSION:2.0
PRODID:-//The New Children&#039;s Museum - ECPv6.15.18//NONSGML v1.0//EN
CALSCALE:GREGORIAN
METHOD:PUBLISH
X-WR-CALNAME:The New Children&#039;s Museum
X-ORIGINAL-URL:https://thinkplaycreate.org
X-WR-CALDESC:Events for The New Children&#039;s Museum
REFRESH-INTERVAL;VALUE=DURATION:PT1H
X-Robots-Tag:noindex
X-PUBLISHED-TTL:PT1H
BEGIN:VTIMEZONE
TZID:America/Los_Angeles
BEGIN:DAYLIGHT
TZOFFSETFROM:-0800
TZOFFSETTO:-0700
TZNAME:PDT
DTSTART:20250309T100000
END:DAYLIGHT
BEGIN:STANDARD
TZOFFSETFROM:-0700
TZOFFSETTO:-0800
TZNAME:PST
DTSTART:20251102T090000
END:STANDARD
BEGIN:DAYLIGHT
TZOFFSETFROM:-0800
TZOFFSETTO:-0700
TZNAME:PDT
DTSTART:20260308T100000
END:DAYLIGHT
BEGIN:STANDARD
TZOFFSETFROM:-0700
TZOFFSETTO:-0800
TZNAME:PST
DTSTART:20261101T090000
END:STANDARD
BEGIN:DAYLIGHT
TZOFFSETFROM:-0800
TZOFFSETTO:-0700
TZNAME:PDT
DTSTART:20270314T100000
END:DAYLIGHT
BEGIN:STANDARD
TZOFFSETFROM:-0700
TZOFFSETTO:-0800
TZNAME:PST
DTSTART:20271107T090000
END:STANDARD
END:VTIMEZONE
BEGIN:VEVENT
DTSTART;TZID=America/Los_Angeles:20260902T100000
DTEND;TZID=America/Los_Angeles:20260902T103000
DTSTAMP:20260424T090000
CREATED:20260408T191840Z
LAST-MODIFIED:20260408T191840Z
UID:10044650-1788343200-1788345000@thinkplaycreate.org
SUMMARY:Toddler Time
DESCRIPTION:
URL:https://thinkplaycreate.org/event/toddler-time-2/
LOCATION:The New Children’s Museum\, 200 W Island Ave\, San Diego\, CA\, 92101\, United States
CATEGORIES:Toddler Time
ATTACH;FMTTYPE=image/jpeg:https://thinkplaycreate.org/wp-content/uploads/2021/10/Toddler-Time-Finger-Painting.jpg
GEO:32.7106684;-117.1651935
X-APPLE-STRUCTURED-LOCATION;VALUE=URI;X-ADDRESS=The New Children’s Museum 200 W Island Ave San Diego CA 92101 United States;X-APPLE-RADIUS=500;X-TITLE=200 W Island Ave:geo:-117.1651935,32.7106684
END:VEVENT
BEGIN:VEVENT
DTSTART;TZID=America/Los_Angeles:20260902T110000
DTEND;TZID=America/Los_Angeles:20260902T113000
DTSTAMP:20260424T090000
CREATED:20250826T230325Z
LAST-MODIFIED:20260408T182117Z
UID:10044298-1788346800-1788348600@thinkplaycreate.org
SUMMARY:Toddler Time
DESCRIPTION:
URL:https://thinkplaycreate.org/event/toddler-time-3-2-2-2/2026-09-02/
LOCATION:The New Children’s Museum\, 200 W Island Ave\, San Diego\, CA\, 92101\, United States
CATEGORIES:Toddler Time
ATTACH;FMTTYPE=image/jpeg:https://thinkplaycreate.org/wp-content/uploads/2021/10/Toddler-Time-Finger-Painting.jpg
GEO:32.7106684;-117.1651935
X-APPLE-STRUCTURED-LOCATION;VALUE=URI;X-ADDRESS=The New Children’s Museum 200 W Island Ave San Diego CA 92101 United States;X-APPLE-RADIUS=500;X-TITLE=200 W Island Ave:geo:-117.1651935,32.7106684
END:VEVENT
BEGIN:VEVENT
DTSTART;TZID=America/Los_Angeles:20260904T100000
DTEND;TZID=America/Los_Angeles:20260904T103000
DTSTAMP:20260424T090000
CREATED:20260408T191840Z
LAST-MODIFIED:20260408T191840Z
UID:10044651-1788516000-1788517800@thinkplaycreate.org
SUMMARY:Toddler Time
DESCRIPTION:
URL:https://thinkplaycreate.org/event/toddler-time-2/
LOCATION:The New Children’s Museum\, 200 W Island Ave\, San Diego\, CA\, 92101\, United States
CATEGORIES:Toddler Time
ATTACH;FMTTYPE=image/jpeg:https://thinkplaycreate.org/wp-content/uploads/2021/10/Toddler-Time-Finger-Painting.jpg
GEO:32.7106684;-117.1651935
X-APPLE-STRUCTURED-LOCATION;VALUE=URI;X-ADDRESS=The New Children’s Museum 200 W Island Ave San Diego CA 92101 United States;X-APPLE-RADIUS=500;X-TITLE=200 W Island Ave:geo:-117.1651935,32.7106684
END:VEVENT
BEGIN:VEVENT
DTSTART;TZID=America/Los_Angeles:20260904T110000
DTEND;TZID=America/Los_Angeles:20260904T113000
DTSTAMP:20260424T090000
CREATED:20250826T230325Z
LAST-MODIFIED:20260408T182117Z
UID:10041320-1788519600-1788521400@thinkplaycreate.org
SUMMARY:Toddler Time
DESCRIPTION:
URL:https://thinkplaycreate.org/event/toddler-time-3-2-2-2/2026-09-04/
LOCATION:The New Children’s Museum\, 200 W Island Ave\, San Diego\, CA\, 92101\, United States
CATEGORIES:Toddler Time
ATTACH;FMTTYPE=image/jpeg:https://thinkplaycreate.org/wp-content/uploads/2021/10/Toddler-Time-Finger-Painting.jpg
GEO:32.7106684;-117.1651935
X-APPLE-STRUCTURED-LOCATION;VALUE=URI;X-ADDRESS=The New Children’s Museum 200 W Island Ave San Diego CA 92101 United States;X-APPLE-RADIUS=500;X-TITLE=200 W Island Ave:geo:-117.1651935,32.7106684
END:VEVENT
BEGIN:VEVENT
DTSTART;TZID=America/Los_Angeles:20260909T100000
DTEND;TZID=America/Los_Angeles:20260909T103000
DTSTAMP:20260424T090000
CREATED:20260408T191840Z
LAST-MODIFIED:20260408T191840Z
UID:10044652-1788948000-1788949800@thinkplaycreate.org
SUMMARY:Toddler Time
DESCRIPTION:
URL:https://thinkplaycreate.org/event/toddler-time-2/
LOCATION:The New Children’s Museum\, 200 W Island Ave\, San Diego\, CA\, 92101\, United States
CATEGORIES:Toddler Time
ATTACH;FMTTYPE=image/jpeg:https://thinkplaycreate.org/wp-content/uploads/2021/10/Toddler-Time-Finger-Painting.jpg
GEO:32.7106684;-117.1651935
X-APPLE-STRUCTURED-LOCATION;VALUE=URI;X-ADDRESS=The New Children’s Museum 200 W Island Ave San Diego CA 92101 United States;X-APPLE-RADIUS=500;X-TITLE=200 W Island Ave:geo:-117.1651935,32.7106684
END:VEVENT
BEGIN:VEVENT
DTSTART;TZID=America/Los_Angeles:20260909T110000
DTEND;TZID=America/Los_Angeles:20260909T113000
DTSTAMP:20260424T090000
CREATED:20250826T230325Z
LAST-MODIFIED:20260408T182117Z
UID:10044299-1788951600-1788953400@thinkplaycreate.org
SUMMARY:Toddler Time
DESCRIPTION:
URL:https://thinkplaycreate.org/event/toddler-time-3-2-2-2/2026-09-09/
LOCATION:The New Children’s Museum\, 200 W Island Ave\, San Diego\, CA\, 92101\, United States
CATEGORIES:Toddler Time
ATTACH;FMTTYPE=image/jpeg:https://thinkplaycreate.org/wp-content/uploads/2021/10/Toddler-Time-Finger-Painting.jpg
GEO:32.7106684;-117.1651935
X-APPLE-STRUCTURED-LOCATION;VALUE=URI;X-ADDRESS=The New Children’s Museum 200 W Island Ave San Diego CA 92101 United States;X-APPLE-RADIUS=500;X-TITLE=200 W Island Ave:geo:-117.1651935,32.7106684
END:VEVENT
BEGIN:VEVENT
DTSTART;TZID=America/Los_Angeles:20260911T100000
DTEND;TZID=America/Los_Angeles:20260911T103000
DTSTAMP:20260424T090000
CREATED:20260408T191840Z
LAST-MODIFIED:20260408T191840Z
UID:10044653-1789120800-1789122600@thinkplaycreate.org
SUMMARY:Toddler Time
DESCRIPTION:
URL:https://thinkplaycreate.org/event/toddler-time-2/
LOCATION:The New Children’s Museum\, 200 W Island Ave\, San Diego\, CA\, 92101\, United States
CATEGORIES:Toddler Time
ATTACH;FMTTYPE=image/jpeg:https://thinkplaycreate.org/wp-content/uploads/2021/10/Toddler-Time-Finger-Painting.jpg
GEO:32.7106684;-117.1651935
X-APPLE-STRUCTURED-LOCATION;VALUE=URI;X-ADDRESS=The New Children’s Museum 200 W Island Ave San Diego CA 92101 United States;X-APPLE-RADIUS=500;X-TITLE=200 W Island Ave:geo:-117.1651935,32.7106684
END:VEVENT
BEGIN:VEVENT
DTSTART;TZID=America/Los_Angeles:20260911T110000
DTEND;TZID=America/Los_Angeles:20260911T113000
DTSTAMP:20260424T090000
CREATED:20250826T230325Z
LAST-MODIFIED:20260408T182117Z
UID:10041321-1789124400-1789126200@thinkplaycreate.org
SUMMARY:Toddler Time
DESCRIPTION:
URL:https://thinkplaycreate.org/event/toddler-time-3-2-2-2/2026-09-11/
LOCATION:The New Children’s Museum\, 200 W Island Ave\, San Diego\, CA\, 92101\, United States
CATEGORIES:Toddler Time
ATTACH;FMTTYPE=image/jpeg:https://thinkplaycreate.org/wp-content/uploads/2021/10/Toddler-Time-Finger-Painting.jpg
GEO:32.7106684;-117.1651935
X-APPLE-STRUCTURED-LOCATION;VALUE=URI;X-ADDRESS=The New Children’s Museum 200 W Island Ave San Diego CA 92101 United States;X-APPLE-RADIUS=500;X-TITLE=200 W Island Ave:geo:-117.1651935,32.7106684
END:VEVENT
BEGIN:VEVENT
DTSTART;TZID=America/Los_Angeles:20260916T100000
DTEND;TZID=America/Los_Angeles:20260916T103000
DTSTAMP:20260424T090000
CREATED:20260408T191840Z
LAST-MODIFIED:20260408T191840Z
UID:10044654-1789552800-1789554600@thinkplaycreate.org
SUMMARY:Toddler Time
DESCRIPTION:
URL:https://thinkplaycreate.org/event/toddler-time-2/
LOCATION:The New Children’s Museum\, 200 W Island Ave\, San Diego\, CA\, 92101\, United States
CATEGORIES:Toddler Time
ATTACH;FMTTYPE=image/jpeg:https://thinkplaycreate.org/wp-content/uploads/2021/10/Toddler-Time-Finger-Painting.jpg
GEO:32.7106684;-117.1651935
X-APPLE-STRUCTURED-LOCATION;VALUE=URI;X-ADDRESS=The New Children’s Museum 200 W Island Ave San Diego CA 92101 United States;X-APPLE-RADIUS=500;X-TITLE=200 W Island Ave:geo:-117.1651935,32.7106684
END:VEVENT
BEGIN:VEVENT
DTSTART;TZID=America/Los_Angeles:20260916T110000
DTEND;TZID=America/Los_Angeles:20260916T113000
DTSTAMP:20260424T090000
CREATED:20250826T230325Z
LAST-MODIFIED:20260408T182117Z
UID:10044300-1789556400-1789558200@thinkplaycreate.org
SUMMARY:Toddler Time
DESCRIPTION:
URL:https://thinkplaycreate.org/event/toddler-time-3-2-2-2/2026-09-16/
LOCATION:The New Children’s Museum\, 200 W Island Ave\, San Diego\, CA\, 92101\, United States
CATEGORIES:Toddler Time
ATTACH;FMTTYPE=image/jpeg:https://thinkplaycreate.org/wp-content/uploads/2021/10/Toddler-Time-Finger-Painting.jpg
GEO:32.7106684;-117.1651935
X-APPLE-STRUCTURED-LOCATION;VALUE=URI;X-ADDRESS=The New Children’s Museum 200 W Island Ave San Diego CA 92101 United States;X-APPLE-RADIUS=500;X-TITLE=200 W Island Ave:geo:-117.1651935,32.7106684
END:VEVENT
BEGIN:VEVENT
DTSTART;TZID=America/Los_Angeles:20260918T100000
DTEND;TZID=America/Los_Angeles:20260918T103000
DTSTAMP:20260424T090000
CREATED:20260408T191840Z
LAST-MODIFIED:20260408T191840Z
UID:10044655-1789725600-1789727400@thinkplaycreate.org
SUMMARY:Toddler Time
DESCRIPTION:
URL:https://thinkplaycreate.org/event/toddler-time-2/
LOCATION:The New Children’s Museum\, 200 W Island Ave\, San Diego\, CA\, 92101\, United States
CATEGORIES:Toddler Time
ATTACH;FMTTYPE=image/jpeg:https://thinkplaycreate.org/wp-content/uploads/2021/10/Toddler-Time-Finger-Painting.jpg
GEO:32.7106684;-117.1651935
X-APPLE-STRUCTURED-LOCATION;VALUE=URI;X-ADDRESS=The New Children’s Museum 200 W Island Ave San Diego CA 92101 United States;X-APPLE-RADIUS=500;X-TITLE=200 W Island Ave:geo:-117.1651935,32.7106684
END:VEVENT
BEGIN:VEVENT
DTSTART;TZID=America/Los_Angeles:20260918T110000
DTEND;TZID=America/Los_Angeles:20260918T113000
DTSTAMP:20260424T090000
CREATED:20250826T230325Z
LAST-MODIFIED:20260408T182117Z
UID:10041322-1789729200-1789731000@thinkplaycreate.org
SUMMARY:Toddler Time
DESCRIPTION:
URL:https://thinkplaycreate.org/event/toddler-time-3-2-2-2/2026-09-18/
LOCATION:The New Children’s Museum\, 200 W Island Ave\, San Diego\, CA\, 92101\, United States
CATEGORIES:Toddler Time
ATTACH;FMTTYPE=image/jpeg:https://thinkplaycreate.org/wp-content/uploads/2021/10/Toddler-Time-Finger-Painting.jpg
GEO:32.7106684;-117.1651935
X-APPLE-STRUCTURED-LOCATION;VALUE=URI;X-ADDRESS=The New Children’s Museum 200 W Island Ave San Diego CA 92101 United States;X-APPLE-RADIUS=500;X-TITLE=200 W Island Ave:geo:-117.1651935,32.7106684
END:VEVENT
BEGIN:VEVENT
DTSTART;TZID=America/Los_Angeles:20260923T100000
DTEND;TZID=America/Los_Angeles:20260923T103000
DTSTAMP:20260424T090000
CREATED:20260408T191840Z
LAST-MODIFIED:20260408T191840Z
UID:10044656-1790157600-1790159400@thinkplaycreate.org
SUMMARY:Toddler Time
DESCRIPTION:
URL:https://thinkplaycreate.org/event/toddler-time-2/
LOCATION:The New Children’s Museum\, 200 W Island Ave\, San Diego\, CA\, 92101\, United States
CATEGORIES:Toddler Time
ATTACH;FMTTYPE=image/jpeg:https://thinkplaycreate.org/wp-content/uploads/2021/10/Toddler-Time-Finger-Painting.jpg
GEO:32.7106684;-117.1651935
X-APPLE-STRUCTURED-LOCATION;VALUE=URI;X-ADDRESS=The New Children’s Museum 200 W Island Ave San Diego CA 92101 United States;X-APPLE-RADIUS=500;X-TITLE=200 W Island Ave:geo:-117.1651935,32.7106684
END:VEVENT
BEGIN:VEVENT
DTSTART;TZID=America/Los_Angeles:20260923T110000
DTEND;TZID=America/Los_Angeles:20260923T113000
DTSTAMP:20260424T090000
CREATED:20250826T230325Z
LAST-MODIFIED:20260408T182117Z
UID:10044301-1790161200-1790163000@thinkplaycreate.org
SUMMARY:Toddler Time
DESCRIPTION:
URL:https://thinkplaycreate.org/event/toddler-time-3-2-2-2/2026-09-23/
LOCATION:The New Children’s Museum\, 200 W Island Ave\, San Diego\, CA\, 92101\, United States
CATEGORIES:Toddler Time
ATTACH;FMTTYPE=image/jpeg:https://thinkplaycreate.org/wp-content/uploads/2021/10/Toddler-Time-Finger-Painting.jpg
GEO:32.7106684;-117.1651935
X-APPLE-STRUCTURED-LOCATION;VALUE=URI;X-ADDRESS=The New Children’s Museum 200 W Island Ave San Diego CA 92101 United States;X-APPLE-RADIUS=500;X-TITLE=200 W Island Ave:geo:-117.1651935,32.7106684
END:VEVENT
BEGIN:VEVENT
DTSTART;TZID=America/Los_Angeles:20260925T100000
DTEND;TZID=America/Los_Angeles:20260925T103000
DTSTAMP:20260424T090000
CREATED:20260408T191840Z
LAST-MODIFIED:20260408T191840Z
UID:10044657-1790330400-1790332200@thinkplaycreate.org
SUMMARY:Toddler Time
DESCRIPTION:
URL:https://thinkplaycreate.org/event/toddler-time-2/
LOCATION:The New Children’s Museum\, 200 W Island Ave\, San Diego\, CA\, 92101\, United States
CATEGORIES:Toddler Time
ATTACH;FMTTYPE=image/jpeg:https://thinkplaycreate.org/wp-content/uploads/2021/10/Toddler-Time-Finger-Painting.jpg
GEO:32.7106684;-117.1651935
X-APPLE-STRUCTURED-LOCATION;VALUE=URI;X-ADDRESS=The New Children’s Museum 200 W Island Ave San Diego CA 92101 United States;X-APPLE-RADIUS=500;X-TITLE=200 W Island Ave:geo:-117.1651935,32.7106684
END:VEVENT
BEGIN:VEVENT
DTSTART;TZID=America/Los_Angeles:20260925T110000
DTEND;TZID=America/Los_Angeles:20260925T113000
DTSTAMP:20260424T090000
CREATED:20250826T230325Z
LAST-MODIFIED:20260408T182117Z
UID:10041323-1790334000-1790335800@thinkplaycreate.org
SUMMARY:Toddler Time
DESCRIPTION:
URL:https://thinkplaycreate.org/event/toddler-time-3-2-2-2/2026-09-25/
LOCATION:The New Children’s Museum\, 200 W Island Ave\, San Diego\, CA\, 92101\, United States
CATEGORIES:Toddler Time
ATTACH;FMTTYPE=image/jpeg:https://thinkplaycreate.org/wp-content/uploads/2021/10/Toddler-Time-Finger-Painting.jpg
GEO:32.7106684;-117.1651935
X-APPLE-STRUCTURED-LOCATION;VALUE=URI;X-ADDRESS=The New Children’s Museum 200 W Island Ave San Diego CA 92101 United States;X-APPLE-RADIUS=500;X-TITLE=200 W Island Ave:geo:-117.1651935,32.7106684
END:VEVENT
BEGIN:VEVENT
DTSTART;TZID=America/Los_Angeles:20260930T100000
DTEND;TZID=America/Los_Angeles:20260930T103000
DTSTAMP:20260424T090000
CREATED:20260408T191840Z
LAST-MODIFIED:20260408T191840Z
UID:10044658-1790762400-1790764200@thinkplaycreate.org
SUMMARY:Toddler Time
DESCRIPTION:
URL:https://thinkplaycreate.org/event/toddler-time-2/
LOCATION:The New Children’s Museum\, 200 W Island Ave\, San Diego\, CA\, 92101\, United States
CATEGORIES:Toddler Time
ATTACH;FMTTYPE=image/jpeg:https://thinkplaycreate.org/wp-content/uploads/2021/10/Toddler-Time-Finger-Painting.jpg
GEO:32.7106684;-117.1651935
X-APPLE-STRUCTURED-LOCATION;VALUE=URI;X-ADDRESS=The New Children’s Museum 200 W Island Ave San Diego CA 92101 United States;X-APPLE-RADIUS=500;X-TITLE=200 W Island Ave:geo:-117.1651935,32.7106684
END:VEVENT
BEGIN:VEVENT
DTSTART;TZID=America/Los_Angeles:20260930T110000
DTEND;TZID=America/Los_Angeles:20260930T113000
DTSTAMP:20260424T090000
CREATED:20250826T230325Z
LAST-MODIFIED:20260408T182117Z
UID:10044302-1790766000-1790767800@thinkplaycreate.org
SUMMARY:Toddler Time
DESCRIPTION:
URL:https://thinkplaycreate.org/event/toddler-time-3-2-2-2/2026-09-30/
LOCATION:The New Children’s Museum\, 200 W Island Ave\, San Diego\, CA\, 92101\, United States
CATEGORIES:Toddler Time
ATTACH;FMTTYPE=image/jpeg:https://thinkplaycreate.org/wp-content/uploads/2021/10/Toddler-Time-Finger-Painting.jpg
GEO:32.7106684;-117.1651935
X-APPLE-STRUCTURED-LOCATION;VALUE=URI;X-ADDRESS=The New Children’s Museum 200 W Island Ave San Diego CA 92101 United States;X-APPLE-RADIUS=500;X-TITLE=200 W Island Ave:geo:-117.1651935,32.7106684
END:VEVENT
END:VCALENDAR