BEGIN:VCALENDAR
VERSION:2.0
PRODID:-//The New Children&#039;s Museum - ECPv6.15.18//NONSGML v1.0//EN
CALSCALE:GREGORIAN
METHOD:PUBLISH
X-WR-CALNAME:The New Children&#039;s Museum
X-ORIGINAL-URL:https://thinkplaycreate.org
X-WR-CALDESC:Events for The New Children&#039;s Museum
REFRESH-INTERVAL;VALUE=DURATION:PT1H
X-Robots-Tag:noindex
X-PUBLISHED-TTL:PT1H
BEGIN:VTIMEZONE
TZID:America/Los_Angeles
BEGIN:DAYLIGHT
TZOFFSETFROM:-0800
TZOFFSETTO:-0700
TZNAME:PDT
DTSTART:20250309T100000
END:DAYLIGHT
BEGIN:STANDARD
TZOFFSETFROM:-0700
TZOFFSETTO:-0800
TZNAME:PST
DTSTART:20251102T090000
END:STANDARD
BEGIN:DAYLIGHT
TZOFFSETFROM:-0800
TZOFFSETTO:-0700
TZNAME:PDT
DTSTART:20260308T100000
END:DAYLIGHT
BEGIN:STANDARD
TZOFFSETFROM:-0700
TZOFFSETTO:-0800
TZNAME:PST
DTSTART:20261101T090000
END:STANDARD
BEGIN:DAYLIGHT
TZOFFSETFROM:-0800
TZOFFSETTO:-0700
TZNAME:PDT
DTSTART:20270314T100000
END:DAYLIGHT
BEGIN:STANDARD
TZOFFSETFROM:-0700
TZOFFSETTO:-0800
TZNAME:PST
DTSTART:20271107T090000
END:STANDARD
END:VTIMEZONE
BEGIN:VEVENT
DTSTART;TZID=America/Los_Angeles:20260102T100000
DTEND;TZID=America/Los_Angeles:20260102T103000
DTSTAMP:20260422T152542
CREATED:20260408T191840Z
LAST-MODIFIED:20260408T191840Z
UID:10044581-1767348000-1767349800@thinkplaycreate.org
SUMMARY:Toddler Time
DESCRIPTION:
URL:https://thinkplaycreate.org/event/toddler-time-2/
LOCATION:The New Children’s Museum\, 200 W Island Ave\, San Diego\, CA\, 92101\, United States
CATEGORIES:Toddler Time
ATTACH;FMTTYPE=image/jpeg:https://thinkplaycreate.org/wp-content/uploads/2021/10/Toddler-Time-Finger-Painting.jpg
GEO:32.7106684;-117.1651935
X-APPLE-STRUCTURED-LOCATION;VALUE=URI;X-ADDRESS=The New Children’s Museum 200 W Island Ave San Diego CA 92101 United States;X-APPLE-RADIUS=500;X-TITLE=200 W Island Ave:geo:-117.1651935,32.7106684
END:VEVENT
BEGIN:VEVENT
DTSTART;TZID=America/Los_Angeles:20260102T110000
DTEND;TZID=America/Los_Angeles:20260102T113000
DTSTAMP:20260422T152542
CREATED:20250826T230325Z
LAST-MODIFIED:20260408T182117Z
UID:10041285-1767351600-1767353400@thinkplaycreate.org
SUMMARY:Toddler Time
DESCRIPTION:
URL:https://thinkplaycreate.org/event/toddler-time-3-2-2-2/2026-01-02/
LOCATION:The New Children’s Museum\, 200 W Island Ave\, San Diego\, CA\, 92101\, United States
CATEGORIES:Toddler Time
ATTACH;FMTTYPE=image/jpeg:https://thinkplaycreate.org/wp-content/uploads/2021/10/Toddler-Time-Finger-Painting.jpg
GEO:32.7106684;-117.1651935
X-APPLE-STRUCTURED-LOCATION;VALUE=URI;X-ADDRESS=The New Children’s Museum 200 W Island Ave San Diego CA 92101 United States;X-APPLE-RADIUS=500;X-TITLE=200 W Island Ave:geo:-117.1651935,32.7106684
END:VEVENT
BEGIN:VEVENT
DTSTART;TZID=America/Los_Angeles:20260107T100000
DTEND;TZID=America/Los_Angeles:20260107T103000
DTSTAMP:20260422T152542
CREATED:20260408T191840Z
LAST-MODIFIED:20260408T191840Z
UID:10044582-1767780000-1767781800@thinkplaycreate.org
SUMMARY:Toddler Time
DESCRIPTION:
URL:https://thinkplaycreate.org/event/toddler-time-2/
LOCATION:The New Children’s Museum\, 200 W Island Ave\, San Diego\, CA\, 92101\, United States
CATEGORIES:Toddler Time
ATTACH;FMTTYPE=image/jpeg:https://thinkplaycreate.org/wp-content/uploads/2021/10/Toddler-Time-Finger-Painting.jpg
GEO:32.7106684;-117.1651935
X-APPLE-STRUCTURED-LOCATION;VALUE=URI;X-ADDRESS=The New Children’s Museum 200 W Island Ave San Diego CA 92101 United States;X-APPLE-RADIUS=500;X-TITLE=200 W Island Ave:geo:-117.1651935,32.7106684
END:VEVENT
BEGIN:VEVENT
DTSTART;TZID=America/Los_Angeles:20260107T110000
DTEND;TZID=America/Los_Angeles:20260107T113000
DTSTAMP:20260422T152542
CREATED:20250826T230325Z
LAST-MODIFIED:20260408T182117Z
UID:10044264-1767783600-1767785400@thinkplaycreate.org
SUMMARY:Toddler Time
DESCRIPTION:
URL:https://thinkplaycreate.org/event/toddler-time-3-2-2-2/2026-01-07/
LOCATION:The New Children’s Museum\, 200 W Island Ave\, San Diego\, CA\, 92101\, United States
CATEGORIES:Toddler Time
ATTACH;FMTTYPE=image/jpeg:https://thinkplaycreate.org/wp-content/uploads/2021/10/Toddler-Time-Finger-Painting.jpg
GEO:32.7106684;-117.1651935
X-APPLE-STRUCTURED-LOCATION;VALUE=URI;X-ADDRESS=The New Children’s Museum 200 W Island Ave San Diego CA 92101 United States;X-APPLE-RADIUS=500;X-TITLE=200 W Island Ave:geo:-117.1651935,32.7106684
END:VEVENT
BEGIN:VEVENT
DTSTART;TZID=America/Los_Angeles:20260109T100000
DTEND;TZID=America/Los_Angeles:20260109T103000
DTSTAMP:20260422T152542
CREATED:20260408T191840Z
LAST-MODIFIED:20260408T191840Z
UID:10044583-1767952800-1767954600@thinkplaycreate.org
SUMMARY:Toddler Time
DESCRIPTION:
URL:https://thinkplaycreate.org/event/toddler-time-2/
LOCATION:The New Children’s Museum\, 200 W Island Ave\, San Diego\, CA\, 92101\, United States
CATEGORIES:Toddler Time
ATTACH;FMTTYPE=image/jpeg:https://thinkplaycreate.org/wp-content/uploads/2021/10/Toddler-Time-Finger-Painting.jpg
GEO:32.7106684;-117.1651935
X-APPLE-STRUCTURED-LOCATION;VALUE=URI;X-ADDRESS=The New Children’s Museum 200 W Island Ave San Diego CA 92101 United States;X-APPLE-RADIUS=500;X-TITLE=200 W Island Ave:geo:-117.1651935,32.7106684
END:VEVENT
BEGIN:VEVENT
DTSTART;TZID=America/Los_Angeles:20260109T110000
DTEND;TZID=America/Los_Angeles:20260109T113000
DTSTAMP:20260422T152542
CREATED:20250826T230325Z
LAST-MODIFIED:20260408T182117Z
UID:10041286-1767956400-1767958200@thinkplaycreate.org
SUMMARY:Toddler Time
DESCRIPTION:
URL:https://thinkplaycreate.org/event/toddler-time-3-2-2-2/2026-01-09/
LOCATION:The New Children’s Museum\, 200 W Island Ave\, San Diego\, CA\, 92101\, United States
CATEGORIES:Toddler Time
ATTACH;FMTTYPE=image/jpeg:https://thinkplaycreate.org/wp-content/uploads/2021/10/Toddler-Time-Finger-Painting.jpg
GEO:32.7106684;-117.1651935
X-APPLE-STRUCTURED-LOCATION;VALUE=URI;X-ADDRESS=The New Children’s Museum 200 W Island Ave San Diego CA 92101 United States;X-APPLE-RADIUS=500;X-TITLE=200 W Island Ave:geo:-117.1651935,32.7106684
END:VEVENT
BEGIN:VEVENT
DTSTART;TZID=America/Los_Angeles:20260114T100000
DTEND;TZID=America/Los_Angeles:20260114T103000
DTSTAMP:20260422T152542
CREATED:20260408T191840Z
LAST-MODIFIED:20260408T191840Z
UID:10044584-1768384800-1768386600@thinkplaycreate.org
SUMMARY:Toddler Time
DESCRIPTION:
URL:https://thinkplaycreate.org/event/toddler-time-2/
LOCATION:The New Children’s Museum\, 200 W Island Ave\, San Diego\, CA\, 92101\, United States
CATEGORIES:Toddler Time
ATTACH;FMTTYPE=image/jpeg:https://thinkplaycreate.org/wp-content/uploads/2021/10/Toddler-Time-Finger-Painting.jpg
GEO:32.7106684;-117.1651935
X-APPLE-STRUCTURED-LOCATION;VALUE=URI;X-ADDRESS=The New Children’s Museum 200 W Island Ave San Diego CA 92101 United States;X-APPLE-RADIUS=500;X-TITLE=200 W Island Ave:geo:-117.1651935,32.7106684
END:VEVENT
BEGIN:VEVENT
DTSTART;TZID=America/Los_Angeles:20260114T110000
DTEND;TZID=America/Los_Angeles:20260114T113000
DTSTAMP:20260422T152542
CREATED:20250826T230325Z
LAST-MODIFIED:20260408T182117Z
UID:10044265-1768388400-1768390200@thinkplaycreate.org
SUMMARY:Toddler Time
DESCRIPTION:
URL:https://thinkplaycreate.org/event/toddler-time-3-2-2-2/2026-01-14/
LOCATION:The New Children’s Museum\, 200 W Island Ave\, San Diego\, CA\, 92101\, United States
CATEGORIES:Toddler Time
ATTACH;FMTTYPE=image/jpeg:https://thinkplaycreate.org/wp-content/uploads/2021/10/Toddler-Time-Finger-Painting.jpg
GEO:32.7106684;-117.1651935
X-APPLE-STRUCTURED-LOCATION;VALUE=URI;X-ADDRESS=The New Children’s Museum 200 W Island Ave San Diego CA 92101 United States;X-APPLE-RADIUS=500;X-TITLE=200 W Island Ave:geo:-117.1651935,32.7106684
END:VEVENT
BEGIN:VEVENT
DTSTART;TZID=America/Los_Angeles:20260116T100000
DTEND;TZID=America/Los_Angeles:20260116T103000
DTSTAMP:20260422T152542
CREATED:20260408T191840Z
LAST-MODIFIED:20260408T191840Z
UID:10044585-1768557600-1768559400@thinkplaycreate.org
SUMMARY:Toddler Time
DESCRIPTION:
URL:https://thinkplaycreate.org/event/toddler-time-2/
LOCATION:The New Children’s Museum\, 200 W Island Ave\, San Diego\, CA\, 92101\, United States
CATEGORIES:Toddler Time
ATTACH;FMTTYPE=image/jpeg:https://thinkplaycreate.org/wp-content/uploads/2021/10/Toddler-Time-Finger-Painting.jpg
GEO:32.7106684;-117.1651935
X-APPLE-STRUCTURED-LOCATION;VALUE=URI;X-ADDRESS=The New Children’s Museum 200 W Island Ave San Diego CA 92101 United States;X-APPLE-RADIUS=500;X-TITLE=200 W Island Ave:geo:-117.1651935,32.7106684
END:VEVENT
BEGIN:VEVENT
DTSTART;TZID=America/Los_Angeles:20260116T110000
DTEND;TZID=America/Los_Angeles:20260116T113000
DTSTAMP:20260422T152542
CREATED:20250826T230325Z
LAST-MODIFIED:20260408T182117Z
UID:10041287-1768561200-1768563000@thinkplaycreate.org
SUMMARY:Toddler Time
DESCRIPTION:
URL:https://thinkplaycreate.org/event/toddler-time-3-2-2-2/2026-01-16/
LOCATION:The New Children’s Museum\, 200 W Island Ave\, San Diego\, CA\, 92101\, United States
CATEGORIES:Toddler Time
ATTACH;FMTTYPE=image/jpeg:https://thinkplaycreate.org/wp-content/uploads/2021/10/Toddler-Time-Finger-Painting.jpg
GEO:32.7106684;-117.1651935
X-APPLE-STRUCTURED-LOCATION;VALUE=URI;X-ADDRESS=The New Children’s Museum 200 W Island Ave San Diego CA 92101 United States;X-APPLE-RADIUS=500;X-TITLE=200 W Island Ave:geo:-117.1651935,32.7106684
END:VEVENT
BEGIN:VEVENT
DTSTART;TZID=America/Los_Angeles:20260121T100000
DTEND;TZID=America/Los_Angeles:20260121T103000
DTSTAMP:20260422T152542
CREATED:20260408T191840Z
LAST-MODIFIED:20260408T191840Z
UID:10044586-1768989600-1768991400@thinkplaycreate.org
SUMMARY:Toddler Time
DESCRIPTION:
URL:https://thinkplaycreate.org/event/toddler-time-2/
LOCATION:The New Children’s Museum\, 200 W Island Ave\, San Diego\, CA\, 92101\, United States
CATEGORIES:Toddler Time
ATTACH;FMTTYPE=image/jpeg:https://thinkplaycreate.org/wp-content/uploads/2021/10/Toddler-Time-Finger-Painting.jpg
GEO:32.7106684;-117.1651935
X-APPLE-STRUCTURED-LOCATION;VALUE=URI;X-ADDRESS=The New Children’s Museum 200 W Island Ave San Diego CA 92101 United States;X-APPLE-RADIUS=500;X-TITLE=200 W Island Ave:geo:-117.1651935,32.7106684
END:VEVENT
BEGIN:VEVENT
DTSTART;TZID=America/Los_Angeles:20260121T110000
DTEND;TZID=America/Los_Angeles:20260121T113000
DTSTAMP:20260422T152542
CREATED:20250826T230325Z
LAST-MODIFIED:20260408T182117Z
UID:10044266-1768993200-1768995000@thinkplaycreate.org
SUMMARY:Toddler Time
DESCRIPTION:
URL:https://thinkplaycreate.org/event/toddler-time-3-2-2-2/2026-01-21/
LOCATION:The New Children’s Museum\, 200 W Island Ave\, San Diego\, CA\, 92101\, United States
CATEGORIES:Toddler Time
ATTACH;FMTTYPE=image/jpeg:https://thinkplaycreate.org/wp-content/uploads/2021/10/Toddler-Time-Finger-Painting.jpg
GEO:32.7106684;-117.1651935
X-APPLE-STRUCTURED-LOCATION;VALUE=URI;X-ADDRESS=The New Children’s Museum 200 W Island Ave San Diego CA 92101 United States;X-APPLE-RADIUS=500;X-TITLE=200 W Island Ave:geo:-117.1651935,32.7106684
END:VEVENT
BEGIN:VEVENT
DTSTART;TZID=America/Los_Angeles:20260123T100000
DTEND;TZID=America/Los_Angeles:20260123T103000
DTSTAMP:20260422T152542
CREATED:20260408T191840Z
LAST-MODIFIED:20260408T191840Z
UID:10044587-1769162400-1769164200@thinkplaycreate.org
SUMMARY:Toddler Time
DESCRIPTION:
URL:https://thinkplaycreate.org/event/toddler-time-2/
LOCATION:The New Children’s Museum\, 200 W Island Ave\, San Diego\, CA\, 92101\, United States
CATEGORIES:Toddler Time
ATTACH;FMTTYPE=image/jpeg:https://thinkplaycreate.org/wp-content/uploads/2021/10/Toddler-Time-Finger-Painting.jpg
GEO:32.7106684;-117.1651935
X-APPLE-STRUCTURED-LOCATION;VALUE=URI;X-ADDRESS=The New Children’s Museum 200 W Island Ave San Diego CA 92101 United States;X-APPLE-RADIUS=500;X-TITLE=200 W Island Ave:geo:-117.1651935,32.7106684
END:VEVENT
BEGIN:VEVENT
DTSTART;TZID=America/Los_Angeles:20260123T110000
DTEND;TZID=America/Los_Angeles:20260123T113000
DTSTAMP:20260422T152542
CREATED:20250826T230325Z
LAST-MODIFIED:20260408T182117Z
UID:10041288-1769166000-1769167800@thinkplaycreate.org
SUMMARY:Toddler Time
DESCRIPTION:
URL:https://thinkplaycreate.org/event/toddler-time-3-2-2-2/2026-01-23/
LOCATION:The New Children’s Museum\, 200 W Island Ave\, San Diego\, CA\, 92101\, United States
CATEGORIES:Toddler Time
ATTACH;FMTTYPE=image/jpeg:https://thinkplaycreate.org/wp-content/uploads/2021/10/Toddler-Time-Finger-Painting.jpg
GEO:32.7106684;-117.1651935
X-APPLE-STRUCTURED-LOCATION;VALUE=URI;X-ADDRESS=The New Children’s Museum 200 W Island Ave San Diego CA 92101 United States;X-APPLE-RADIUS=500;X-TITLE=200 W Island Ave:geo:-117.1651935,32.7106684
END:VEVENT
BEGIN:VEVENT
DTSTART;TZID=America/Los_Angeles:20260128T100000
DTEND;TZID=America/Los_Angeles:20260128T103000
DTSTAMP:20260422T152542
CREATED:20260408T191840Z
LAST-MODIFIED:20260408T191840Z
UID:10044588-1769594400-1769596200@thinkplaycreate.org
SUMMARY:Toddler Time
DESCRIPTION:
URL:https://thinkplaycreate.org/event/toddler-time-2/
LOCATION:The New Children’s Museum\, 200 W Island Ave\, San Diego\, CA\, 92101\, United States
CATEGORIES:Toddler Time
ATTACH;FMTTYPE=image/jpeg:https://thinkplaycreate.org/wp-content/uploads/2021/10/Toddler-Time-Finger-Painting.jpg
GEO:32.7106684;-117.1651935
X-APPLE-STRUCTURED-LOCATION;VALUE=URI;X-ADDRESS=The New Children’s Museum 200 W Island Ave San Diego CA 92101 United States;X-APPLE-RADIUS=500;X-TITLE=200 W Island Ave:geo:-117.1651935,32.7106684
END:VEVENT
BEGIN:VEVENT
DTSTART;TZID=America/Los_Angeles:20260128T110000
DTEND;TZID=America/Los_Angeles:20260128T113000
DTSTAMP:20260422T152542
CREATED:20250826T230325Z
LAST-MODIFIED:20260408T182117Z
UID:10044267-1769598000-1769599800@thinkplaycreate.org
SUMMARY:Toddler Time
DESCRIPTION:
URL:https://thinkplaycreate.org/event/toddler-time-3-2-2-2/2026-01-28/
LOCATION:The New Children’s Museum\, 200 W Island Ave\, San Diego\, CA\, 92101\, United States
CATEGORIES:Toddler Time
ATTACH;FMTTYPE=image/jpeg:https://thinkplaycreate.org/wp-content/uploads/2021/10/Toddler-Time-Finger-Painting.jpg
GEO:32.7106684;-117.1651935
X-APPLE-STRUCTURED-LOCATION;VALUE=URI;X-ADDRESS=The New Children’s Museum 200 W Island Ave San Diego CA 92101 United States;X-APPLE-RADIUS=500;X-TITLE=200 W Island Ave:geo:-117.1651935,32.7106684
END:VEVENT
BEGIN:VEVENT
DTSTART;TZID=America/Los_Angeles:20260130T100000
DTEND;TZID=America/Los_Angeles:20260130T103000
DTSTAMP:20260422T152542
CREATED:20260408T191840Z
LAST-MODIFIED:20260408T191840Z
UID:10044589-1769767200-1769769000@thinkplaycreate.org
SUMMARY:Toddler Time
DESCRIPTION:
URL:https://thinkplaycreate.org/event/toddler-time-2/
LOCATION:The New Children’s Museum\, 200 W Island Ave\, San Diego\, CA\, 92101\, United States
CATEGORIES:Toddler Time
ATTACH;FMTTYPE=image/jpeg:https://thinkplaycreate.org/wp-content/uploads/2021/10/Toddler-Time-Finger-Painting.jpg
GEO:32.7106684;-117.1651935
X-APPLE-STRUCTURED-LOCATION;VALUE=URI;X-ADDRESS=The New Children’s Museum 200 W Island Ave San Diego CA 92101 United States;X-APPLE-RADIUS=500;X-TITLE=200 W Island Ave:geo:-117.1651935,32.7106684
END:VEVENT
BEGIN:VEVENT
DTSTART;TZID=America/Los_Angeles:20260130T110000
DTEND;TZID=America/Los_Angeles:20260130T113000
DTSTAMP:20260422T152542
CREATED:20250826T230325Z
LAST-MODIFIED:20260408T182117Z
UID:10041289-1769770800-1769772600@thinkplaycreate.org
SUMMARY:Toddler Time
DESCRIPTION:
URL:https://thinkplaycreate.org/event/toddler-time-3-2-2-2/2026-01-30/
LOCATION:The New Children’s Museum\, 200 W Island Ave\, San Diego\, CA\, 92101\, United States
CATEGORIES:Toddler Time
ATTACH;FMTTYPE=image/jpeg:https://thinkplaycreate.org/wp-content/uploads/2021/10/Toddler-Time-Finger-Painting.jpg
GEO:32.7106684;-117.1651935
X-APPLE-STRUCTURED-LOCATION;VALUE=URI;X-ADDRESS=The New Children’s Museum 200 W Island Ave San Diego CA 92101 United States;X-APPLE-RADIUS=500;X-TITLE=200 W Island Ave:geo:-117.1651935,32.7106684
END:VEVENT
END:VCALENDAR