BEGIN:VCALENDAR
VERSION:2.0
PRODID:-//The New Children&#039;s Museum - ECPv6.15.18//NONSGML v1.0//EN
CALSCALE:GREGORIAN
METHOD:PUBLISH
X-ORIGINAL-URL:https://thinkplaycreate.org
X-WR-CALDESC:Events for The New Children&#039;s Museum
REFRESH-INTERVAL;VALUE=DURATION:PT1H
X-Robots-Tag:noindex
X-PUBLISHED-TTL:PT1H
BEGIN:VTIMEZONE
TZID:America/Los_Angeles
BEGIN:DAYLIGHT
TZOFFSETFROM:-0800
TZOFFSETTO:-0700
TZNAME:PDT
DTSTART:20240310T100000
END:DAYLIGHT
BEGIN:STANDARD
TZOFFSETFROM:-0700
TZOFFSETTO:-0800
TZNAME:PST
DTSTART:20241103T090000
END:STANDARD
BEGIN:DAYLIGHT
TZOFFSETFROM:-0800
TZOFFSETTO:-0700
TZNAME:PDT
DTSTART:20250309T100000
END:DAYLIGHT
BEGIN:STANDARD
TZOFFSETFROM:-0700
TZOFFSETTO:-0800
TZNAME:PST
DTSTART:20251102T090000
END:STANDARD
BEGIN:DAYLIGHT
TZOFFSETFROM:-0800
TZOFFSETTO:-0700
TZNAME:PDT
DTSTART:20260308T100000
END:DAYLIGHT
BEGIN:STANDARD
TZOFFSETFROM:-0700
TZOFFSETTO:-0800
TZNAME:PST
DTSTART:20261101T090000
END:STANDARD
END:VTIMEZONE
BEGIN:VEVENT
DTSTART;TZID=America/Los_Angeles:20251001T100000
DTEND;TZID=America/Los_Angeles:20251001T103000
DTSTAMP:20260422T204241
CREATED:20260408T191840Z
LAST-MODIFIED:20260408T191840Z
UID:10044554-1759312800-1759314600@thinkplaycreate.org
SUMMARY:Toddler Time
DESCRIPTION:
URL:https://thinkplaycreate.org/event/toddler-time-2/
LOCATION:The New Children’s Museum\, 200 W Island Ave\, San Diego\, CA\, 92101\, United States
CATEGORIES:Toddler Time
ATTACH;FMTTYPE=image/jpeg:https://thinkplaycreate.org/wp-content/uploads/2021/10/Toddler-Time-Finger-Painting.jpg
GEO:32.7106684;-117.1651935
X-APPLE-STRUCTURED-LOCATION;VALUE=URI;X-ADDRESS=The New Children’s Museum 200 W Island Ave San Diego CA 92101 United States;X-APPLE-RADIUS=500;X-TITLE=200 W Island Ave:geo:-117.1651935,32.7106684
END:VEVENT
BEGIN:VEVENT
DTSTART;TZID=America/Los_Angeles:20251001T110000
DTEND;TZID=America/Los_Angeles:20251001T113000
DTSTAMP:20260422T204241
CREATED:20250826T230325Z
LAST-MODIFIED:20260408T182117Z
UID:10044250-1759316400-1759318200@thinkplaycreate.org
SUMMARY:Toddler Time
DESCRIPTION:
URL:https://thinkplaycreate.org/event/toddler-time-3-2-2-2/2025-10-01/
LOCATION:The New Children’s Museum\, 200 W Island Ave\, San Diego\, CA\, 92101\, United States
CATEGORIES:Toddler Time
ATTACH;FMTTYPE=image/jpeg:https://thinkplaycreate.org/wp-content/uploads/2021/10/Toddler-Time-Finger-Painting.jpg
GEO:32.7106684;-117.1651935
X-APPLE-STRUCTURED-LOCATION;VALUE=URI;X-ADDRESS=The New Children’s Museum 200 W Island Ave San Diego CA 92101 United States;X-APPLE-RADIUS=500;X-TITLE=200 W Island Ave:geo:-117.1651935,32.7106684
END:VEVENT
BEGIN:VEVENT
DTSTART;TZID=America/Los_Angeles:20251003T100000
DTEND;TZID=America/Los_Angeles:20251003T103000
DTSTAMP:20260422T204241
CREATED:20260408T191840Z
LAST-MODIFIED:20260408T191840Z
UID:10044555-1759485600-1759487400@thinkplaycreate.org
SUMMARY:Toddler Time
DESCRIPTION:
URL:https://thinkplaycreate.org/event/toddler-time-2/
LOCATION:The New Children’s Museum\, 200 W Island Ave\, San Diego\, CA\, 92101\, United States
CATEGORIES:Toddler Time
ATTACH;FMTTYPE=image/jpeg:https://thinkplaycreate.org/wp-content/uploads/2021/10/Toddler-Time-Finger-Painting.jpg
GEO:32.7106684;-117.1651935
X-APPLE-STRUCTURED-LOCATION;VALUE=URI;X-ADDRESS=The New Children’s Museum 200 W Island Ave San Diego CA 92101 United States;X-APPLE-RADIUS=500;X-TITLE=200 W Island Ave:geo:-117.1651935,32.7106684
END:VEVENT
BEGIN:VEVENT
DTSTART;TZID=America/Los_Angeles:20251003T110000
DTEND;TZID=America/Los_Angeles:20251003T113000
DTSTAMP:20260422T204241
CREATED:20250826T230325Z
LAST-MODIFIED:20260408T182117Z
UID:10041272-1759489200-1759491000@thinkplaycreate.org
SUMMARY:Toddler Time
DESCRIPTION:
URL:https://thinkplaycreate.org/event/toddler-time-3-2-2-2/2025-10-03/
LOCATION:The New Children’s Museum\, 200 W Island Ave\, San Diego\, CA\, 92101\, United States
CATEGORIES:Toddler Time
ATTACH;FMTTYPE=image/jpeg:https://thinkplaycreate.org/wp-content/uploads/2021/10/Toddler-Time-Finger-Painting.jpg
GEO:32.7106684;-117.1651935
X-APPLE-STRUCTURED-LOCATION;VALUE=URI;X-ADDRESS=The New Children’s Museum 200 W Island Ave San Diego CA 92101 United States;X-APPLE-RADIUS=500;X-TITLE=200 W Island Ave:geo:-117.1651935,32.7106684
END:VEVENT
BEGIN:VEVENT
DTSTART;TZID=America/Los_Angeles:20251008T100000
DTEND;TZID=America/Los_Angeles:20251008T103000
DTSTAMP:20260422T204241
CREATED:20260408T191840Z
LAST-MODIFIED:20260408T191840Z
UID:10044556-1759917600-1759919400@thinkplaycreate.org
SUMMARY:Toddler Time
DESCRIPTION:
URL:https://thinkplaycreate.org/event/toddler-time-2/
LOCATION:The New Children’s Museum\, 200 W Island Ave\, San Diego\, CA\, 92101\, United States
CATEGORIES:Toddler Time
ATTACH;FMTTYPE=image/jpeg:https://thinkplaycreate.org/wp-content/uploads/2021/10/Toddler-Time-Finger-Painting.jpg
GEO:32.7106684;-117.1651935
X-APPLE-STRUCTURED-LOCATION;VALUE=URI;X-ADDRESS=The New Children’s Museum 200 W Island Ave San Diego CA 92101 United States;X-APPLE-RADIUS=500;X-TITLE=200 W Island Ave:geo:-117.1651935,32.7106684
END:VEVENT
BEGIN:VEVENT
DTSTART;TZID=America/Los_Angeles:20251008T110000
DTEND;TZID=America/Los_Angeles:20251008T113000
DTSTAMP:20260422T204241
CREATED:20250826T230325Z
LAST-MODIFIED:20260408T182117Z
UID:10044251-1759921200-1759923000@thinkplaycreate.org
SUMMARY:Toddler Time
DESCRIPTION:
URL:https://thinkplaycreate.org/event/toddler-time-3-2-2-2/2025-10-08/
LOCATION:The New Children’s Museum\, 200 W Island Ave\, San Diego\, CA\, 92101\, United States
CATEGORIES:Toddler Time
ATTACH;FMTTYPE=image/jpeg:https://thinkplaycreate.org/wp-content/uploads/2021/10/Toddler-Time-Finger-Painting.jpg
GEO:32.7106684;-117.1651935
X-APPLE-STRUCTURED-LOCATION;VALUE=URI;X-ADDRESS=The New Children’s Museum 200 W Island Ave San Diego CA 92101 United States;X-APPLE-RADIUS=500;X-TITLE=200 W Island Ave:geo:-117.1651935,32.7106684
END:VEVENT
BEGIN:VEVENT
DTSTART;TZID=America/Los_Angeles:20251010T100000
DTEND;TZID=America/Los_Angeles:20251010T103000
DTSTAMP:20260422T204241
CREATED:20260408T191840Z
LAST-MODIFIED:20260408T191840Z
UID:10044557-1760090400-1760092200@thinkplaycreate.org
SUMMARY:Toddler Time
DESCRIPTION:
URL:https://thinkplaycreate.org/event/toddler-time-2/
LOCATION:The New Children’s Museum\, 200 W Island Ave\, San Diego\, CA\, 92101\, United States
CATEGORIES:Toddler Time
ATTACH;FMTTYPE=image/jpeg:https://thinkplaycreate.org/wp-content/uploads/2021/10/Toddler-Time-Finger-Painting.jpg
GEO:32.7106684;-117.1651935
X-APPLE-STRUCTURED-LOCATION;VALUE=URI;X-ADDRESS=The New Children’s Museum 200 W Island Ave San Diego CA 92101 United States;X-APPLE-RADIUS=500;X-TITLE=200 W Island Ave:geo:-117.1651935,32.7106684
END:VEVENT
BEGIN:VEVENT
DTSTART;TZID=America/Los_Angeles:20251010T110000
DTEND;TZID=America/Los_Angeles:20251010T113000
DTSTAMP:20260422T204241
CREATED:20250826T230325Z
LAST-MODIFIED:20260408T182117Z
UID:10041273-1760094000-1760095800@thinkplaycreate.org
SUMMARY:Toddler Time
DESCRIPTION:
URL:https://thinkplaycreate.org/event/toddler-time-3-2-2-2/2025-10-10/
LOCATION:The New Children’s Museum\, 200 W Island Ave\, San Diego\, CA\, 92101\, United States
CATEGORIES:Toddler Time
ATTACH;FMTTYPE=image/jpeg:https://thinkplaycreate.org/wp-content/uploads/2021/10/Toddler-Time-Finger-Painting.jpg
GEO:32.7106684;-117.1651935
X-APPLE-STRUCTURED-LOCATION;VALUE=URI;X-ADDRESS=The New Children’s Museum 200 W Island Ave San Diego CA 92101 United States;X-APPLE-RADIUS=500;X-TITLE=200 W Island Ave:geo:-117.1651935,32.7106684
END:VEVENT
BEGIN:VEVENT
DTSTART;TZID=America/Los_Angeles:20251015T100000
DTEND;TZID=America/Los_Angeles:20251015T103000
DTSTAMP:20260422T204241
CREATED:20260408T191840Z
LAST-MODIFIED:20260408T191840Z
UID:10044558-1760522400-1760524200@thinkplaycreate.org
SUMMARY:Toddler Time
DESCRIPTION:
URL:https://thinkplaycreate.org/event/toddler-time-2/
LOCATION:The New Children’s Museum\, 200 W Island Ave\, San Diego\, CA\, 92101\, United States
CATEGORIES:Toddler Time
ATTACH;FMTTYPE=image/jpeg:https://thinkplaycreate.org/wp-content/uploads/2021/10/Toddler-Time-Finger-Painting.jpg
GEO:32.7106684;-117.1651935
X-APPLE-STRUCTURED-LOCATION;VALUE=URI;X-ADDRESS=The New Children’s Museum 200 W Island Ave San Diego CA 92101 United States;X-APPLE-RADIUS=500;X-TITLE=200 W Island Ave:geo:-117.1651935,32.7106684
END:VEVENT
BEGIN:VEVENT
DTSTART;TZID=America/Los_Angeles:20251015T110000
DTEND;TZID=America/Los_Angeles:20251015T113000
DTSTAMP:20260422T204241
CREATED:20250826T230325Z
LAST-MODIFIED:20260408T182117Z
UID:10044252-1760526000-1760527800@thinkplaycreate.org
SUMMARY:Toddler Time
DESCRIPTION:
URL:https://thinkplaycreate.org/event/toddler-time-3-2-2-2/2025-10-15/
LOCATION:The New Children’s Museum\, 200 W Island Ave\, San Diego\, CA\, 92101\, United States
CATEGORIES:Toddler Time
ATTACH;FMTTYPE=image/jpeg:https://thinkplaycreate.org/wp-content/uploads/2021/10/Toddler-Time-Finger-Painting.jpg
GEO:32.7106684;-117.1651935
X-APPLE-STRUCTURED-LOCATION;VALUE=URI;X-ADDRESS=The New Children’s Museum 200 W Island Ave San Diego CA 92101 United States;X-APPLE-RADIUS=500;X-TITLE=200 W Island Ave:geo:-117.1651935,32.7106684
END:VEVENT
BEGIN:VEVENT
DTSTART;TZID=America/Los_Angeles:20251017T100000
DTEND;TZID=America/Los_Angeles:20251017T103000
DTSTAMP:20260422T204241
CREATED:20260408T191840Z
LAST-MODIFIED:20260408T191840Z
UID:10044559-1760695200-1760697000@thinkplaycreate.org
SUMMARY:Toddler Time
DESCRIPTION:
URL:https://thinkplaycreate.org/event/toddler-time-2/
LOCATION:The New Children’s Museum\, 200 W Island Ave\, San Diego\, CA\, 92101\, United States
CATEGORIES:Toddler Time
ATTACH;FMTTYPE=image/jpeg:https://thinkplaycreate.org/wp-content/uploads/2021/10/Toddler-Time-Finger-Painting.jpg
GEO:32.7106684;-117.1651935
X-APPLE-STRUCTURED-LOCATION;VALUE=URI;X-ADDRESS=The New Children’s Museum 200 W Island Ave San Diego CA 92101 United States;X-APPLE-RADIUS=500;X-TITLE=200 W Island Ave:geo:-117.1651935,32.7106684
END:VEVENT
BEGIN:VEVENT
DTSTART;TZID=America/Los_Angeles:20251017T110000
DTEND;TZID=America/Los_Angeles:20251017T113000
DTSTAMP:20260422T204241
CREATED:20250826T230325Z
LAST-MODIFIED:20260408T182117Z
UID:10041274-1760698800-1760700600@thinkplaycreate.org
SUMMARY:Toddler Time
DESCRIPTION:
URL:https://thinkplaycreate.org/event/toddler-time-3-2-2-2/2025-10-17/
LOCATION:The New Children’s Museum\, 200 W Island Ave\, San Diego\, CA\, 92101\, United States
CATEGORIES:Toddler Time
ATTACH;FMTTYPE=image/jpeg:https://thinkplaycreate.org/wp-content/uploads/2021/10/Toddler-Time-Finger-Painting.jpg
GEO:32.7106684;-117.1651935
X-APPLE-STRUCTURED-LOCATION;VALUE=URI;X-ADDRESS=The New Children’s Museum 200 W Island Ave San Diego CA 92101 United States;X-APPLE-RADIUS=500;X-TITLE=200 W Island Ave:geo:-117.1651935,32.7106684
END:VEVENT
BEGIN:VEVENT
DTSTART;TZID=America/Los_Angeles:20251022T100000
DTEND;TZID=America/Los_Angeles:20251022T103000
DTSTAMP:20260422T204241
CREATED:20260408T191840Z
LAST-MODIFIED:20260408T191840Z
UID:10044560-1761127200-1761129000@thinkplaycreate.org
SUMMARY:Toddler Time
DESCRIPTION:
URL:https://thinkplaycreate.org/event/toddler-time-2/
LOCATION:The New Children’s Museum\, 200 W Island Ave\, San Diego\, CA\, 92101\, United States
CATEGORIES:Toddler Time
ATTACH;FMTTYPE=image/jpeg:https://thinkplaycreate.org/wp-content/uploads/2021/10/Toddler-Time-Finger-Painting.jpg
GEO:32.7106684;-117.1651935
X-APPLE-STRUCTURED-LOCATION;VALUE=URI;X-ADDRESS=The New Children’s Museum 200 W Island Ave San Diego CA 92101 United States;X-APPLE-RADIUS=500;X-TITLE=200 W Island Ave:geo:-117.1651935,32.7106684
END:VEVENT
BEGIN:VEVENT
DTSTART;TZID=America/Los_Angeles:20251022T110000
DTEND;TZID=America/Los_Angeles:20251022T113000
DTSTAMP:20260422T204241
CREATED:20250826T230325Z
LAST-MODIFIED:20260408T182117Z
UID:10044253-1761130800-1761132600@thinkplaycreate.org
SUMMARY:Toddler Time
DESCRIPTION:
URL:https://thinkplaycreate.org/event/toddler-time-3-2-2-2/2025-10-22/
LOCATION:The New Children’s Museum\, 200 W Island Ave\, San Diego\, CA\, 92101\, United States
CATEGORIES:Toddler Time
ATTACH;FMTTYPE=image/jpeg:https://thinkplaycreate.org/wp-content/uploads/2021/10/Toddler-Time-Finger-Painting.jpg
GEO:32.7106684;-117.1651935
X-APPLE-STRUCTURED-LOCATION;VALUE=URI;X-ADDRESS=The New Children’s Museum 200 W Island Ave San Diego CA 92101 United States;X-APPLE-RADIUS=500;X-TITLE=200 W Island Ave:geo:-117.1651935,32.7106684
END:VEVENT
BEGIN:VEVENT
DTSTART;TZID=America/Los_Angeles:20251024T100000
DTEND;TZID=America/Los_Angeles:20251024T103000
DTSTAMP:20260422T204241
CREATED:20260408T191840Z
LAST-MODIFIED:20260408T191840Z
UID:10044561-1761300000-1761301800@thinkplaycreate.org
SUMMARY:Toddler Time
DESCRIPTION:
URL:https://thinkplaycreate.org/event/toddler-time-2/
LOCATION:The New Children’s Museum\, 200 W Island Ave\, San Diego\, CA\, 92101\, United States
CATEGORIES:Toddler Time
ATTACH;FMTTYPE=image/jpeg:https://thinkplaycreate.org/wp-content/uploads/2021/10/Toddler-Time-Finger-Painting.jpg
GEO:32.7106684;-117.1651935
X-APPLE-STRUCTURED-LOCATION;VALUE=URI;X-ADDRESS=The New Children’s Museum 200 W Island Ave San Diego CA 92101 United States;X-APPLE-RADIUS=500;X-TITLE=200 W Island Ave:geo:-117.1651935,32.7106684
END:VEVENT
BEGIN:VEVENT
DTSTART;TZID=America/Los_Angeles:20251024T110000
DTEND;TZID=America/Los_Angeles:20251024T113000
DTSTAMP:20260422T204241
CREATED:20250826T230325Z
LAST-MODIFIED:20260408T182117Z
UID:10041275-1761303600-1761305400@thinkplaycreate.org
SUMMARY:Toddler Time
DESCRIPTION:
URL:https://thinkplaycreate.org/event/toddler-time-3-2-2-2/2025-10-24/
LOCATION:The New Children’s Museum\, 200 W Island Ave\, San Diego\, CA\, 92101\, United States
CATEGORIES:Toddler Time
ATTACH;FMTTYPE=image/jpeg:https://thinkplaycreate.org/wp-content/uploads/2021/10/Toddler-Time-Finger-Painting.jpg
GEO:32.7106684;-117.1651935
X-APPLE-STRUCTURED-LOCATION;VALUE=URI;X-ADDRESS=The New Children’s Museum 200 W Island Ave San Diego CA 92101 United States;X-APPLE-RADIUS=500;X-TITLE=200 W Island Ave:geo:-117.1651935,32.7106684
END:VEVENT
BEGIN:VEVENT
DTSTART;TZID=America/Los_Angeles:20251029T100000
DTEND;TZID=America/Los_Angeles:20251029T103000
DTSTAMP:20260422T204241
CREATED:20260408T191840Z
LAST-MODIFIED:20260408T191840Z
UID:10044562-1761732000-1761733800@thinkplaycreate.org
SUMMARY:Toddler Time
DESCRIPTION:
URL:https://thinkplaycreate.org/event/toddler-time-2/
LOCATION:The New Children’s Museum\, 200 W Island Ave\, San Diego\, CA\, 92101\, United States
CATEGORIES:Toddler Time
ATTACH;FMTTYPE=image/jpeg:https://thinkplaycreate.org/wp-content/uploads/2021/10/Toddler-Time-Finger-Painting.jpg
GEO:32.7106684;-117.1651935
X-APPLE-STRUCTURED-LOCATION;VALUE=URI;X-ADDRESS=The New Children’s Museum 200 W Island Ave San Diego CA 92101 United States;X-APPLE-RADIUS=500;X-TITLE=200 W Island Ave:geo:-117.1651935,32.7106684
END:VEVENT
BEGIN:VEVENT
DTSTART;TZID=America/Los_Angeles:20251029T110000
DTEND;TZID=America/Los_Angeles:20251029T113000
DTSTAMP:20260422T204241
CREATED:20250826T230325Z
LAST-MODIFIED:20260408T182117Z
UID:10044254-1761735600-1761737400@thinkplaycreate.org
SUMMARY:Toddler Time
DESCRIPTION:
URL:https://thinkplaycreate.org/event/toddler-time-3-2-2-2/2025-10-29/
LOCATION:The New Children’s Museum\, 200 W Island Ave\, San Diego\, CA\, 92101\, United States
CATEGORIES:Toddler Time
ATTACH;FMTTYPE=image/jpeg:https://thinkplaycreate.org/wp-content/uploads/2021/10/Toddler-Time-Finger-Painting.jpg
GEO:32.7106684;-117.1651935
X-APPLE-STRUCTURED-LOCATION;VALUE=URI;X-ADDRESS=The New Children’s Museum 200 W Island Ave San Diego CA 92101 United States;X-APPLE-RADIUS=500;X-TITLE=200 W Island Ave:geo:-117.1651935,32.7106684
END:VEVENT
BEGIN:VEVENT
DTSTART;TZID=America/Los_Angeles:20251031T100000
DTEND;TZID=America/Los_Angeles:20251031T103000
DTSTAMP:20260422T204241
CREATED:20260408T191840Z
LAST-MODIFIED:20260408T191840Z
UID:10044563-1761904800-1761906600@thinkplaycreate.org
SUMMARY:Toddler Time
DESCRIPTION:
URL:https://thinkplaycreate.org/event/toddler-time-2/
LOCATION:The New Children’s Museum\, 200 W Island Ave\, San Diego\, CA\, 92101\, United States
CATEGORIES:Toddler Time
ATTACH;FMTTYPE=image/jpeg:https://thinkplaycreate.org/wp-content/uploads/2021/10/Toddler-Time-Finger-Painting.jpg
GEO:32.7106684;-117.1651935
X-APPLE-STRUCTURED-LOCATION;VALUE=URI;X-ADDRESS=The New Children’s Museum 200 W Island Ave San Diego CA 92101 United States;X-APPLE-RADIUS=500;X-TITLE=200 W Island Ave:geo:-117.1651935,32.7106684
END:VEVENT
BEGIN:VEVENT
DTSTART;TZID=America/Los_Angeles:20251031T110000
DTEND;TZID=America/Los_Angeles:20251031T113000
DTSTAMP:20260422T204241
CREATED:20250826T230325Z
LAST-MODIFIED:20260408T182117Z
UID:10041276-1761908400-1761910200@thinkplaycreate.org
SUMMARY:Toddler Time
DESCRIPTION:
URL:https://thinkplaycreate.org/event/toddler-time-3-2-2-2/2025-10-31/
LOCATION:The New Children’s Museum\, 200 W Island Ave\, San Diego\, CA\, 92101\, United States
CATEGORIES:Toddler Time
ATTACH;FMTTYPE=image/jpeg:https://thinkplaycreate.org/wp-content/uploads/2021/10/Toddler-Time-Finger-Painting.jpg
GEO:32.7106684;-117.1651935
X-APPLE-STRUCTURED-LOCATION;VALUE=URI;X-ADDRESS=The New Children’s Museum 200 W Island Ave San Diego CA 92101 United States;X-APPLE-RADIUS=500;X-TITLE=200 W Island Ave:geo:-117.1651935,32.7106684
END:VEVENT
END:VCALENDAR