BEGIN:VCALENDAR
VERSION:2.0
PRODID:-//The New Children&#039;s Museum - ECPv6.15.18//NONSGML v1.0//EN
CALSCALE:GREGORIAN
METHOD:PUBLISH
X-WR-CALNAME:The New Children&#039;s Museum
X-ORIGINAL-URL:https://thinkplaycreate.org
X-WR-CALDESC:Events for The New Children&#039;s Museum
REFRESH-INTERVAL;VALUE=DURATION:PT1H
X-Robots-Tag:noindex
X-PUBLISHED-TTL:PT1H
BEGIN:VTIMEZONE
TZID:America/Los_Angeles
BEGIN:DAYLIGHT
TZOFFSETFROM:-0800
TZOFFSETTO:-0700
TZNAME:PDT
DTSTART:20230312T100000
END:DAYLIGHT
BEGIN:STANDARD
TZOFFSETFROM:-0700
TZOFFSETTO:-0800
TZNAME:PST
DTSTART:20231105T090000
END:STANDARD
BEGIN:DAYLIGHT
TZOFFSETFROM:-0800
TZOFFSETTO:-0700
TZNAME:PDT
DTSTART:20240310T100000
END:DAYLIGHT
BEGIN:STANDARD
TZOFFSETFROM:-0700
TZOFFSETTO:-0800
TZNAME:PST
DTSTART:20241103T090000
END:STANDARD
BEGIN:DAYLIGHT
TZOFFSETFROM:-0800
TZOFFSETTO:-0700
TZNAME:PDT
DTSTART:20250309T100000
END:DAYLIGHT
BEGIN:STANDARD
TZOFFSETFROM:-0700
TZOFFSETTO:-0800
TZNAME:PST
DTSTART:20251102T090000
END:STANDARD
END:VTIMEZONE
BEGIN:VEVENT
DTSTART;VALUE=DATE:20241002
DTEND;VALUE=DATE:20241003
DTSTAMP:20260424T133244
CREATED:20240927T010058Z
LAST-MODIFIED:20240927T010058Z
UID:10036865-1727827200-1727913599@thinkplaycreate.org
SUMMARY:Kids Free October Offer
DESCRIPTION:
URL:https://thinkplaycreate.org/event/kids-free-october-offer/2024-10-02/
LOCATION:The New Children’s Museum\, 200 W Island Ave\, San Diego\, CA\, 92101\, United States
CATEGORIES:Admission Offer
GEO:32.7106684;-117.1651935
X-APPLE-STRUCTURED-LOCATION;VALUE=URI;X-ADDRESS=The New Children’s Museum 200 W Island Ave San Diego CA 92101 United States;X-APPLE-RADIUS=500;X-TITLE=200 W Island Ave:geo:-117.1651935,32.7106684
END:VEVENT
BEGIN:VEVENT
DTSTART;TZID=America/Los_Angeles:20241002T100000
DTEND;TZID=America/Los_Angeles:20241002T103000
DTSTAMP:20260424T133244
CREATED:20230825T181258Z
LAST-MODIFIED:20250210T212628Z
UID:10009390-1727863200-1727865000@thinkplaycreate.org
SUMMARY:Joyride Bookshop Story Time
DESCRIPTION:
URL:https://thinkplaycreate.org/event/joyride-bookshop-story-time/2024-10-02/
LOCATION:The New Children’s Museum\, 200 W Island Ave\, San Diego\, CA\, 92101\, United States
GEO:32.7106684;-117.1651935
X-APPLE-STRUCTURED-LOCATION;VALUE=URI;X-ADDRESS=The New Children’s Museum 200 W Island Ave San Diego CA 92101 United States;X-APPLE-RADIUS=500;X-TITLE=200 W Island Ave:geo:-117.1651935,32.7106684
END:VEVENT
END:VCALENDAR