BEGIN:VCALENDAR
VERSION:2.0
PRODID:-//The New Children&#039;s Museum - ECPv6.15.18//NONSGML v1.0//EN
CALSCALE:GREGORIAN
METHOD:PUBLISH
X-WR-CALNAME:The New Children&#039;s Museum
X-ORIGINAL-URL:https://thinkplaycreate.org
X-WR-CALDESC:Events for The New Children&#039;s Museum
REFRESH-INTERVAL;VALUE=DURATION:PT1H
X-Robots-Tag:noindex
X-PUBLISHED-TTL:PT1H
BEGIN:VTIMEZONE
TZID:America/Los_Angeles
BEGIN:DAYLIGHT
TZOFFSETFROM:-0800
TZOFFSETTO:-0700
TZNAME:PDT
DTSTART:20170312T100000
END:DAYLIGHT
BEGIN:STANDARD
TZOFFSETFROM:-0700
TZOFFSETTO:-0800
TZNAME:PST
DTSTART:20171105T090000
END:STANDARD
BEGIN:DAYLIGHT
TZOFFSETFROM:-0800
TZOFFSETTO:-0700
TZNAME:PDT
DTSTART:20180311T100000
END:DAYLIGHT
BEGIN:STANDARD
TZOFFSETFROM:-0700
TZOFFSETTO:-0800
TZNAME:PST
DTSTART:20181104T090000
END:STANDARD
BEGIN:DAYLIGHT
TZOFFSETFROM:-0800
TZOFFSETTO:-0700
TZNAME:PDT
DTSTART:20190310T100000
END:DAYLIGHT
BEGIN:STANDARD
TZOFFSETFROM:-0700
TZOFFSETTO:-0800
TZNAME:PST
DTSTART:20191103T090000
END:STANDARD
END:VTIMEZONE
BEGIN:VEVENT
DTSTART;TZID=America/Los_Angeles:20181228T090000
DTEND;TZID=America/Los_Angeles:20181228T160000
DTSTAMP:20260424T170328
CREATED:20181128T212856Z
LAST-MODIFIED:20181128T212856Z
UID:10004275-1545987600-1546012800@thinkplaycreate.org
SUMMARY:Winter Camp: Alien Encounters
DESCRIPTION:
URL:https://thinkplaycreate.org/event/winter-camp-alien-encounters/
LOCATION:CA
CATEGORIES:Camp
ATTACH;FMTTYPE=image/jpeg:https://thinkplaycreate.org/wp-content/uploads/2018/02/NCM-Winter-Break-Camps-24-of-34.jpg
END:VEVENT
BEGIN:VEVENT
DTSTART;TZID=America/Los_Angeles:20181228T100000
DTEND;TZID=America/Los_Angeles:20181228T110000
DTSTAMP:20260424T170328
CREATED:20180625T000111Z
LAST-MODIFIED:20180808T213950Z
UID:10003671-1545991200-1545994800@thinkplaycreate.org
SUMMARY:ScholarShare 529 Toddler Time: Finger Painting
DESCRIPTION:
URL:https://thinkplaycreate.org/event/scholar-share-529-toddler-time-finger-painting-4/
LOCATION:CA
CATEGORIES:Toddler Time
ATTACH;FMTTYPE=image/jpeg:https://thinkplaycreate.org/wp-content/uploads/2017/08/2015-fingerpainting-cruz.jpg
END:VEVENT
END:VCALENDAR