BEGIN:VCALENDAR
VERSION:2.0
PRODID:-//The New Children&#039;s Museum - ECPv6.15.18//NONSGML v1.0//EN
CALSCALE:GREGORIAN
METHOD:PUBLISH
X-WR-CALNAME:The New Children&#039;s Museum
X-ORIGINAL-URL:https://thinkplaycreate.org
X-WR-CALDESC:Events for The New Children&#039;s Museum
REFRESH-INTERVAL;VALUE=DURATION:PT1H
X-Robots-Tag:noindex
X-PUBLISHED-TTL:PT1H
BEGIN:VTIMEZONE
TZID:America/Los_Angeles
BEGIN:DAYLIGHT
TZOFFSETFROM:-0800
TZOFFSETTO:-0700
TZNAME:PDT
DTSTART:20170312T100000
END:DAYLIGHT
BEGIN:STANDARD
TZOFFSETFROM:-0700
TZOFFSETTO:-0800
TZNAME:PST
DTSTART:20171105T090000
END:STANDARD
BEGIN:DAYLIGHT
TZOFFSETFROM:-0800
TZOFFSETTO:-0700
TZNAME:PDT
DTSTART:20180311T100000
END:DAYLIGHT
BEGIN:STANDARD
TZOFFSETFROM:-0700
TZOFFSETTO:-0800
TZNAME:PST
DTSTART:20181104T090000
END:STANDARD
BEGIN:DAYLIGHT
TZOFFSETFROM:-0800
TZOFFSETTO:-0700
TZNAME:PDT
DTSTART:20190310T100000
END:DAYLIGHT
BEGIN:STANDARD
TZOFFSETFROM:-0700
TZOFFSETTO:-0800
TZNAME:PST
DTSTART:20191103T090000
END:STANDARD
END:VTIMEZONE
BEGIN:VEVENT
DTSTART;TZID=America/Los_Angeles:20181109T100000
DTEND;TZID=America/Los_Angeles:20181109T110000
DTSTAMP:20260424T083128
CREATED:20180624T235544Z
LAST-MODIFIED:20181109T200847Z
UID:10003658-1541757600-1541761200@thinkplaycreate.org
SUMMARY:ScholarShare 529 Toddler Time: Make Friends
DESCRIPTION:
URL:https://thinkplaycreate.org/event/scholar-share-529-toddler-time-make-friends-3/
LOCATION:CA
CATEGORIES:Toddler Time
ATTACH;FMTTYPE=image/jpeg:https://thinkplaycreate.org/wp-content/uploads/2016/10/NCM-Toddler-Time-Make-Friends-3-of-17.jpg
END:VEVENT
BEGIN:VEVENT
DTSTART;TZID=America/Los_Angeles:20181109T140000
DTEND;TZID=America/Los_Angeles:20181109T230000
DTSTAMP:20260424T083128
CREATED:20180815T185130Z
LAST-MODIFIED:20181101T171832Z
UID:10004157-1541772000-1541804400@thinkplaycreate.org
SUMMARY:Museum Closes at 2pm
DESCRIPTION:
URL:https://thinkplaycreate.org/event/museum-closed-early/
LOCATION:CA
CATEGORIES:Museum Event
ATTACH;FMTTYPE=image/png:https://thinkplaycreate.org/wp-content/uploads/2016/10/CLOSED.png
END:VEVENT
END:VCALENDAR