BEGIN:VCALENDAR
VERSION:2.0
PRODID:-//The New Children&#039;s Museum - ECPv6.15.18//NONSGML v1.0//EN
CALSCALE:GREGORIAN
METHOD:PUBLISH
X-ORIGINAL-URL:https://thinkplaycreate.org
X-WR-CALDESC:Events for The New Children&#039;s Museum
REFRESH-INTERVAL;VALUE=DURATION:PT1H
X-Robots-Tag:noindex
X-PUBLISHED-TTL:PT1H
BEGIN:VTIMEZONE
TZID:America/Los_Angeles
BEGIN:DAYLIGHT
TZOFFSETFROM:-0800
TZOFFSETTO:-0700
TZNAME:PDT
DTSTART:20170312T100000
END:DAYLIGHT
BEGIN:STANDARD
TZOFFSETFROM:-0700
TZOFFSETTO:-0800
TZNAME:PST
DTSTART:20171105T090000
END:STANDARD
BEGIN:DAYLIGHT
TZOFFSETFROM:-0800
TZOFFSETTO:-0700
TZNAME:PDT
DTSTART:20180311T100000
END:DAYLIGHT
BEGIN:STANDARD
TZOFFSETFROM:-0700
TZOFFSETTO:-0800
TZNAME:PST
DTSTART:20181104T090000
END:STANDARD
BEGIN:DAYLIGHT
TZOFFSETFROM:-0800
TZOFFSETTO:-0700
TZNAME:PDT
DTSTART:20190310T100000
END:DAYLIGHT
BEGIN:STANDARD
TZOFFSETFROM:-0700
TZOFFSETTO:-0800
TZNAME:PST
DTSTART:20191103T090000
END:STANDARD
END:VTIMEZONE
BEGIN:VEVENT
DTSTART;TZID=America/Los_Angeles:20180813T090000
DTEND;TZID=America/Los_Angeles:20180817T160000
DTSTAMP:20260424T063852
CREATED:20180422T202127Z
LAST-MODIFIED:20180422T202127Z
UID:10003921-1534150800-1534521600@thinkplaycreate.org
SUMMARY:Camps for Littles: Play Cafe
DESCRIPTION:
URL:https://thinkplaycreate.org/event/camps-for-littles-play-cafe/
LOCATION:CA
CATEGORIES:Camp
ATTACH;FMTTYPE=image/jpeg:https://thinkplaycreate.org/wp-content/uploads/2016/06/NCM-Eat-Better-Art-1-of-6.jpg
END:VEVENT
BEGIN:VEVENT
DTSTART;TZID=America/Los_Angeles:20180813T090000
DTEND;TZID=America/Los_Angeles:20180817T160000
DTSTAMP:20260424T063852
CREATED:20180422T203639Z
LAST-MODIFIED:20180422T203639Z
UID:10003633-1534150800-1534521600@thinkplaycreate.org
SUMMARY:Pioneer Camps: Fiber Art Fun / Space Adventure
DESCRIPTION:
URL:https://thinkplaycreate.org/event/pioneer-camps-fiber-art-fun-space-adventure/
LOCATION:CA
CATEGORIES:Camp
ATTACH;FMTTYPE=image/jpeg:https://thinkplaycreate.org/wp-content/uploads/2017/05/NCM-Community-Gallery-12-of-17.jpg
END:VEVENT
END:VCALENDAR