BEGIN:VCALENDAR
VERSION:2.0
PRODID:-//The New Children&#039;s Museum - ECPv6.15.18//NONSGML v1.0//EN
CALSCALE:GREGORIAN
METHOD:PUBLISH
X-WR-CALNAME:The New Children&#039;s Museum
X-ORIGINAL-URL:https://thinkplaycreate.org
X-WR-CALDESC:Events for The New Children&#039;s Museum
REFRESH-INTERVAL;VALUE=DURATION:PT1H
X-Robots-Tag:noindex
X-PUBLISHED-TTL:PT1H
BEGIN:VTIMEZONE
TZID:America/Los_Angeles
BEGIN:DAYLIGHT
TZOFFSETFROM:-0800
TZOFFSETTO:-0700
TZNAME:PDT
DTSTART:20170312T100000
END:DAYLIGHT
BEGIN:STANDARD
TZOFFSETFROM:-0700
TZOFFSETTO:-0800
TZNAME:PST
DTSTART:20171105T090000
END:STANDARD
BEGIN:DAYLIGHT
TZOFFSETFROM:-0800
TZOFFSETTO:-0700
TZNAME:PDT
DTSTART:20180311T100000
END:DAYLIGHT
BEGIN:STANDARD
TZOFFSETFROM:-0700
TZOFFSETTO:-0800
TZNAME:PST
DTSTART:20181104T090000
END:STANDARD
BEGIN:DAYLIGHT
TZOFFSETFROM:-0800
TZOFFSETTO:-0700
TZNAME:PDT
DTSTART:20190310T100000
END:DAYLIGHT
BEGIN:STANDARD
TZOFFSETFROM:-0700
TZOFFSETTO:-0800
TZNAME:PST
DTSTART:20191103T090000
END:STANDARD
END:VTIMEZONE
BEGIN:VEVENT
DTSTART;TZID=America/Los_Angeles:20180709T090000
DTEND;TZID=America/Los_Angeles:20180713T160000
DTSTAMP:20260423T202841
CREATED:20180422T201548Z
LAST-MODIFIED:20180422T201548Z
UID:10003913-1531126800-1531497600@thinkplaycreate.org
SUMMARY:Camps for Littles: Superhero Training
DESCRIPTION:
URL:https://thinkplaycreate.org/event/camps-for-littles-superhero-training/
LOCATION:CA
CATEGORIES:Camp
ATTACH;FMTTYPE=image/jpeg:https://thinkplaycreate.org/wp-content/uploads/2016/06/Superheroes-117.jpg
END:VEVENT
BEGIN:VEVENT
DTSTART;TZID=America/Los_Angeles:20180709T090000
DTEND;TZID=America/Los_Angeles:20180713T160000
DTSTAMP:20260423T202841
CREATED:20180422T203157Z
LAST-MODIFIED:20180422T203157Z
UID:10003952-1531126800-1531497600@thinkplaycreate.org
SUMMARY:Pioneer Camps: Fantasy Camp / Character Design
DESCRIPTION:
URL:https://thinkplaycreate.org/event/pioneer-camps-fantasy-camp-character-design/
LOCATION:CA
CATEGORIES:Camp
ATTACH;FMTTYPE=image/jpeg:https://thinkplaycreate.org/wp-content/uploads/2018/02/ThaterMain-01.jpg
END:VEVENT
END:VCALENDAR