BEGIN:VCALENDAR
VERSION:2.0
PRODID:-//The New Children&#039;s Museum - ECPv6.15.18//NONSGML v1.0//EN
CALSCALE:GREGORIAN
METHOD:PUBLISH
X-ORIGINAL-URL:https://thinkplaycreate.org
X-WR-CALDESC:Events for The New Children&#039;s Museum
REFRESH-INTERVAL;VALUE=DURATION:PT1H
X-Robots-Tag:noindex
X-PUBLISHED-TTL:PT1H
BEGIN:VTIMEZONE
TZID:America/Los_Angeles
BEGIN:DAYLIGHT
TZOFFSETFROM:-0800
TZOFFSETTO:-0700
TZNAME:PDT
DTSTART:20160313T100000
END:DAYLIGHT
BEGIN:STANDARD
TZOFFSETFROM:-0700
TZOFFSETTO:-0800
TZNAME:PST
DTSTART:20161106T090000
END:STANDARD
BEGIN:DAYLIGHT
TZOFFSETFROM:-0800
TZOFFSETTO:-0700
TZNAME:PDT
DTSTART:20170312T100000
END:DAYLIGHT
BEGIN:STANDARD
TZOFFSETFROM:-0700
TZOFFSETTO:-0800
TZNAME:PST
DTSTART:20171105T090000
END:STANDARD
BEGIN:DAYLIGHT
TZOFFSETFROM:-0800
TZOFFSETTO:-0700
TZNAME:PDT
DTSTART:20180311T100000
END:DAYLIGHT
BEGIN:STANDARD
TZOFFSETFROM:-0700
TZOFFSETTO:-0800
TZNAME:PST
DTSTART:20181104T090000
END:STANDARD
END:VTIMEZONE
BEGIN:VEVENT
DTSTART;TZID=America/Los_Angeles:20171007T100000
DTEND;TZID=America/Los_Angeles:20171007T150000
DTSTAMP:20260424T071105
CREATED:20161212T231019Z
LAST-MODIFIED:20170718T223936Z
UID:10003568-1507370400-1507388400@thinkplaycreate.org
SUMMARY:Eat Better Art
DESCRIPTION:
URL:https://thinkplaycreate.org/event/eat-better-art-exploring-san-diego-cuisine/
LOCATION:CA
CATEGORIES:Workshop
ATTACH;FMTTYPE=image/jpeg:https://thinkplaycreate.org/wp-content/uploads/2016/09/IMG_8005.jpg
END:VEVENT
END:VCALENDAR